BEGIN:VCALENDAR
VERSION:2.0
PRODID:-//wp-events-plugin.com//7.2.3.1//EN
TZID:Europe/London
X-WR-TIMEZONE:Europe/London
BEGIN:VEVENT
UID:3268@larevistadelapalma.com
DTSTART:20241005T180000Z
DTEND:20241005T193000Z
DTSTAMP:20240929T140605Z
URL:https://www.larevistadelapalma.com/events/tambores-son-amores-con-orla
 ndo-santana-y-nahuel-lanfranchini/
SUMMARY:"Tambores son amores"\, con Orlando Santana y Nahuel Lanfranchini
DESCRIPTION:Historias con banda sonora.\nUn narrador (Orlando Santana) y el
  músico Nahuel Lanfranchini  (DJ Watuku) se juntan para homenajear la cu
 ltura canaria. Saltan atrás y adelante en el tiempo\, desde el pasado gom
 ero hasta la década del hardcore canario...\n\nEn esta mini gira\, despu
 és de Gran Canaria\, volarán a la Gomera y a La Palma\, para contarnos h
 istorias con la banda sonora de una mesa de mezcla y un bandoneón\, un es
 pectáculo acústico y electrónico.\n\n 	Orlando Santana: narración y di
 rección artística\n 	Nahuel Lanfranchini: bandoneón y bases electrónic
 as\n\nMás info y entradas &gt\;&gt\;\n&nbsp\;
ATTACH;FMTTYPE=image/jpeg:https://www.larevistadelapalma.com/wp-content/up
 loads/2024/09/Tambores-son-amores.png
CATEGORIES:Conciertos,Música,Otras propuestas,Varios
LOCATION:Casa del Conde\, Los Llanos de Aridane\, C/San Antonio\, 35 - Llan
 o de Argual\, Los Llanos de Aridane\, 38760\, España
GEO:28.655333;-17.926641
X-APPLE-STRUCTURED-LOCATION;VALUE=URI;X-ADDRESS=C/San Antonio\, 35 - Llano 
 de Argual\, Los Llanos de Aridane\, 38760\, España;X-APPLE-RADIUS=100;X-T
 ITLE=Casa del Conde\, Los Llanos de Aridane:geo:28.655333,-17.926641
END:VEVENT
END:VCALENDARBEGIN:VCALENDAR
VERSION:2.0
PRODID:-//wp-events-plugin.com//7.2.3.1//EN
TZID:Europe/London
X-WR-TIMEZONE:Europe/London
BEGIN:VEVENT
UID:3268@larevistadelapalma.com
DTSTART:20241005T180000Z
DTEND:20241005T193000Z
DTSTAMP:20240929T140605Z
URL:https://www.larevistadelapalma.com/events/tambores-son-amores-con-orla
 ndo-santana-y-nahuel-lanfranchini/
SUMMARY:"Tambores son amores"\, con Orlando Santana y Nahuel Lanfranchini
DESCRIPTION:Historias con banda sonora.\nUn narrador (Orlando Santana) y el
  músico Nahuel Lanfranchini  (DJ Watuku) se juntan para homenajear la cu
 ltura canaria. Saltan atrás y adelante en el tiempo\, desde el pasado gom
 ero hasta la década del hardcore canario...\n\nEn esta mini gira\, despu
 és de Gran Canaria\, volarán a la Gomera y a La Palma\, para contarnos h
 istorias con la banda sonora de una mesa de mezcla y un bandoneón\, un es
 pectáculo acústico y electrónico.\n\n 	Orlando Santana: narración y di
 rección artística\n 	Nahuel Lanfranchini: bandoneón y bases electrónic
 as\n\nMás info y entradas &gt\;&gt\;\n&nbsp\;
ATTACH;FMTTYPE=image/jpeg:https://www.larevistadelapalma.com/wp-content/up
 loads/2024/09/Tambores-son-amores.png
CATEGORIES:Conciertos,Música,Otras propuestas,Varios
LOCATION:Casa del Conde\, Los Llanos de Aridane\, C/San Antonio\, 35 - Llan
 o de Argual\, Los Llanos de Aridane\, 38760\, España
GEO:28.655333;-17.926641
X-APPLE-STRUCTURED-LOCATION;VALUE=URI;X-ADDRESS=C/San Antonio\, 35 - Llano 
 de Argual\, Los Llanos de Aridane\, 38760\, España;X-APPLE-RADIUS=100;X-T
 ITLE=Casa del Conde\, Los Llanos de Aridane:geo:28.655333,-17.926641
END:VEVENT
END:VCALENDAR