BEGIN:VCALENDAR
VERSION:2.0
PRODID:-//wp-events-plugin.com//7.2.3.1//EN
TZID:Europe/London
X-WR-TIMEZONE:Europe/London
BEGIN:VEVENT
UID:3002@larevistadelapalma.com
DTSTART:20240526T190000Z
DTEND:20240526T221500Z
DTSTAMP:20240523T204405Z
URL:https://www.larevistadelapalma.com/events/tango-fest-la-palma-dspedida
 -el-paso/
SUMMARY:Tango Fest La Palma (El Paso)
DESCRIPTION:Se desarrollará del 23 al 26 de mayo en El Paso\, Los Llanos d
 e Aridane\, Tazacorte y Puntagorda.
ATTACH;FMTTYPE=image/jpeg:https://www.larevistadelapalma.com/wp-content/up
 loads/2024/05/Tango-Fest-24.jpg
CATEGORIES:Festivales/Fiestas,Música,Otras propuestas,Varios
LOCATION:Municipio de Puntagorda\, Puntagorda\, Puntagorda\, 38789\, Españ
 a
GEO:28.774265;-17.977666
X-APPLE-STRUCTURED-LOCATION;VALUE=URI;X-ADDRESS=Puntagorda\, Puntagorda\, 3
 8789\, España;X-APPLE-RADIUS=100;X-TITLE=Municipio de Puntagorda:geo:28.7
 74265,-17.977666
END:VEVENT
END:VCALENDARBEGIN:VCALENDAR
VERSION:2.0
PRODID:-//wp-events-plugin.com//7.2.3.1//EN
TZID:Europe/London
X-WR-TIMEZONE:Europe/London
BEGIN:VEVENT
UID:3002@larevistadelapalma.com
DTSTART:20240526T190000Z
DTEND:20240526T221500Z
DTSTAMP:20240523T204405Z
URL:https://www.larevistadelapalma.com/events/tango-fest-la-palma-dspedida
 -el-paso/
SUMMARY:Tango Fest La Palma (El Paso)
DESCRIPTION:Se desarrollará del 23 al 26 de mayo en El Paso\, Los Llanos d
 e Aridane\, Tazacorte y Puntagorda.
ATTACH;FMTTYPE=image/jpeg:https://www.larevistadelapalma.com/wp-content/up
 loads/2024/05/Tango-Fest-24.jpg
CATEGORIES:Festivales/Fiestas,Música,Otras propuestas,Varios
LOCATION:Municipio de Puntagorda\, Puntagorda\, Puntagorda\, 38789\, Españ
 a
GEO:28.774265;-17.977666
X-APPLE-STRUCTURED-LOCATION;VALUE=URI;X-ADDRESS=Puntagorda\, Puntagorda\, 3
 8789\, España;X-APPLE-RADIUS=100;X-TITLE=Municipio de Puntagorda:geo:28.7
 74265,-17.977666
END:VEVENT
END:VCALENDAR