BEGIN:VCALENDAR
VERSION:2.0
PRODID:-//wp-events-plugin.com//7.2.3.1//EN
TZID:Europe/London
X-WR-TIMEZONE:Europe/London
BEGIN:VEVENT
UID:4126@larevistadelapalma.com
DTSTART;VALUE=DATE:20251220
DTEND;VALUE=DATE:20251222
DTSTAMP:20251219T220138Z
URL:https://www.larevistadelapalma.com/events/tangos-emocionales-en-las-sa
 linas-de-los-cancajos/
SUMMARY:Tangos Emocionales en las Salinas de Los Cancajos
DESCRIPTION:Tangos Emocionales. Tangos fusionados con el jazz.\nEl sábado 
 20 de diciembre a las 19:00 horas. Y el domingo 21 de diciembre a las 12:0
 0 horas.
ATTACH;FMTTYPE=image/jpeg:https://www.larevistadelapalma.com/wp-content/up
 loads/2025/12/20-DICIEMBRE-.-.-.png
CATEGORIES:Conciertos,Música
LOCATION:Antiguas Salinas de Los Cancajos\, P.º del litoral\, Breña Baja\
 , 38712\, España
GEO:28.650095;-17.75849
X-APPLE-STRUCTURED-LOCATION;VALUE=URI;X-ADDRESS=P.º del litoral\, Breña B
 aja\, 38712\, España;X-APPLE-RADIUS=100;X-TITLE=Antiguas Salinas de Los C
 ancajos:geo:28.650095,-17.75849
END:VEVENT
END:VCALENDARBEGIN:VCALENDAR
VERSION:2.0
PRODID:-//wp-events-plugin.com//7.2.3.1//EN
TZID:Europe/London
X-WR-TIMEZONE:Europe/London
BEGIN:VEVENT
UID:4126@larevistadelapalma.com
DTSTART;VALUE=DATE:20251220
DTEND;VALUE=DATE:20251222
DTSTAMP:20251219T220138Z
URL:https://www.larevistadelapalma.com/events/tangos-emocionales-en-las-sa
 linas-de-los-cancajos/
SUMMARY:Tangos Emocionales en las Salinas de Los Cancajos
DESCRIPTION:Tangos Emocionales. Tangos fusionados con el jazz.\nEl sábado 
 20 de diciembre a las 19:00 horas. Y el domingo 21 de diciembre a las 12:0
 0 horas.
ATTACH;FMTTYPE=image/jpeg:https://www.larevistadelapalma.com/wp-content/up
 loads/2025/12/20-DICIEMBRE-.-.-.png
CATEGORIES:Conciertos,Música
LOCATION:Antiguas Salinas de Los Cancajos\, P.º del litoral\, Breña Baja\
 , 38712\, España
GEO:28.650095;-17.75849
X-APPLE-STRUCTURED-LOCATION;VALUE=URI;X-ADDRESS=P.º del litoral\, Breña B
 aja\, 38712\, España;X-APPLE-RADIUS=100;X-TITLE=Antiguas Salinas de Los C
 ancajos:geo:28.650095,-17.75849
END:VEVENT
END:VCALENDAR