BEGIN:VCALENDAR
VERSION:2.0
PRODID:-//wp-events-plugin.com//7.2.3.1//EN
TZID:Europe/London
X-WR-TIMEZONE:Europe/London
BEGIN:VEVENT
UID:4079@larevistadelapalma.com
DTSTART;VALUE=DATE:20251205
DTEND;VALUE=DATE:20251207
DTSTAMP:20251128T213236Z
URL:https://www.larevistadelapalma.com/events/tardeos-musicales-en-santa-c
 ruz-de-la-palma-2/
SUMMARY:Tardeos musicales en Santa Cruz de La Palma
DESCRIPTION:Actuaciones musicales\, de diversos estilos\, que tendrán luga
 r hasta finales de diciembre\, en las calles de la ciudad.
ATTACH;FMTTYPE=image/jpeg:https://www.larevistadelapalma.com/wp-content/up
 loads/2025/11/WhatsApp-Image-2025-11-23-at-16.10.35.jpeg
CATEGORIES:Conciertos,Música
LOCATION:Municipio de Santa Cruz de La Palma\, Santa Cruz de La Palma \, Sa
 nta Cruz de La Palma \, 38700\, España
GEO:28.688757;-17.765102
X-APPLE-STRUCTURED-LOCATION;VALUE=URI;X-ADDRESS=Santa Cruz de La Palma \, S
 anta Cruz de La Palma \, 38700\, España;X-APPLE-RADIUS=100;X-TITLE=Munici
 pio de Santa Cruz de La Palma:geo:28.688757,-17.765102
END:VEVENT
END:VCALENDARBEGIN:VCALENDAR
VERSION:2.0
PRODID:-//wp-events-plugin.com//7.2.3.1//EN
TZID:Europe/London
X-WR-TIMEZONE:Europe/London
BEGIN:VEVENT
UID:4079@larevistadelapalma.com
DTSTART;VALUE=DATE:20251205
DTEND;VALUE=DATE:20251207
DTSTAMP:20251128T213236Z
URL:https://www.larevistadelapalma.com/events/tardeos-musicales-en-santa-c
 ruz-de-la-palma-2/
SUMMARY:Tardeos musicales en Santa Cruz de La Palma
DESCRIPTION:Actuaciones musicales\, de diversos estilos\, que tendrán luga
 r hasta finales de diciembre\, en las calles de la ciudad.
ATTACH;FMTTYPE=image/jpeg:https://www.larevistadelapalma.com/wp-content/up
 loads/2025/11/WhatsApp-Image-2025-11-23-at-16.10.35.jpeg
CATEGORIES:Conciertos,Música
LOCATION:Municipio de Santa Cruz de La Palma\, Santa Cruz de La Palma \, Sa
 nta Cruz de La Palma \, 38700\, España
GEO:28.688757;-17.765102
X-APPLE-STRUCTURED-LOCATION;VALUE=URI;X-ADDRESS=Santa Cruz de La Palma \, S
 anta Cruz de La Palma \, 38700\, España;X-APPLE-RADIUS=100;X-TITLE=Munici
 pio de Santa Cruz de La Palma:geo:28.688757,-17.765102
END:VEVENT
END:VCALENDAR