BEGIN:VCALENDAR
VERSION:2.0
PRODID:-//wp-events-plugin.com//7.2.3.1//EN
TZID:Europe/London
X-WR-TIMEZONE:Europe/London
BEGIN:VEVENT
UID:3855@larevistadelapalma.com
DTSTART:20250702T180000Z
DTEND:20250702T220000Z
DTSTAMP:20250627T233730Z
URL:https://www.larevistadelapalma.com/events/tardes-de-malecon-2/
SUMMARY:"Tardes de Malecón"
DESCRIPTION:"Tardes de Malecón"\, con la música de Septeto Palmero\, Oril
 las del Son y DJ Bembé.\n\nA partir de las 19 horas\, en el recinto popul
 ar de la Bajada La Virgen de Las Nieves.
ATTACH;FMTTYPE=image/jpeg:https://www.larevistadelapalma.com/wp-content/up
 loads/2025/06/Tardes-de-Malecon-Bajada.jpg
CATEGORIES:Festivales/Fiestas,Música,Otras propuestas
END:VEVENT
END:VCALENDARBEGIN:VCALENDAR
VERSION:2.0
PRODID:-//wp-events-plugin.com//7.2.3.1//EN
TZID:Europe/London
X-WR-TIMEZONE:Europe/London
BEGIN:VEVENT
UID:3855@larevistadelapalma.com
DTSTART:20250702T180000Z
DTEND:20250702T220000Z
DTSTAMP:20250627T233730Z
URL:https://www.larevistadelapalma.com/events/tardes-de-malecon-2/
SUMMARY:"Tardes de Malecón"
DESCRIPTION:"Tardes de Malecón"\, con la música de Septeto Palmero\, Oril
 las del Son y DJ Bembé.\n\nA partir de las 19 horas\, en el recinto popul
 ar de la Bajada La Virgen de Las Nieves.
ATTACH;FMTTYPE=image/jpeg:https://www.larevistadelapalma.com/wp-content/up
 loads/2025/06/Tardes-de-Malecon-Bajada.jpg
CATEGORIES:Festivales/Fiestas,Música,Otras propuestas
END:VEVENT
END:VCALENDAR