BEGIN:VCALENDAR
VERSION:2.0
PRODID:-//wp-events-plugin.com//7.2.3.1//EN
TZID:Europe/London
X-WR-TIMEZONE:Europe/London
BEGIN:VEVENT
UID:3434@larevistadelapalma.com
DTSTART:20241129T180000Z
DTEND:20241129T193000Z
DTSTAMP:20241127T230725Z
URL:https://www.larevistadelapalma.com/events/teatro-en-la-biblio-tijarafe
 -2/
SUMMARY:Teatro en la biblio\, Tijarafe
DESCRIPTION:\nNoche con cuentos\, música y vinos.\n\n\nActividad para mayo
 res de 18 años\n
ATTACH;FMTTYPE=image/jpeg:https://www.larevistadelapalma.com/wp-content/up
 loads/2024/11/Teatro-en-la-biblio.jpg
CATEGORIES:Cine y Literatura,Literatura
LOCATION:Biblioteca Municipal de Tijarafe\, C. Real\, 4\, Tijarafe\, 38780\
 , España
GEO:28.710961;-17.955715
X-APPLE-STRUCTURED-LOCATION;VALUE=URI;X-ADDRESS=C. Real\, 4\, Tijarafe\, 38
 780\, España;X-APPLE-RADIUS=100;X-TITLE=Biblioteca Municipal de Tijarafe:
 geo:28.710961,-17.955715
END:VEVENT
END:VCALENDARBEGIN:VCALENDAR
VERSION:2.0
PRODID:-//wp-events-plugin.com//7.2.3.1//EN
TZID:Europe/London
X-WR-TIMEZONE:Europe/London
BEGIN:VEVENT
UID:3434@larevistadelapalma.com
DTSTART:20241129T180000Z
DTEND:20241129T193000Z
DTSTAMP:20241127T230725Z
URL:https://www.larevistadelapalma.com/events/teatro-en-la-biblio-tijarafe
 -2/
SUMMARY:Teatro en la biblio\, Tijarafe
DESCRIPTION:\nNoche con cuentos\, música y vinos.\n\n\nActividad para mayo
 res de 18 años\n
ATTACH;FMTTYPE=image/jpeg:https://www.larevistadelapalma.com/wp-content/up
 loads/2024/11/Teatro-en-la-biblio.jpg
CATEGORIES:Cine y Literatura,Literatura
LOCATION:Biblioteca Municipal de Tijarafe\, C. Real\, 4\, Tijarafe\, 38780\
 , España
GEO:28.710961;-17.955715
X-APPLE-STRUCTURED-LOCATION;VALUE=URI;X-ADDRESS=C. Real\, 4\, Tijarafe\, 38
 780\, España;X-APPLE-RADIUS=100;X-TITLE=Biblioteca Municipal de Tijarafe:
 geo:28.710961,-17.955715
END:VEVENT
END:VCALENDAR