BEGIN:VCALENDAR
VERSION:2.0
PRODID:-//wp-events-plugin.com//7.2.3.1//EN
TZID:Europe/London
X-WR-TIMEZONE:Europe/London
BEGIN:VEVENT
UID:3884@larevistadelapalma.com
DTSTART:20250722T230000Z
DTEND:20250807T230000Z
DTSTAMP:20250731T131516Z
URL:https://www.larevistadelapalma.com/events/tercer-turno-de-las-exposici
 ones-arte-lustral-sala-real-82/
SUMMARY:Tercer turno de las exposiciones "Arte Lustral" (Sala Real 82)
DESCRIPTION:Colección de abanicos del romanticismo de Juan Luis Curbelo.
ATTACH;FMTTYPE=image/jpeg:https://www.larevistadelapalma.com/wp-content/up
 loads/2025/07/juan-luis-curbelo-expo.jpg
CATEGORIES:Exposiciones
LOCATION:Municipio de Santa Cruz de La Palma\, Santa Cruz de La Palma \, Sa
 nta Cruz de La Palma \, 38700\, España
GEO:28.688757;-17.765102
X-APPLE-STRUCTURED-LOCATION;VALUE=URI;X-ADDRESS=Santa Cruz de La Palma \, S
 anta Cruz de La Palma \, 38700\, España;X-APPLE-RADIUS=100;X-TITLE=Munici
 pio de Santa Cruz de La Palma:geo:28.688757,-17.765102
END:VEVENT
END:VCALENDARBEGIN:VCALENDAR
VERSION:2.0
PRODID:-//wp-events-plugin.com//7.2.3.1//EN
TZID:Europe/London
X-WR-TIMEZONE:Europe/London
BEGIN:VEVENT
UID:3884@larevistadelapalma.com
DTSTART:20250722T230000Z
DTEND:20250807T230000Z
DTSTAMP:20250731T131516Z
URL:https://www.larevistadelapalma.com/events/tercer-turno-de-las-exposici
 ones-arte-lustral-sala-real-82/
SUMMARY:Tercer turno de las exposiciones "Arte Lustral" (Sala Real 82)
DESCRIPTION:Colección de abanicos del romanticismo de Juan Luis Curbelo.
ATTACH;FMTTYPE=image/jpeg:https://www.larevistadelapalma.com/wp-content/up
 loads/2025/07/juan-luis-curbelo-expo.jpg
CATEGORIES:Exposiciones
LOCATION:Municipio de Santa Cruz de La Palma\, Santa Cruz de La Palma \, Sa
 nta Cruz de La Palma \, 38700\, España
GEO:28.688757;-17.765102
X-APPLE-STRUCTURED-LOCATION;VALUE=URI;X-ADDRESS=Santa Cruz de La Palma \, S
 anta Cruz de La Palma \, 38700\, España;X-APPLE-RADIUS=100;X-TITLE=Munici
 pio de Santa Cruz de La Palma:geo:28.688757,-17.765102
END:VEVENT
END:VCALENDAR