BEGIN:VCALENDAR
VERSION:2.0
PRODID:-//wp-events-plugin.com//7.2.3.1//EN
TZID:Europe/London
X-WR-TIMEZONE:Europe/London
BEGIN:VEVENT
UID:3029@larevistadelapalma.com
DTSTART;VALUE=DATE:20240605
DTEND;VALUE=DATE:20240607
DTSTAMP:20240605T210923Z
URL:https://www.larevistadelapalma.com/events/tercera-edicion-del-festival
 -de-poesia-y-performance-nombrarse-volcan/
SUMMARY:Tercera edición del Festival de poesía y performance Nombrarse Vo
 lcán
DESCRIPTION:Se inaugura en El Paso (5 y 6 de junio) y el fin de semana se t
 raslada a Los Llanos (7\, 8 y 9 de junio).
ATTACH;FMTTYPE=image/jpeg:https://www.larevistadelapalma.com/wp-content/up
 loads/2024/05/Festival-Nombrarse-volcan.jpg
CATEGORIES:Cine y Literatura,Literatura,Otras propuestas,Varios
LOCATION:Municipio de El Paso\, El Paso\, La Palma \, El Paso\, 38750\, Esp
 aña
GEO:28.652378;-17.880396
X-APPLE-STRUCTURED-LOCATION;VALUE=URI;X-ADDRESS=El Paso\, La Palma \, El Pa
 so\, 38750\, España;X-APPLE-RADIUS=100;X-TITLE=Municipio de El Paso:geo:2
 8.652378,-17.880396
END:VEVENT
END:VCALENDARBEGIN:VCALENDAR
VERSION:2.0
PRODID:-//wp-events-plugin.com//7.2.3.1//EN
TZID:Europe/London
X-WR-TIMEZONE:Europe/London
BEGIN:VEVENT
UID:3029@larevistadelapalma.com
DTSTART;VALUE=DATE:20240605
DTEND;VALUE=DATE:20240607
DTSTAMP:20240605T210923Z
URL:https://www.larevistadelapalma.com/events/tercera-edicion-del-festival
 -de-poesia-y-performance-nombrarse-volcan/
SUMMARY:Tercera edición del Festival de poesía y performance Nombrarse Vo
 lcán
DESCRIPTION:Se inaugura en El Paso (5 y 6 de junio) y el fin de semana se t
 raslada a Los Llanos (7\, 8 y 9 de junio).
ATTACH;FMTTYPE=image/jpeg:https://www.larevistadelapalma.com/wp-content/up
 loads/2024/05/Festival-Nombrarse-volcan.jpg
CATEGORIES:Cine y Literatura,Literatura,Otras propuestas,Varios
LOCATION:Municipio de El Paso\, El Paso\, La Palma \, El Paso\, 38750\, Esp
 aña
GEO:28.652378;-17.880396
X-APPLE-STRUCTURED-LOCATION;VALUE=URI;X-ADDRESS=El Paso\, La Palma \, El Pa
 so\, 38750\, España;X-APPLE-RADIUS=100;X-TITLE=Municipio de El Paso:geo:2
 8.652378,-17.880396
END:VEVENT
END:VCALENDAR