BEGIN:VCALENDAR
VERSION:2.0
PRODID:-//wp-events-plugin.com//7.2.3.1//EN
TZID:Europe/London
X-WR-TIMEZONE:Europe/London
BEGIN:VEVENT
UID:4109@larevistadelapalma.com
DTSTART:20251216T190000Z
DTEND:20251216T203000Z
DTSTAMP:20251211T001157Z
URL:https://www.larevistadelapalma.com/events/the-best-of-the-magic-en-el-
 circo-de-marte/
SUMMARY:'The Best of the Magic' en el Circo de Marte
DESCRIPTION:\nEl Teatro Circo de Marte acoge el espectáculo de Joel Álvar
 ez\, participante de Got Talent España\, que aterriza en la isla con su s
 how 'The Best of the Magic'.\n\n\n\n 	 Entrada libre hasta completar afor
 o.\n 	Taquilla inversa benéfica a favor del Hogar Joel Álvarez y el Cent
 ro de Día Santo Domingo.\n\n
ATTACH;FMTTYPE=image/jpeg:https://www.larevistadelapalma.com/wp-content/up
 loads/2025/12/creador-de-suenos.jpg
CATEGORIES:Espectáculos
LOCATION:Teatro Circo de Marte\, Calle Virgen de La Luz\, 5\, Santa Cruz de
  La Palma\, 38700\, España
GEO:28.682989;-17.765755
X-APPLE-STRUCTURED-LOCATION;VALUE=URI;X-ADDRESS=Calle Virgen de La Luz\, 5\
 , Santa Cruz de La Palma\, 38700\, España;X-APPLE-RADIUS=100;X-TITLE=Teat
 ro Circo de Marte:geo:28.682989,-17.765755
END:VEVENT
END:VCALENDARBEGIN:VCALENDAR
VERSION:2.0
PRODID:-//wp-events-plugin.com//7.2.3.1//EN
TZID:Europe/London
X-WR-TIMEZONE:Europe/London
BEGIN:VEVENT
UID:4109@larevistadelapalma.com
DTSTART:20251216T190000Z
DTEND:20251216T203000Z
DTSTAMP:20251211T001157Z
URL:https://www.larevistadelapalma.com/events/the-best-of-the-magic-en-el-
 circo-de-marte/
SUMMARY:'The Best of the Magic' en el Circo de Marte
DESCRIPTION:\nEl Teatro Circo de Marte acoge el espectáculo de Joel Álvar
 ez\, participante de Got Talent España\, que aterriza en la isla con su s
 how 'The Best of the Magic'.\n\n\n\n 	 Entrada libre hasta completar afor
 o.\n 	Taquilla inversa benéfica a favor del Hogar Joel Álvarez y el Cent
 ro de Día Santo Domingo.\n\n
ATTACH;FMTTYPE=image/jpeg:https://www.larevistadelapalma.com/wp-content/up
 loads/2025/12/creador-de-suenos.jpg
CATEGORIES:Espectáculos
LOCATION:Teatro Circo de Marte\, Calle Virgen de La Luz\, 5\, Santa Cruz de
  La Palma\, 38700\, España
GEO:28.682989;-17.765755
X-APPLE-STRUCTURED-LOCATION;VALUE=URI;X-ADDRESS=Calle Virgen de La Luz\, 5\
 , Santa Cruz de La Palma\, 38700\, España;X-APPLE-RADIUS=100;X-TITLE=Teat
 ro Circo de Marte:geo:28.682989,-17.765755
END:VEVENT
END:VCALENDAR