BEGIN:VCALENDAR
VERSION:2.0
PRODID:-//wp-events-plugin.com//7.2.3.1//EN
TZID:Europe/London
X-WR-TIMEZONE:Europe/London
BEGIN:VEVENT
UID:3879@larevistadelapalma.com
DTSTART;VALUE=DATE:20250722
DTEND;VALUE=DATE:20250726
DTSTAMP:20250717T222915Z
URL:https://www.larevistadelapalma.com/events/tiempo-sur-25/
SUMMARY:Programación del Festival Tiempo Sur (del 22 al 25 de julio)
DESCRIPTION:Esta será la programación del Tiempo Sur\, el Festival de Aud
 iovisuales de la Comarca Noroeste de la Isla de La Palma\, hasta el día d
 e la Gala de Clausura. Proyecciones\, encuentro y la Gala\, el día 25\, q
 ue será un día entero de arte\, cine\, música y comunidad para celebrar
  la XIII edición\n\nTe recordamos que si estabas interesado en participar
  en el certamen\, pero no has entregado tu corto\, todavía tienes tiempo\
 , el nuevo plazo de entrega se prolonga hasta el 21 de julio.\n\nProyecci
 ón de La Hojarasca\, de Macu_Machin\n\nMartes 22 de julio. A las 20:00. C
 asa de la décima\, Tijarafe.\n\nTe invitan a ver este delicado y poético
  largometraje que nos habla del territorio\, la memoria y los silencios de
 l paisaje. Una obra sensible y poderosa de la directora canaria Macu Mach
 ín. El\n25 de julio\, en la gran gala final en Tijarafe\, Macu estará ta
 mbién allí\, compartiendo su mirada\, sus procesos creativos y su pasió
 n por el cine. Una oportunidad para conversar con su autora.\nElsa y su he
 rmana menor Maura\, regresan a la casa natal tras más de 20 años. Allí 
 vive Carmen sola\, su otra hermana\, que mantiene las precarias propiedade
 s familiares. La enfermedad degenerativa de Maura no deja de avanzar\, mie
 ntras Elsa pretende resolver con Carmen el reparto de la herencia de sus p
 adres. Entre recolectas de almendras y discusiones nunca terminadas\, aflo
 ran viejos conflictos que parecen despertar el rumor del volcán.\n\nProye
 cción de Mariposas Negras\, de David Baute.\n\nMiércoles 23 de julio. A 
 las 20:00h. Casa de la Cultura de Santo Domingo de Garafía.\n\nEsta poder
 osa película nos conecta con historias profundas y conmovedoras. En la gr
 an gala final del 25 de julio\, en Tijarafe\, les acompañará su director
 .\nInspirada por mujeres reales\, propone un viaje desde África\, el Cari
 be y Asia hacia un incierto futuro para la humanidad. El cambio climátic
 o impacta en las vidas de Tanit\, Valeria y Shaila\, tres mujeres de punto
 s muy distintos del planeta pero con algo en común: las tres lo pierden 
 todo por el efecto del calentamiento global y se ven forzadas a migrar.\n\
 n\n&nbsp\;\n\nUnamos voces por la cultura rural.\n\n24 de julio. Casa de l
 a Cultura de Puntagorda. 16:30 horas.\n\nPrimero habrá una apertura artí
 stica de danza\, con banda sonora de cine.\n\nA partir de las 17:00 horas\
 , el Festival Tiempo Sur\, invita a todos los artistas\, creadores y agent
 es culturales de la comarca Noroeste a participar en un espacio de encuent
 ro y reflexión sobre la situación actual de la cultura en el mundo rural
 . Será un momento para visibilizar\, compartir y redactar juntos un mensa
 je colectivo que refleje las verdaderas necesidades del arte y la creació
 n en nuestros pueblos.\n\n\nSe sentarán a escribir un MENSAJE EN COMÚN. 
 Lo que  se escriba será leído públicamente al día siguiente\, durante
  la Gala Final del 25 de julio\, como parte de un ejercicio colectivo para
  poner en valor la vida cultural de la zona\, con la presencia de represen
 tantes públicos y la ciudadanía.\n\nGala Final del Festival de Audiovisu
 ales Tiempo Sur 2025\n\n25 de julio | Plaza de Ntra. Sra. de Candelaria\, 
 Tijarafe\n\nUn día entero de arte\, cine\, música y comunidad para celeb
 rar la XIII edición.\n\n 	Proyecciones de cortos locales\, nacionales e i
 nternacionales.\n 	Micrófono abierto con Macu Machín y David Baute.\n 	
  Instalaciones artísticas de Mika Conception y María Montez.\n 	 Músi
 ca en vivo con DJ Prisca y DJ Walter Drop..\n 	 Concierto de Vidyrn.\n 	
  Entrega de premios y votación del público.\n 	 Picoteo y encuentro.\n
 \nPROGRAMACIÓN GALA FINAL\n\nMás info en Tiempo Sur &gt\;&gt\;
ATTACH;FMTTYPE=image/jpeg:https://www.larevistadelapalma.com/wp-content/up
 loads/2025/07/programacion-final-tiempo-sur.png
CATEGORIES:Cine,Cine y Literatura
END:VEVENT
END:VCALENDARBEGIN:VCALENDAR
VERSION:2.0
PRODID:-//wp-events-plugin.com//7.2.3.1//EN
TZID:Europe/London
X-WR-TIMEZONE:Europe/London
BEGIN:VEVENT
UID:3879@larevistadelapalma.com
DTSTART;VALUE=DATE:20250722
DTEND;VALUE=DATE:20250726
DTSTAMP:20250717T222915Z
URL:https://www.larevistadelapalma.com/events/tiempo-sur-25/
SUMMARY:Programación del Festival Tiempo Sur (del 22 al 25 de julio)
DESCRIPTION:Esta será la programación del Tiempo Sur\, el Festival de Aud
 iovisuales de la Comarca Noroeste de la Isla de La Palma\, hasta el día d
 e la Gala de Clausura. Proyecciones\, encuentro y la Gala\, el día 25\, q
 ue será un día entero de arte\, cine\, música y comunidad para celebrar
  la XIII edición\n\nTe recordamos que si estabas interesado en participar
  en el certamen\, pero no has entregado tu corto\, todavía tienes tiempo\
 , el nuevo plazo de entrega se prolonga hasta el 21 de julio.\n\nProyecci
 ón de La Hojarasca\, de Macu_Machin\n\nMartes 22 de julio. A las 20:00. C
 asa de la décima\, Tijarafe.\n\nTe invitan a ver este delicado y poético
  largometraje que nos habla del territorio\, la memoria y los silencios de
 l paisaje. Una obra sensible y poderosa de la directora canaria Macu Mach
 ín. El\n25 de julio\, en la gran gala final en Tijarafe\, Macu estará ta
 mbién allí\, compartiendo su mirada\, sus procesos creativos y su pasió
 n por el cine. Una oportunidad para conversar con su autora.\nElsa y su he
 rmana menor Maura\, regresan a la casa natal tras más de 20 años. Allí 
 vive Carmen sola\, su otra hermana\, que mantiene las precarias propiedade
 s familiares. La enfermedad degenerativa de Maura no deja de avanzar\, mie
 ntras Elsa pretende resolver con Carmen el reparto de la herencia de sus p
 adres. Entre recolectas de almendras y discusiones nunca terminadas\, aflo
 ran viejos conflictos que parecen despertar el rumor del volcán.\n\nProye
 cción de Mariposas Negras\, de David Baute.\n\nMiércoles 23 de julio. A 
 las 20:00h. Casa de la Cultura de Santo Domingo de Garafía.\n\nEsta poder
 osa película nos conecta con historias profundas y conmovedoras. En la gr
 an gala final del 25 de julio\, en Tijarafe\, les acompañará su director
 .\nInspirada por mujeres reales\, propone un viaje desde África\, el Cari
 be y Asia hacia un incierto futuro para la humanidad. El cambio climátic
 o impacta en las vidas de Tanit\, Valeria y Shaila\, tres mujeres de punto
 s muy distintos del planeta pero con algo en común: las tres lo pierden 
 todo por el efecto del calentamiento global y se ven forzadas a migrar.\n\
 n\n&nbsp\;\n\nUnamos voces por la cultura rural.\n\n24 de julio. Casa de l
 a Cultura de Puntagorda. 16:30 horas.\n\nPrimero habrá una apertura artí
 stica de danza\, con banda sonora de cine.\n\nA partir de las 17:00 horas\
 , el Festival Tiempo Sur\, invita a todos los artistas\, creadores y agent
 es culturales de la comarca Noroeste a participar en un espacio de encuent
 ro y reflexión sobre la situación actual de la cultura en el mundo rural
 . Será un momento para visibilizar\, compartir y redactar juntos un mensa
 je colectivo que refleje las verdaderas necesidades del arte y la creació
 n en nuestros pueblos.\n\n\nSe sentarán a escribir un MENSAJE EN COMÚN. 
 Lo que  se escriba será leído públicamente al día siguiente\, durante
  la Gala Final del 25 de julio\, como parte de un ejercicio colectivo para
  poner en valor la vida cultural de la zona\, con la presencia de represen
 tantes públicos y la ciudadanía.\n\nGala Final del Festival de Audiovisu
 ales Tiempo Sur 2025\n\n25 de julio | Plaza de Ntra. Sra. de Candelaria\, 
 Tijarafe\n\nUn día entero de arte\, cine\, música y comunidad para celeb
 rar la XIII edición.\n\n 	Proyecciones de cortos locales\, nacionales e i
 nternacionales.\n 	Micrófono abierto con Macu Machín y David Baute.\n 	
  Instalaciones artísticas de Mika Conception y María Montez.\n 	 Músi
 ca en vivo con DJ Prisca y DJ Walter Drop..\n 	 Concierto de Vidyrn.\n 	
  Entrega de premios y votación del público.\n 	 Picoteo y encuentro.\n
 \nPROGRAMACIÓN GALA FINAL\n\nMás info en Tiempo Sur &gt\;&gt\;
ATTACH;FMTTYPE=image/jpeg:https://www.larevistadelapalma.com/wp-content/up
 loads/2025/07/programacion-final-tiempo-sur.png
CATEGORIES:Cine,Cine y Literatura
END:VEVENT
END:VCALENDAR