BEGIN:VCALENDAR
VERSION:2.0
PRODID:-//wp-events-plugin.com//7.2.3.1//EN
TZID:Europe/London
X-WR-TIMEZONE:Europe/London
BEGIN:VEVENT
UID:3186@larevistadelapalma.com
DTSTART:20240814T173000Z
DTEND:20240814T190000Z
DTSTAMP:20240812T225850Z
URL:https://www.larevistadelapalma.com/events/todo-el-cielo-de-unahorameno
 s-producciones-el-paso/
SUMMARY:“Todo el cielo” de Unahoramenos Producciones\, El Paso
DESCRIPTION:A partir de una selección de poemas de autores canarios de las
  ocho islas\, dirigido por Mario Vega\, interpretado por Marta Viera y Rut
 h Sánchez\, con música en directo de la mano de Carlos Oramas.
ATTACH;FMTTYPE=image/jpeg:https://www.larevistadelapalma.com/wp-content/up
 loads/2024/08/MEI-Todo-el-cielo-18-scaled-1.jpg
CATEGORIES:Espectáculos,Teatro
LOCATION:Casa de la Cultura Braulio Martín Hernández de El Paso\, Av. Isl
 as Canarias\, 9\,\, El Paso\, 38750\, España
GEO:28.652923;-17.880463
X-APPLE-STRUCTURED-LOCATION;VALUE=URI;X-ADDRESS=Av. Islas Canarias\, 9\,\, 
 El Paso\, 38750\, España;X-APPLE-RADIUS=100;X-TITLE=Casa de la Cultura Br
 aulio Martín Hernández de El Paso:geo:28.652923,-17.880463
END:VEVENT
END:VCALENDARBEGIN:VCALENDAR
VERSION:2.0
PRODID:-//wp-events-plugin.com//7.2.3.1//EN
TZID:Europe/London
X-WR-TIMEZONE:Europe/London
BEGIN:VEVENT
UID:3186@larevistadelapalma.com
DTSTART:20240814T173000Z
DTEND:20240814T190000Z
DTSTAMP:20240812T225850Z
URL:https://www.larevistadelapalma.com/events/todo-el-cielo-de-unahorameno
 s-producciones-el-paso/
SUMMARY:“Todo el cielo” de Unahoramenos Producciones\, El Paso
DESCRIPTION:A partir de una selección de poemas de autores canarios de las
  ocho islas\, dirigido por Mario Vega\, interpretado por Marta Viera y Rut
 h Sánchez\, con música en directo de la mano de Carlos Oramas.
ATTACH;FMTTYPE=image/jpeg:https://www.larevistadelapalma.com/wp-content/up
 loads/2024/08/MEI-Todo-el-cielo-18-scaled-1.jpg
CATEGORIES:Espectáculos,Teatro
LOCATION:Casa de la Cultura Braulio Martín Hernández de El Paso\, Av. Isl
 as Canarias\, 9\,\, El Paso\, 38750\, España
GEO:28.652923;-17.880463
X-APPLE-STRUCTURED-LOCATION;VALUE=URI;X-ADDRESS=Av. Islas Canarias\, 9\,\, 
 El Paso\, 38750\, España;X-APPLE-RADIUS=100;X-TITLE=Casa de la Cultura Br
 aulio Martín Hernández de El Paso:geo:28.652923,-17.880463
END:VEVENT
END:VCALENDAR