BEGIN:VCALENDAR
VERSION:2.0
PRODID:-//wp-events-plugin.com//7.2.3.1//EN
TZID:Europe/London
X-WR-TIMEZONE:Europe/London
BEGIN:VEVENT
UID:2964@larevistadelapalma.com
DTSTART:20240517T193000Z
DTEND:20240517T210000Z
DTSTAMP:20240430T115943Z
URL:https://www.larevistadelapalma.com/events/tomatelo-con-humor-con-kike-
 perez-los-llanos-de-aridane/
SUMMARY:‘Tómatelo con Humor’ con Kike Pérez\, Los Llanos de Aridane
DESCRIPTION:Kike Pérez es un humorista canario nacido en Lanzarote con una
  carrera profesional de más de una década. Sus comienzos fueron en peque
 ños escenarios de pueblo pero\, poco a poco\, ha sabido hacerse un hueco 
 en el panorama del humor.\nSu espontaneidad\, cercanía y verborrea son la
 s armas principales de este cómico\, que no duda en desnudar su alma en c
 ualquiera de los proyectos en los que se implica.\nEn su afán de reinvent
 arse\, Kike se ha visto sumergido en numerosos proyectos tanto en equipo c
 omo en solitario. Ha protagonizado series como “Grasa”\, la cual estre
 nará su segunda temporada después de verano\; programas de televisión c
 omo “Sota\, Caballo y Rey”\, y es habitual verlo en elencos de producc
 iones teatrales como su última aparición en El Eunuco. Stand up\, televi
 sión\, cine y teatro\, cuatro sectores del espectáculo en los que Kike P
 érez se muestra igual de eficaz.\nComprar entradas &gt\;&gt\;\n
ATTACH;FMTTYPE=image/jpeg:https://www.larevistadelapalma.com/wp-content/up
 loads/2024/04/Kike-Perez-Los-llanos.jpg
CATEGORIES:Espectáculos
LOCATION:Parque Conrado Hernández\, Los Llanos de Aridane\, Avenida Eusebi
 o Barreto\, Los Llanos de Aridane\, 38760\, España
GEO:28.657763;-17.90271
X-APPLE-STRUCTURED-LOCATION;VALUE=URI;X-ADDRESS=Avenida Eusebio Barreto\, L
 os Llanos de Aridane\, 38760\, España;X-APPLE-RADIUS=100;X-TITLE=Parque C
 onrado Hernández\, Los Llanos de Aridane:geo:28.657763,-17.90271
END:VEVENT
END:VCALENDARBEGIN:VCALENDAR
VERSION:2.0
PRODID:-//wp-events-plugin.com//7.2.3.1//EN
TZID:Europe/London
X-WR-TIMEZONE:Europe/London
BEGIN:VEVENT
UID:2964@larevistadelapalma.com
DTSTART:20240517T193000Z
DTEND:20240517T210000Z
DTSTAMP:20240430T115943Z
URL:https://www.larevistadelapalma.com/events/tomatelo-con-humor-con-kike-
 perez-los-llanos-de-aridane/
SUMMARY:‘Tómatelo con Humor’ con Kike Pérez\, Los Llanos de Aridane
DESCRIPTION:Kike Pérez es un humorista canario nacido en Lanzarote con una
  carrera profesional de más de una década. Sus comienzos fueron en peque
 ños escenarios de pueblo pero\, poco a poco\, ha sabido hacerse un hueco 
 en el panorama del humor.\nSu espontaneidad\, cercanía y verborrea son la
 s armas principales de este cómico\, que no duda en desnudar su alma en c
 ualquiera de los proyectos en los que se implica.\nEn su afán de reinvent
 arse\, Kike se ha visto sumergido en numerosos proyectos tanto en equipo c
 omo en solitario. Ha protagonizado series como “Grasa”\, la cual estre
 nará su segunda temporada después de verano\; programas de televisión c
 omo “Sota\, Caballo y Rey”\, y es habitual verlo en elencos de producc
 iones teatrales como su última aparición en El Eunuco. Stand up\, televi
 sión\, cine y teatro\, cuatro sectores del espectáculo en los que Kike P
 érez se muestra igual de eficaz.\nComprar entradas &gt\;&gt\;\n
ATTACH;FMTTYPE=image/jpeg:https://www.larevistadelapalma.com/wp-content/up
 loads/2024/04/Kike-Perez-Los-llanos.jpg
CATEGORIES:Espectáculos
LOCATION:Parque Conrado Hernández\, Los Llanos de Aridane\, Avenida Eusebi
 o Barreto\, Los Llanos de Aridane\, 38760\, España
GEO:28.657763;-17.90271
X-APPLE-STRUCTURED-LOCATION;VALUE=URI;X-ADDRESS=Avenida Eusebio Barreto\, L
 os Llanos de Aridane\, 38760\, España;X-APPLE-RADIUS=100;X-TITLE=Parque C
 onrado Hernández\, Los Llanos de Aridane:geo:28.657763,-17.90271
END:VEVENT
END:VCALENDAR