BEGIN:VCALENDAR
VERSION:2.0
PRODID:-//wp-events-plugin.com//7.2.3.1//EN
TZID:Europe/London
X-WR-TIMEZONE:Europe/London
BEGIN:VEVENT
UID:4002@larevistadelapalma.com
DTSTART;VALUE=DATE:20251114
DTEND;VALUE=DATE:20251117
DTSTAMP:20251007T211920Z
URL:https://www.larevistadelapalma.com/events/transvulcania-bike-2025/
SUMMARY:Transvulcania Bike 2025
DESCRIPTION:Transvulcania Bike evoluciona y se transforma en una prueba por
  etapas\, respaldada por más de 15 años de experiencia en sus distintas 
 ediciones. Un recorrido de tres etapas que atraviesa distintas áreas por 
 zonas de pinar\, laurisilva y alta montaña\, todas ellas altamente atract
 ivas para este deporte.\n\nLas inscripciones a TRANSVULCANIA BIKE 2025 fin
 alizarán el viernes\, 31 de octubre de 2025 12:00h. o al completar el cu
 po de plazas disponible.\nInscripciones &gt\;&gt\;
ATTACH;FMTTYPE=image/jpeg:https://www.larevistadelapalma.com/wp-content/up
 loads/2025/10/Transvulcania-Bike.jpg
CATEGORIES:Actividades deportivas,Otras propuestas
LOCATION:Municipio de Fuencaliente\, Fuencaliente\, Fuencaliente\, 38740\, 
 España
GEO:28.479676;-17.840616
X-APPLE-STRUCTURED-LOCATION;VALUE=URI;X-ADDRESS=Fuencaliente\, Fuencaliente
 \, 38740\, España;X-APPLE-RADIUS=100;X-TITLE=Municipio de Fuencaliente:ge
 o:28.479676,-17.840616
END:VEVENT
END:VCALENDARBEGIN:VCALENDAR
VERSION:2.0
PRODID:-//wp-events-plugin.com//7.2.3.1//EN
TZID:Europe/London
X-WR-TIMEZONE:Europe/London
BEGIN:VEVENT
UID:4002@larevistadelapalma.com
DTSTART;VALUE=DATE:20251114
DTEND;VALUE=DATE:20251117
DTSTAMP:20251007T211920Z
URL:https://www.larevistadelapalma.com/events/transvulcania-bike-2025/
SUMMARY:Transvulcania Bike 2025
DESCRIPTION:Transvulcania Bike evoluciona y se transforma en una prueba por
  etapas\, respaldada por más de 15 años de experiencia en sus distintas 
 ediciones. Un recorrido de tres etapas que atraviesa distintas áreas por 
 zonas de pinar\, laurisilva y alta montaña\, todas ellas altamente atract
 ivas para este deporte.\n\nLas inscripciones a TRANSVULCANIA BIKE 2025 fin
 alizarán el viernes\, 31 de octubre de 2025 12:00h. o al completar el cu
 po de plazas disponible.\nInscripciones &gt\;&gt\;
ATTACH;FMTTYPE=image/jpeg:https://www.larevistadelapalma.com/wp-content/up
 loads/2025/10/Transvulcania-Bike.jpg
CATEGORIES:Actividades deportivas,Otras propuestas
LOCATION:Municipio de Fuencaliente\, Fuencaliente\, Fuencaliente\, 38740\, 
 España
GEO:28.479676;-17.840616
X-APPLE-STRUCTURED-LOCATION;VALUE=URI;X-ADDRESS=Fuencaliente\, Fuencaliente
 \, 38740\, España;X-APPLE-RADIUS=100;X-TITLE=Municipio de Fuencaliente:ge
 o:28.479676,-17.840616
END:VEVENT
END:VCALENDAR