BEGIN:VCALENDAR
VERSION:2.0
PRODID:-//wp-events-plugin.com//7.2.3.1//EN
TZID:Europe/London
X-WR-TIMEZONE:Europe/London
BEGIN:VEVENT
UID:774@larevistadelapalma.com
DTSTART;VALUE=DATE:20240509
DTEND;VALUE=DATE:20240512
DTSTAMP:20240509T210233Z
URL:https://www.larevistadelapalma.com/events/transvulcania-inscripciones-
 2024/
SUMMARY:Transvulcania edición 2024
DESCRIPTION:Transvulcania abre inscripciones para su edición 2024\, en la 
 que vuelve “a manos de los palmeros”\n\nEstán abiertas las inscripcio
 nes para la edición 2024 de Transvulcania\, prueba reina del deporte palm
 ero gestionada por la empresa pública Sodepal que tendrá lugar el próxi
 mo 11 de mayo. Se han ajustado los precios para residentes en la Isla\, ll
 evándolos a niveles de 2019\, explica el presidente insular\, Sergio Rodr
 íguez. \n\nMediante la web www.transvulcania.com\, los interesados en al
 guna de las modalidades podrán formalizar su participación en la carrera
  con tarifas especiales hasta el 31 de diciembre a las 23.59 horas. Un per
 iodo durante el cual apuntarse en la Ultramaratón tendrá un coste de 70 
 euros para residentes y 90 para no residentes\; la Maratón\, de 40 y 60\,
  respectivamente\; la Media\, 35 y 55\; la Media Junior\, 20 y 30\, y el K
 ilómetro Vertical se mantendrá en ambos casos en 30 euros.\n\nYa en un s
 egundo plazo\, desde el 1 de enero de 2024 hasta completar plazas\, la Ult
 ramaratón costará 90 euros a residentes y 110 a no residentes\; la Marat
 ón\, 60 y 80\; la Media\, 55 y 75\; la Media Junior\, 20 y 30\, y el Kil
 ómetro Vertical\, de nuevo\, conservará los 30 euros de cuota con indepe
 ndencia del lugar donde esté radicado el corredor.\n\nCabe destacar que l
 a Ultramaratón\, de 73 kilómetros de recorrido entre el Faro de Fuencali
 ente y la Plaza de España de Los Llanos de Aridane\, cuenta con un cupo d
 e 1.600 corredores\; la Maratón\, con 43Km entre el Refugio del Pilar (El
  Paso) y el Puerto de Tazacorte\, dispone de un máximo de 800 corredores\
 ; la Mediamaratón\, de 24Km entre el Faro fuencalentero y el Refugio\, y 
 el Kilómetro Vertical\, dotado de 200 plazas\, discurre por 7\,8Km entre 
 el puerto bagañete y la torre forestal de El Time (Tijarafe).\n\nOtro pun
 to importante de esta edición es que\, tanto en la Mediamaratón como en 
 el Kilómetro Vertical\, se permitirá la inscripción a corredores a part
 ir de los 16 años\, en consonancia con otras carreras internacionales\, q
 ue están intentando atraer el talento joven dándole espacio en competici
 ones de primera categoría.\n\n\n\nProgramación Transvulcania 2024&gt\;&g
 t\;\n&nbsp\;\n\n&nbsp\;
ATTACH;FMTTYPE=image/jpeg:https://www.larevistadelapalma.com/wp-content/up
 loads/2023/10/Transvulcania-24.png
CATEGORIES:Actividades deportivas,Otras propuestas
END:VEVENT
END:VCALENDARBEGIN:VCALENDAR
VERSION:2.0
PRODID:-//wp-events-plugin.com//7.2.3.1//EN
TZID:Europe/London
X-WR-TIMEZONE:Europe/London
BEGIN:VEVENT
UID:774@larevistadelapalma.com
DTSTART;VALUE=DATE:20240509
DTEND;VALUE=DATE:20240512
DTSTAMP:20240509T210233Z
URL:https://www.larevistadelapalma.com/events/transvulcania-inscripciones-
 2024/
SUMMARY:Transvulcania edición 2024
DESCRIPTION:Transvulcania abre inscripciones para su edición 2024\, en la 
 que vuelve “a manos de los palmeros”\n\nEstán abiertas las inscripcio
 nes para la edición 2024 de Transvulcania\, prueba reina del deporte palm
 ero gestionada por la empresa pública Sodepal que tendrá lugar el próxi
 mo 11 de mayo. Se han ajustado los precios para residentes en la Isla\, ll
 evándolos a niveles de 2019\, explica el presidente insular\, Sergio Rodr
 íguez. \n\nMediante la web www.transvulcania.com\, los interesados en al
 guna de las modalidades podrán formalizar su participación en la carrera
  con tarifas especiales hasta el 31 de diciembre a las 23.59 horas. Un per
 iodo durante el cual apuntarse en la Ultramaratón tendrá un coste de 70 
 euros para residentes y 90 para no residentes\; la Maratón\, de 40 y 60\,
  respectivamente\; la Media\, 35 y 55\; la Media Junior\, 20 y 30\, y el K
 ilómetro Vertical se mantendrá en ambos casos en 30 euros.\n\nYa en un s
 egundo plazo\, desde el 1 de enero de 2024 hasta completar plazas\, la Ult
 ramaratón costará 90 euros a residentes y 110 a no residentes\; la Marat
 ón\, 60 y 80\; la Media\, 55 y 75\; la Media Junior\, 20 y 30\, y el Kil
 ómetro Vertical\, de nuevo\, conservará los 30 euros de cuota con indepe
 ndencia del lugar donde esté radicado el corredor.\n\nCabe destacar que l
 a Ultramaratón\, de 73 kilómetros de recorrido entre el Faro de Fuencali
 ente y la Plaza de España de Los Llanos de Aridane\, cuenta con un cupo d
 e 1.600 corredores\; la Maratón\, con 43Km entre el Refugio del Pilar (El
  Paso) y el Puerto de Tazacorte\, dispone de un máximo de 800 corredores\
 ; la Mediamaratón\, de 24Km entre el Faro fuencalentero y el Refugio\, y 
 el Kilómetro Vertical\, dotado de 200 plazas\, discurre por 7\,8Km entre 
 el puerto bagañete y la torre forestal de El Time (Tijarafe).\n\nOtro pun
 to importante de esta edición es que\, tanto en la Mediamaratón como en 
 el Kilómetro Vertical\, se permitirá la inscripción a corredores a part
 ir de los 16 años\, en consonancia con otras carreras internacionales\, q
 ue están intentando atraer el talento joven dándole espacio en competici
 ones de primera categoría.\n\n\n\nProgramación Transvulcania 2024&gt\;&g
 t\;\n&nbsp\;\n\n&nbsp\;
ATTACH;FMTTYPE=image/jpeg:https://www.larevistadelapalma.com/wp-content/up
 loads/2023/10/Transvulcania-24.png
CATEGORIES:Actividades deportivas,Otras propuestas
END:VEVENT
END:VCALENDAR