BEGIN:VCALENDAR
VERSION:2.0
PRODID:-//wp-events-plugin.com//7.2.3.1//EN
TZID:Europe/London
X-WR-TIMEZONE:Europe/London
BEGIN:VEVENT
UID:3906@larevistadelapalma.com
DTSTART:20250822T200000Z
DTEND:20250822T214500Z
DTSTAMP:20250813T152847Z
URL:https://www.larevistadelapalma.com/events/tributo-a-adele-en-puerto-na
 os/
SUMMARY:Tributo a Adele en Puerto Naos
DESCRIPTION:\n\n\n\n\n\n\n\n\nEl próximo 22 de agosto a las 21:00h en la A
 venida Marítima de Puerto Naos\, una noche mágica con el Tributo a Adele
  en la voz de la palmera Flavia Cruz\n\nUn espectáculo que versiona los g
 randes éxitos de la artista británica y que ha girado por las mejores sa
 las del archipiélago\, ahora en un concierto al aire libre\, frente al ma
 r\, lleno de emoción y  sensibilidad.\n\n\n\n\n\n&nbsp\;\n\n\n\n\n\n\n\n
 \n\n\nVer esta publicación en Instagram\n\n\n\n\n\n\n\n\n\n\n\n\n\n\n\n\n
 \n\n\n\n\n\n&nbsp\;\nUna publicación compartida de Rolling in the deep (@
 tributoadele)\n\n\n
ATTACH;FMTTYPE=image/jpeg:https://www.larevistadelapalma.com/wp-content/up
 loads/2025/08/Tributo-a-adele.jpg
CATEGORIES:Conciertos,Música
LOCATION:Playa de Puerto Naos\, Puerto Naos\, Los Llanos de Aridane \, 3876
 9\, España
GEO:28.587524;-17.910531
X-APPLE-STRUCTURED-LOCATION;VALUE=URI;X-ADDRESS=Puerto Naos\, Los Llanos de
  Aridane \, 38769\, España;X-APPLE-RADIUS=100;X-TITLE=Playa de Puerto Nao
 s:geo:28.587524,-17.910531
END:VEVENT
END:VCALENDARBEGIN:VCALENDAR
VERSION:2.0
PRODID:-//wp-events-plugin.com//7.2.3.1//EN
TZID:Europe/London
X-WR-TIMEZONE:Europe/London
BEGIN:VEVENT
UID:3906@larevistadelapalma.com
DTSTART:20250822T200000Z
DTEND:20250822T214500Z
DTSTAMP:20250813T152847Z
URL:https://www.larevistadelapalma.com/events/tributo-a-adele-en-puerto-na
 os/
SUMMARY:Tributo a Adele en Puerto Naos
DESCRIPTION:\n\n\n\n\n\n\n\n\nEl próximo 22 de agosto a las 21:00h en la A
 venida Marítima de Puerto Naos\, una noche mágica con el Tributo a Adele
  en la voz de la palmera Flavia Cruz\n\nUn espectáculo que versiona los g
 randes éxitos de la artista británica y que ha girado por las mejores sa
 las del archipiélago\, ahora en un concierto al aire libre\, frente al ma
 r\, lleno de emoción y  sensibilidad.\n\n\n\n\n\n&nbsp\;\n\n\n\n\n\n\n\n
 \n\n\nVer esta publicación en Instagram\n\n\n\n\n\n\n\n\n\n\n\n\n\n\n\n\n
 \n\n\n\n\n\n&nbsp\;\nUna publicación compartida de Rolling in the deep (@
 tributoadele)\n\n\n
ATTACH;FMTTYPE=image/jpeg:https://www.larevistadelapalma.com/wp-content/up
 loads/2025/08/Tributo-a-adele.jpg
CATEGORIES:Conciertos,Música
LOCATION:Playa de Puerto Naos\, Puerto Naos\, Los Llanos de Aridane \, 3876
 9\, España
GEO:28.587524;-17.910531
X-APPLE-STRUCTURED-LOCATION;VALUE=URI;X-ADDRESS=Puerto Naos\, Los Llanos de
  Aridane \, 38769\, España;X-APPLE-RADIUS=100;X-TITLE=Playa de Puerto Nao
 s:geo:28.587524,-17.910531
END:VEVENT
END:VCALENDAR