BEGIN:VCALENDAR
VERSION:2.0
PRODID:-//wp-events-plugin.com//7.2.3.1//EN
TZID:Europe/London
X-WR-TIMEZONE:Europe/London
BEGIN:VEVENT
UID:3933@larevistadelapalma.com
DTSTART:20250824T200000Z
DTEND:20250824T214500Z
DTSTAMP:20250822T145944Z
URL:https://www.larevistadelapalma.com/events/tributo-a-adele-fuencaliente
 /
SUMMARY:Tributo a Adele en Fuencaliente
DESCRIPTION:\n\n\n\n\n\n\n\n\nDespués del concierto del viernes 22 de agos
 to en Puerto Naos\, el Tributo a Adele de la palmera Flavia Cruz llega a F
 uencaliente\n\nUn espectáculo que versiona los grandes éxitos de la arti
 sta británica\, lleno de emoción y  sensibilidad\, y que ha girado por 
 las mejores salas del archipiélago.\n\n\n\n\n\n&nbsp\;\n\n\n\n\n\n\n\n\n\
 n\nVer esta publicación en Instagram\n\n\n\n\n\n\n\n\n\n\n\n\n\n\n\n\n\n\
 n\n\n\n\n&nbsp\;\nUna publicación compartida de Rolling in the deep (@tri
 butoadele)\n\n\n
ATTACH;FMTTYPE=image/jpeg:https://www.larevistadelapalma.com/wp-content/up
 loads/2024/12/Flavia-Cruz-Triburo-a-adele.jpg
CATEGORIES:Conciertos,Música
LOCATION:Plaza del Ayuntamiento de Fuencaliente\, C. San Antonio\, Los Cana
 rios\, Fuencaliente\, 38740\, España
GEO:28.494669;-17.845068
X-APPLE-STRUCTURED-LOCATION;VALUE=URI;X-ADDRESS=C. San Antonio\, Los Canari
 os\, Fuencaliente\, 38740\, España;X-APPLE-RADIUS=100;X-TITLE=Plaza del A
 yuntamiento de Fuencaliente:geo:28.494669,-17.845068
END:VEVENT
END:VCALENDARBEGIN:VCALENDAR
VERSION:2.0
PRODID:-//wp-events-plugin.com//7.2.3.1//EN
TZID:Europe/London
X-WR-TIMEZONE:Europe/London
BEGIN:VEVENT
UID:3933@larevistadelapalma.com
DTSTART:20250824T200000Z
DTEND:20250824T214500Z
DTSTAMP:20250822T145944Z
URL:https://www.larevistadelapalma.com/events/tributo-a-adele-fuencaliente
 /
SUMMARY:Tributo a Adele en Fuencaliente
DESCRIPTION:\n\n\n\n\n\n\n\n\nDespués del concierto del viernes 22 de agos
 to en Puerto Naos\, el Tributo a Adele de la palmera Flavia Cruz llega a F
 uencaliente\n\nUn espectáculo que versiona los grandes éxitos de la arti
 sta británica\, lleno de emoción y  sensibilidad\, y que ha girado por 
 las mejores salas del archipiélago.\n\n\n\n\n\n&nbsp\;\n\n\n\n\n\n\n\n\n\
 n\nVer esta publicación en Instagram\n\n\n\n\n\n\n\n\n\n\n\n\n\n\n\n\n\n\
 n\n\n\n\n&nbsp\;\nUna publicación compartida de Rolling in the deep (@tri
 butoadele)\n\n\n
ATTACH;FMTTYPE=image/jpeg:https://www.larevistadelapalma.com/wp-content/up
 loads/2024/12/Flavia-Cruz-Triburo-a-adele.jpg
CATEGORIES:Conciertos,Música
LOCATION:Plaza del Ayuntamiento de Fuencaliente\, C. San Antonio\, Los Cana
 rios\, Fuencaliente\, 38740\, España
GEO:28.494669;-17.845068
X-APPLE-STRUCTURED-LOCATION;VALUE=URI;X-ADDRESS=C. San Antonio\, Los Canari
 os\, Fuencaliente\, 38740\, España;X-APPLE-RADIUS=100;X-TITLE=Plaza del A
 yuntamiento de Fuencaliente:geo:28.494669,-17.845068
END:VEVENT
END:VCALENDAR