BEGIN:VCALENDAR
VERSION:2.0
PRODID:-//wp-events-plugin.com//7.2.3.1//EN
TZID:Europe/London
X-WR-TIMEZONE:Europe/London
BEGIN:VEVENT
UID:582@larevistadelapalma.com
DTSTART:20230827T113000Z
DTEND:20230827T154500Z
DTSTAMP:20230826T091328Z
URL:https://www.larevistadelapalma.com/events/tributo-a-juan-luis-guerra/
SUMMARY:Concierto tributo a Juan Luis Guerra
DESCRIPTION:16 integrantes de esta banda tributo con música en directo nos
  traerán el ritmo de la bachata y el merengue interpretando los conocidos
  temas del dominicano. También estarán Los Aseres y Dj Equis
ATTACH;FMTTYPE=image/jpeg:https://www.larevistadelapalma.com/wp-content/up
 loads/2023/08/Tributo-a-Juan-Luis-Guerra.jpg
CATEGORIES:Conciertos,Música
LOCATION:Plaza del Socorro\, Breña Baja\, C. del Socorro\, 96\, Breña Baj
 a\, 38712\, España
GEO:28.65757;-17.77079
X-APPLE-STRUCTURED-LOCATION;VALUE=URI;X-ADDRESS=C. del Socorro\, 96\, Breñ
 a Baja\, 38712\, España;X-APPLE-RADIUS=100;X-TITLE=Plaza del Socorro\, Br
 eña Baja:geo:28.65757,-17.77079
END:VEVENT
END:VCALENDARBEGIN:VCALENDAR
VERSION:2.0
PRODID:-//wp-events-plugin.com//7.2.3.1//EN
TZID:Europe/London
X-WR-TIMEZONE:Europe/London
BEGIN:VEVENT
UID:582@larevistadelapalma.com
DTSTART:20230827T113000Z
DTEND:20230827T154500Z
DTSTAMP:20230826T091328Z
URL:https://www.larevistadelapalma.com/events/tributo-a-juan-luis-guerra/
SUMMARY:Concierto tributo a Juan Luis Guerra
DESCRIPTION:16 integrantes de esta banda tributo con música en directo nos
  traerán el ritmo de la bachata y el merengue interpretando los conocidos
  temas del dominicano. También estarán Los Aseres y Dj Equis
ATTACH;FMTTYPE=image/jpeg:https://www.larevistadelapalma.com/wp-content/up
 loads/2023/08/Tributo-a-Juan-Luis-Guerra.jpg
CATEGORIES:Conciertos,Música
LOCATION:Plaza del Socorro\, Breña Baja\, C. del Socorro\, 96\, Breña Baj
 a\, 38712\, España
GEO:28.65757;-17.77079
X-APPLE-STRUCTURED-LOCATION;VALUE=URI;X-ADDRESS=C. del Socorro\, 96\, Breñ
 a Baja\, 38712\, España;X-APPLE-RADIUS=100;X-TITLE=Plaza del Socorro\, Br
 eña Baja:geo:28.65757,-17.77079
END:VEVENT
END:VCALENDAR