BEGIN:VCALENDAR
VERSION:2.0
PRODID:-//wp-events-plugin.com//7.2.3.1//EN
TZID:Europe/London
X-WR-TIMEZONE:Europe/London
BEGIN:VEVENT
UID:3042@larevistadelapalma.com
DTSTART:20240614T203000Z
DTEND:20240614T221500Z
DTSTAMP:20240606T215048Z
URL:https://www.larevistadelapalma.com/events/tributo-a-pau-dones-con-fran
 -ramos/
SUMMARY:Tributo a Pau Donés con Fran Ramos
DESCRIPTION:El palmero Fran Ramos nos invita a este concierto de su proyect
 o musical Otro Palo\, que homenajea a Pau Donés\, vocalista de la banda J
 arabe de Palo.
ATTACH;FMTTYPE=image/jpeg:https://www.larevistadelapalma.com/wp-content/up
 loads/2024/06/Tributo-a-Pau-Dones-Fran-Ramos.jpg
CATEGORIES:Conciertos,Música
LOCATION:Parque de Los Álamos\, Bodegón Los Alamos\, Breña Alta\, 38710\
 , España
GEO:28.667222;-17.787778
X-APPLE-STRUCTURED-LOCATION;VALUE=URI;X-ADDRESS=Bodegón Los Alamos\, Breñ
 a Alta\, 38710\, España;X-APPLE-RADIUS=100;X-TITLE=Parque de Los Álamos:
 geo:28.667222,-17.787778
END:VEVENT
END:VCALENDARBEGIN:VCALENDAR
VERSION:2.0
PRODID:-//wp-events-plugin.com//7.2.3.1//EN
TZID:Europe/London
X-WR-TIMEZONE:Europe/London
BEGIN:VEVENT
UID:3042@larevistadelapalma.com
DTSTART:20240614T203000Z
DTEND:20240614T221500Z
DTSTAMP:20240606T215048Z
URL:https://www.larevistadelapalma.com/events/tributo-a-pau-dones-con-fran
 -ramos/
SUMMARY:Tributo a Pau Donés con Fran Ramos
DESCRIPTION:El palmero Fran Ramos nos invita a este concierto de su proyect
 o musical Otro Palo\, que homenajea a Pau Donés\, vocalista de la banda J
 arabe de Palo.
ATTACH;FMTTYPE=image/jpeg:https://www.larevistadelapalma.com/wp-content/up
 loads/2024/06/Tributo-a-Pau-Dones-Fran-Ramos.jpg
CATEGORIES:Conciertos,Música
LOCATION:Parque de Los Álamos\, Bodegón Los Alamos\, Breña Alta\, 38710\
 , España
GEO:28.667222;-17.787778
X-APPLE-STRUCTURED-LOCATION;VALUE=URI;X-ADDRESS=Bodegón Los Alamos\, Breñ
 a Alta\, 38710\, España;X-APPLE-RADIUS=100;X-TITLE=Parque de Los Álamos:
 geo:28.667222,-17.787778
END:VEVENT
END:VCALENDAR