BEGIN:VCALENDAR
VERSION:2.0
PRODID:-//wp-events-plugin.com//7.2.3.1//EN
TZID:Europe/London
X-WR-TIMEZONE:Europe/London
BEGIN:VEVENT
UID:3324@larevistadelapalma.com
DTSTART:20241018T200000Z
DTEND:20241018T223000Z
DTSTAMP:20241014T222319Z
URL:https://www.larevistadelapalma.com/events/tributo-a-pau-dones-y-a-cold
 play-en-la-plaza-de-santo-domingo/
SUMMARY:Tributo a Pau Donés y a Coldplay en la Plaza de Santo Domingo
DESCRIPTION:\nLa noche comenzará con la banda local Amapola\, para seguir 
 con los tributos a Pau Donés y a Coldplay.\nEl próximo viernes 18\, la 
 Plaza Santo Domingo acoge a partir de las 21:00 horas un nuevo tributo enm
 arcado en el programa ‘Nos vemos en la Plaza’ que tiene como objetivo 
 dinamizar diferentes puntos de la ciudad.\nEste concierto que homenajea en
  primer lugar a Pau Donés una de las figuras más reconocidas en el panor
 ama musical gracias a su música con el grupo Jarabe de Palo. El cantante 
 palmero\, Fran Ramos\, junto a un elenco de músicos y cantantes de la isl
 a se encargará de recordar al fallecido artista a través de exitosos tem
 as como ‘La flaca’ o ‘Eso que tú me das’.\n\n\nEl grupo Paradise 
 promete capturar la esencia de Coldplay y transmitir esa energía tan cara
 cterística del internacionalmente conocido grupo. Versionará los temas c
 omo ‘Paradise’\, ‘Yellow’ o ‘Viva la vida’.\n\n\n\n
ATTACH;FMTTYPE=image/jpeg:https://www.larevistadelapalma.com/wp-content/up
 loads/2024/10/Tributos-santa-cruz.jpg
CATEGORIES:Conciertos,Música
LOCATION:Plaza de Santo Domingo en Santa Cruz de La Palma\, Plaza Santo Dom
 ingo\, Santa Cruz de La Palma\, 38700\, España
GEO:28.682691;-17.766334
X-APPLE-STRUCTURED-LOCATION;VALUE=URI;X-ADDRESS=Plaza Santo Domingo\, Santa
  Cruz de La Palma\, 38700\, España;X-APPLE-RADIUS=100;X-TITLE=Plaza de Sa
 nto Domingo en Santa Cruz de La Palma:geo:28.682691,-17.766334
END:VEVENT
END:VCALENDARBEGIN:VCALENDAR
VERSION:2.0
PRODID:-//wp-events-plugin.com//7.2.3.1//EN
TZID:Europe/London
X-WR-TIMEZONE:Europe/London
BEGIN:VEVENT
UID:3324@larevistadelapalma.com
DTSTART:20241018T200000Z
DTEND:20241018T223000Z
DTSTAMP:20241014T222319Z
URL:https://www.larevistadelapalma.com/events/tributo-a-pau-dones-y-a-cold
 play-en-la-plaza-de-santo-domingo/
SUMMARY:Tributo a Pau Donés y a Coldplay en la Plaza de Santo Domingo
DESCRIPTION:\nLa noche comenzará con la banda local Amapola\, para seguir 
 con los tributos a Pau Donés y a Coldplay.\nEl próximo viernes 18\, la 
 Plaza Santo Domingo acoge a partir de las 21:00 horas un nuevo tributo enm
 arcado en el programa ‘Nos vemos en la Plaza’ que tiene como objetivo 
 dinamizar diferentes puntos de la ciudad.\nEste concierto que homenajea en
  primer lugar a Pau Donés una de las figuras más reconocidas en el panor
 ama musical gracias a su música con el grupo Jarabe de Palo. El cantante 
 palmero\, Fran Ramos\, junto a un elenco de músicos y cantantes de la isl
 a se encargará de recordar al fallecido artista a través de exitosos tem
 as como ‘La flaca’ o ‘Eso que tú me das’.\n\n\nEl grupo Paradise 
 promete capturar la esencia de Coldplay y transmitir esa energía tan cara
 cterística del internacionalmente conocido grupo. Versionará los temas c
 omo ‘Paradise’\, ‘Yellow’ o ‘Viva la vida’.\n\n\n\n
ATTACH;FMTTYPE=image/jpeg:https://www.larevistadelapalma.com/wp-content/up
 loads/2024/10/Tributos-santa-cruz.jpg
CATEGORIES:Conciertos,Música
LOCATION:Plaza de Santo Domingo en Santa Cruz de La Palma\, Plaza Santo Dom
 ingo\, Santa Cruz de La Palma\, 38700\, España
GEO:28.682691;-17.766334
X-APPLE-STRUCTURED-LOCATION;VALUE=URI;X-ADDRESS=Plaza Santo Domingo\, Santa
  Cruz de La Palma\, 38700\, España;X-APPLE-RADIUS=100;X-TITLE=Plaza de Sa
 nto Domingo en Santa Cruz de La Palma:geo:28.682691,-17.766334
END:VEVENT
END:VCALENDAR