BEGIN:VCALENDAR
VERSION:2.0
PRODID:-//wp-events-plugin.com//7.2.3.1//EN
TZID:Europe/London
X-WR-TIMEZONE:Europe/London
BEGIN:VEVENT
UID:3899@larevistadelapalma.com
DTSTART:20250808T210000Z
DTEND:20250808T225900Z
DTSTAMP:20250806T213741Z
URL:https://www.larevistadelapalma.com/events/tributo-a-tina-turner-jennif
 er-lopez-y-marc-antonhy/
SUMMARY:Tributo a Tina Turner\, Jennifer López y Marc Antonhy
DESCRIPTION:\n\n\n\n\n\n\nEste viernes\, 8 de agosto\, la plaza de Argual s
 e llena de música con un tributo a Tina Turner\, Jennifer López y Marc A
 ntonhy.\nSi\, todo eso en la misma noche.\nCon Patricia_bakertf \, como Ti
 na\, Jlo Tribute Show y con la participación de Marc Anthony en la voz de
  Danyssel. Junto a ellos\, el ballet de Ezequiel Dibelo y una banda en di
 recto.\n\n\n\n\n\n\n\n\n\n\n\n
ATTACH;FMTTYPE=image/jpeg:https://www.larevistadelapalma.com/wp-content/up
 loads/2025/08/Tributo-tina-marc-jlo.jpg
CATEGORIES:Conciertos,Música
LOCATION:Plaza de Argual\, C. Manuel de Falla\, 36\, Los Llanos de Aridane\
 , 38760\, España
GEO:28.658756;-17.923255
X-APPLE-STRUCTURED-LOCATION;VALUE=URI;X-ADDRESS=C. Manuel de Falla\, 36\, L
 os Llanos de Aridane\, 38760\, España;X-APPLE-RADIUS=100;X-TITLE=Plaza de
  Argual:geo:28.658756,-17.923255
END:VEVENT
END:VCALENDARBEGIN:VCALENDAR
VERSION:2.0
PRODID:-//wp-events-plugin.com//7.2.3.1//EN
TZID:Europe/London
X-WR-TIMEZONE:Europe/London
BEGIN:VEVENT
UID:3899@larevistadelapalma.com
DTSTART:20250808T210000Z
DTEND:20250808T225900Z
DTSTAMP:20250806T213741Z
URL:https://www.larevistadelapalma.com/events/tributo-a-tina-turner-jennif
 er-lopez-y-marc-antonhy/
SUMMARY:Tributo a Tina Turner\, Jennifer López y Marc Antonhy
DESCRIPTION:\n\n\n\n\n\n\nEste viernes\, 8 de agosto\, la plaza de Argual s
 e llena de música con un tributo a Tina Turner\, Jennifer López y Marc A
 ntonhy.\nSi\, todo eso en la misma noche.\nCon Patricia_bakertf \, como Ti
 na\, Jlo Tribute Show y con la participación de Marc Anthony en la voz de
  Danyssel. Junto a ellos\, el ballet de Ezequiel Dibelo y una banda en di
 recto.\n\n\n\n\n\n\n\n\n\n\n\n
ATTACH;FMTTYPE=image/jpeg:https://www.larevistadelapalma.com/wp-content/up
 loads/2025/08/Tributo-tina-marc-jlo.jpg
CATEGORIES:Conciertos,Música
LOCATION:Plaza de Argual\, C. Manuel de Falla\, 36\, Los Llanos de Aridane\
 , 38760\, España
GEO:28.658756;-17.923255
X-APPLE-STRUCTURED-LOCATION;VALUE=URI;X-ADDRESS=C. Manuel de Falla\, 36\, L
 os Llanos de Aridane\, 38760\, España;X-APPLE-RADIUS=100;X-TITLE=Plaza de
  Argual:geo:28.658756,-17.923255
END:VEVENT
END:VCALENDAR