BEGIN:VCALENDAR
VERSION:2.0
PRODID:-//wp-events-plugin.com//7.2.3.1//EN
TZID:Europe/London
X-WR-TIMEZONE:Europe/London
BEGIN:VEVENT
UID:3475@larevistadelapalma.com
DTSTART:20241221T180000Z
DTEND:20241221T193000Z
DTSTAMP:20241211T174026Z
URL:https://www.larevistadelapalma.com/events/tributo-adele-casa-del-conde
 /
SUMMARY:Flavia Cruz canta a Adele\, en la Casa del Conde
DESCRIPTION:Flavia Cruz presenta un concierto tributo a Adele en su versió
 n más íntima. \nEl Tributo a Adele que ofrece la palmera Flavia Cruz  
 poco a poco se ha ido afianzando en el circuito musical canario.  "Rollin
 g in the deep"\, hace un recorrido por los grandes éxitos de la cantante 
 británica Adele.\nEn este concierto disfrutaremos de una versión en form
 ato más intimo\, en la que la cantante interpretará los temas acompañad
 a al piano por Juan Antonio Rodríguez Díaz.\nMás info y entradas &gt\;&
 gt\;
ATTACH;FMTTYPE=image/jpeg:https://www.larevistadelapalma.com/wp-content/up
 loads/2024/12/flavia-adele.jpg
CATEGORIES:Conciertos,Música
LOCATION:Casa del Conde\, Los Llanos de Aridane\, C/San Antonio\, 35 - Llan
 o de Argual\, Los Llanos de Aridane\, 38760\, España
GEO:28.655333;-17.926641
X-APPLE-STRUCTURED-LOCATION;VALUE=URI;X-ADDRESS=C/San Antonio\, 35 - Llano 
 de Argual\, Los Llanos de Aridane\, 38760\, España;X-APPLE-RADIUS=100;X-T
 ITLE=Casa del Conde\, Los Llanos de Aridane:geo:28.655333,-17.926641
END:VEVENT
END:VCALENDARBEGIN:VCALENDAR
VERSION:2.0
PRODID:-//wp-events-plugin.com//7.2.3.1//EN
TZID:Europe/London
X-WR-TIMEZONE:Europe/London
BEGIN:VEVENT
UID:3475@larevistadelapalma.com
DTSTART:20241221T180000Z
DTEND:20241221T193000Z
DTSTAMP:20241211T174026Z
URL:https://www.larevistadelapalma.com/events/tributo-adele-casa-del-conde
 /
SUMMARY:Flavia Cruz canta a Adele\, en la Casa del Conde
DESCRIPTION:Flavia Cruz presenta un concierto tributo a Adele en su versió
 n más íntima. \nEl Tributo a Adele que ofrece la palmera Flavia Cruz  
 poco a poco se ha ido afianzando en el circuito musical canario.  "Rollin
 g in the deep"\, hace un recorrido por los grandes éxitos de la cantante 
 británica Adele.\nEn este concierto disfrutaremos de una versión en form
 ato más intimo\, en la que la cantante interpretará los temas acompañad
 a al piano por Juan Antonio Rodríguez Díaz.\nMás info y entradas &gt\;&
 gt\;
ATTACH;FMTTYPE=image/jpeg:https://www.larevistadelapalma.com/wp-content/up
 loads/2024/12/flavia-adele.jpg
CATEGORIES:Conciertos,Música
LOCATION:Casa del Conde\, Los Llanos de Aridane\, C/San Antonio\, 35 - Llan
 o de Argual\, Los Llanos de Aridane\, 38760\, España
GEO:28.655333;-17.926641
X-APPLE-STRUCTURED-LOCATION;VALUE=URI;X-ADDRESS=C/San Antonio\, 35 - Llano 
 de Argual\, Los Llanos de Aridane\, 38760\, España;X-APPLE-RADIUS=100;X-T
 ITLE=Casa del Conde\, Los Llanos de Aridane:geo:28.655333,-17.926641
END:VEVENT
END:VCALENDAR