BEGIN:VCALENDAR
VERSION:2.0
PRODID:-//wp-events-plugin.com//7.2.3.1//EN
TZID:Europe/London
X-WR-TIMEZONE:Europe/London
BEGIN:VEVENT
UID:4125@larevistadelapalma.com
DTSTART:20251226T200000Z
DTEND:20251226T213000Z
DTSTAMP:20251216T185443Z
URL:https://www.larevistadelapalma.com/events/tributo-el-canto-del-loco-la
 -suerte-de-mi-vida/
SUMMARY:Concierto tributo a "El canto del Loco" con el grupo "La suerte de 
 mi vida"
DESCRIPTION:Llega "El canto del Loco" de la mano de la banda tributo "LA SU
 ERTE DE MI VIDA". Llegan a la Isla para revivir todos los grandes éxitos 
 de la mitica banda Madrileña que marco toda una época. La madre de José
 \,besos\,zapatillas etc... \n\n\n\n&nbsp\;\n\n\n\n\n\n\n\n\n\n\nVer esta p
 ublicación en Instagram\n\n\n\n\n\n\n\n\n\n\n\n\n\n\n\n\n\n\n\n\n\n\n&nbs
 p\;\nUna publicación compartida de Cultura Pájara (@culturapajara)\n\n\n
ATTACH;FMTTYPE=image/jpeg:https://www.larevistadelapalma.com/wp-content/up
 loads/2025/12/tributo-el-canto-del-loco.png
CATEGORIES:Conciertos,Música
LOCATION:Plaza de Montserrat en San Andrés y Sauces\, Calle Montserrat\, S
 an Andrés y Sauces\, 38729\, España
GEO:28.784222;-17.799155
X-APPLE-STRUCTURED-LOCATION;VALUE=URI;X-ADDRESS=Calle Montserrat\, San Andr
 és y Sauces\, 38729\, España;X-APPLE-RADIUS=100;X-TITLE=Plaza de Montser
 rat en San Andrés y Sauces:geo:28.784222,-17.799155
END:VEVENT
END:VCALENDARBEGIN:VCALENDAR
VERSION:2.0
PRODID:-//wp-events-plugin.com//7.2.3.1//EN
TZID:Europe/London
X-WR-TIMEZONE:Europe/London
BEGIN:VEVENT
UID:4125@larevistadelapalma.com
DTSTART:20251226T200000Z
DTEND:20251226T213000Z
DTSTAMP:20251216T185443Z
URL:https://www.larevistadelapalma.com/events/tributo-el-canto-del-loco-la
 -suerte-de-mi-vida/
SUMMARY:Concierto tributo a "El canto del Loco" con el grupo "La suerte de 
 mi vida"
DESCRIPTION:Llega "El canto del Loco" de la mano de la banda tributo "LA SU
 ERTE DE MI VIDA". Llegan a la Isla para revivir todos los grandes éxitos 
 de la mitica banda Madrileña que marco toda una época. La madre de José
 \,besos\,zapatillas etc... \n\n\n\n&nbsp\;\n\n\n\n\n\n\n\n\n\n\nVer esta p
 ublicación en Instagram\n\n\n\n\n\n\n\n\n\n\n\n\n\n\n\n\n\n\n\n\n\n\n&nbs
 p\;\nUna publicación compartida de Cultura Pájara (@culturapajara)\n\n\n
ATTACH;FMTTYPE=image/jpeg:https://www.larevistadelapalma.com/wp-content/up
 loads/2025/12/tributo-el-canto-del-loco.png
CATEGORIES:Conciertos,Música
LOCATION:Plaza de Montserrat en San Andrés y Sauces\, Calle Montserrat\, S
 an Andrés y Sauces\, 38729\, España
GEO:28.784222;-17.799155
X-APPLE-STRUCTURED-LOCATION;VALUE=URI;X-ADDRESS=Calle Montserrat\, San Andr
 és y Sauces\, 38729\, España;X-APPLE-RADIUS=100;X-TITLE=Plaza de Montser
 rat en San Andrés y Sauces:geo:28.784222,-17.799155
END:VEVENT
END:VCALENDAR