BEGIN:VCALENDAR
VERSION:2.0
PRODID:-//wp-events-plugin.com//7.2.3.1//EN
TZID:Europe/London
X-WR-TIMEZONE:Europe/London
BEGIN:VEVENT
UID:3339@larevistadelapalma.com
DTSTART:20241024T200000Z
DTEND:20241024T213000Z
DTSTAMP:20241022T223817Z
URL:https://www.larevistadelapalma.com/events/trio-zapatista-en-la-nueva-e
 ntrega-del-festival-de-la-sonrisa-de-santa-cruz-de-la-palma/
SUMMARY:Trio Zapatista en la nueva entrega del Festival de la Sonrisa de Sa
 nta Cruz de La Palma
DESCRIPTION:\nEl próximo 24 de octubre\, a las 21:00h\, en la Plaza de San
  Francisco\, Santa Cruz de La Palma\, en un espectáculo presentado por Ay
 oze Pérez\, la actuación del Trío Zapatista\, un grupo del que sobran p
 resentaciones\, han hecho reír a generaciones con su talento y carisma.\n
 \n\n\nEntrada libre.\n\n
ATTACH;FMTTYPE=image/jpeg:https://www.larevistadelapalma.com/wp-content/up
 loads/2024/10/Trio-zapatista.jpg
CATEGORIES:Espectáculos
LOCATION:Plaza de San Francisco\, Plaza de San Francisco \, Santa Cruz De L
 a Palma\, Santa Cruz de Tenerife\, 38700\, España
GEO:28.683698;-17.767894
X-APPLE-STRUCTURED-LOCATION;VALUE=URI;X-ADDRESS=Plaza de San Francisco \, S
 anta Cruz De La Palma\, Santa Cruz de Tenerife\, 38700\, España;X-APPLE-R
 ADIUS=100;X-TITLE=Plaza de San Francisco:geo:28.683698,-17.767894
END:VEVENT
END:VCALENDARBEGIN:VCALENDAR
VERSION:2.0
PRODID:-//wp-events-plugin.com//7.2.3.1//EN
TZID:Europe/London
X-WR-TIMEZONE:Europe/London
BEGIN:VEVENT
UID:3339@larevistadelapalma.com
DTSTART:20241024T200000Z
DTEND:20241024T213000Z
DTSTAMP:20241022T223817Z
URL:https://www.larevistadelapalma.com/events/trio-zapatista-en-la-nueva-e
 ntrega-del-festival-de-la-sonrisa-de-santa-cruz-de-la-palma/
SUMMARY:Trio Zapatista en la nueva entrega del Festival de la Sonrisa de Sa
 nta Cruz de La Palma
DESCRIPTION:\nEl próximo 24 de octubre\, a las 21:00h\, en la Plaza de San
  Francisco\, Santa Cruz de La Palma\, en un espectáculo presentado por Ay
 oze Pérez\, la actuación del Trío Zapatista\, un grupo del que sobran p
 resentaciones\, han hecho reír a generaciones con su talento y carisma.\n
 \n\n\nEntrada libre.\n\n
ATTACH;FMTTYPE=image/jpeg:https://www.larevistadelapalma.com/wp-content/up
 loads/2024/10/Trio-zapatista.jpg
CATEGORIES:Espectáculos
LOCATION:Plaza de San Francisco\, Plaza de San Francisco \, Santa Cruz De L
 a Palma\, Santa Cruz de Tenerife\, 38700\, España
GEO:28.683698;-17.767894
X-APPLE-STRUCTURED-LOCATION;VALUE=URI;X-ADDRESS=Plaza de San Francisco \, S
 anta Cruz De La Palma\, Santa Cruz de Tenerife\, 38700\, España;X-APPLE-R
 ADIUS=100;X-TITLE=Plaza de San Francisco:geo:28.683698,-17.767894
END:VEVENT
END:VCALENDAR