BEGIN:VCALENDAR
VERSION:2.0
PRODID:-//wp-events-plugin.com//7.2.3.1//EN
TZID:Europe/London
X-WR-TIMEZONE:Europe/London
BEGIN:VEVENT
UID:3352@larevistadelapalma.com
DTSTART:20241030T190000Z
DTEND:20241030T203000Z
DTSTAMP:20241028T191539Z
URL:https://www.larevistadelapalma.com/events/unid-vuestras-cenizas-a-las-
 suyas-ruta-guiada-por-el-cementerio-de-s-c-de-la-palma/
SUMMARY:"Unid vuestras cenizas a las suyas"\, ruta guiada por el cementerio
  de S/C de La Palma
DESCRIPTION:Con la interpretación de "La Bruja" de Rosy Arango\, por la Es
 cuela de Danza Maika Lerín. \n\nUna ruta guiada por el cementerio munici
 pal a cargo del historiador Víctor Hernández Correa\, el miércoles 30 d
 e octubre\, a las 18:00 horas para dar a conocer la historia y las persona
 s ilustres cuyas tumbas se encuentran en el camposanto capitalino.\nUna ac
 tividad que\, con el título ‘Unid vuestras cenizas a las suyas’\, con
 tará también con una actuación especial en este entorno realizada por e
 l alumnado de la Escuela Municipal de Danza Maika Lerín\, con la interpre
 tación de ‘La Bruja’\, de Rosy Arango.\n\n
ATTACH;FMTTYPE=image/jpeg:https://www.larevistadelapalma.com/wp-content/up
 loads/2024/10/Ruta-cementerio-santa-cruz.jpg
CATEGORIES:Otras propuestas,Varios
LOCATION:Municipio de Santa Cruz de La Palma\, Santa Cruz de La Palma \, Sa
 nta Cruz de La Palma \, 38700\, España
GEO:28.688757;-17.765102
X-APPLE-STRUCTURED-LOCATION;VALUE=URI;X-ADDRESS=Santa Cruz de La Palma \, S
 anta Cruz de La Palma \, 38700\, España;X-APPLE-RADIUS=100;X-TITLE=Munici
 pio de Santa Cruz de La Palma:geo:28.688757,-17.765102
END:VEVENT
END:VCALENDARBEGIN:VCALENDAR
VERSION:2.0
PRODID:-//wp-events-plugin.com//7.2.3.1//EN
TZID:Europe/London
X-WR-TIMEZONE:Europe/London
BEGIN:VEVENT
UID:3352@larevistadelapalma.com
DTSTART:20241030T190000Z
DTEND:20241030T203000Z
DTSTAMP:20241028T191539Z
URL:https://www.larevistadelapalma.com/events/unid-vuestras-cenizas-a-las-
 suyas-ruta-guiada-por-el-cementerio-de-s-c-de-la-palma/
SUMMARY:"Unid vuestras cenizas a las suyas"\, ruta guiada por el cementerio
  de S/C de La Palma
DESCRIPTION:Con la interpretación de "La Bruja" de Rosy Arango\, por la Es
 cuela de Danza Maika Lerín. \n\nUna ruta guiada por el cementerio munici
 pal a cargo del historiador Víctor Hernández Correa\, el miércoles 30 d
 e octubre\, a las 18:00 horas para dar a conocer la historia y las persona
 s ilustres cuyas tumbas se encuentran en el camposanto capitalino.\nUna ac
 tividad que\, con el título ‘Unid vuestras cenizas a las suyas’\, con
 tará también con una actuación especial en este entorno realizada por e
 l alumnado de la Escuela Municipal de Danza Maika Lerín\, con la interpre
 tación de ‘La Bruja’\, de Rosy Arango.\n\n
ATTACH;FMTTYPE=image/jpeg:https://www.larevistadelapalma.com/wp-content/up
 loads/2024/10/Ruta-cementerio-santa-cruz.jpg
CATEGORIES:Otras propuestas,Varios
LOCATION:Municipio de Santa Cruz de La Palma\, Santa Cruz de La Palma \, Sa
 nta Cruz de La Palma \, 38700\, España
GEO:28.688757;-17.765102
X-APPLE-STRUCTURED-LOCATION;VALUE=URI;X-ADDRESS=Santa Cruz de La Palma \, S
 anta Cruz de La Palma \, 38700\, España;X-APPLE-RADIUS=100;X-TITLE=Munici
 pio de Santa Cruz de La Palma:geo:28.688757,-17.765102
END:VEVENT
END:VCALENDAR