BEGIN:VCALENDAR
VERSION:2.0
PRODID:-//wp-events-plugin.com//7.2.3.1//EN
TZID:Europe/London
X-WR-TIMEZONE:Europe/London
BEGIN:VEVENT
UID:4038@larevistadelapalma.com
DTSTART;VALUE=DATE:20251111
DTEND;VALUE=DATE:20251129
DTSTAMP:20251028T130259Z
URL:https://www.larevistadelapalma.com/events/universidad-de-otono-la-palm
 a-2025/
SUMMARY:Universidad de Otoño La Palma 2025
DESCRIPTION:\n¡La Universidad de Otoño La Palma 2025 está de vuelta!\n\n
 \n\n Del 11 al 28 de noviembre\, la Universidad de La Laguna y el Cabildo
  de La Palma traen 10 cursos.\n\n\n\n 	 Diseño de videojuegos\n 	 IA: I
 nteligencia Artificial\n 	 Pilotaje de drones\n 	 Senderismo e interpreta
 ción del patrimonio: 'lo que nos cuentan los caminos'.\n 	Fomento y desar
 rollo del astroturismo a través de actividades con uso y manejo de telesc
 opios.\n 	 Lengua de signos (Plazas agotadas)\n 	Programación de Apps m
 óviles.\n 	Arqueología.\n 	El teatro en Canarias: pasado y presente.\n 	
 Análisis sensorial deductivo y la viticultura regenerativa.\n\n\n\n Todo
 s los cursos valen 1 crédito ECTS y no necesitas experiencia previa.  Ad
 emás\, habrá talleres\, música\, cultura y actividades GRATIS.\n\n\nLos
  cursos tendrán lugar en Santa Cruz de La Palma\, Los Llanos de Aridane\,
  El Paso\, Villa de Mazo...\n\n\nMatícula abierta ya.\n922 319 616 - 922
  319 626 - extuni@ull.es\n\n\n\n +Info sobre los cursos&gt\;&gt\;\n\n
ATTACH;FMTTYPE=image/jpeg:https://www.larevistadelapalma.com/wp-content/up
 loads/2025/10/Universidad-otono-La-Palma-25.jpg
CATEGORIES:Formación,Otras propuestas
END:VEVENT
END:VCALENDARBEGIN:VCALENDAR
VERSION:2.0
PRODID:-//wp-events-plugin.com//7.2.3.1//EN
TZID:Europe/London
X-WR-TIMEZONE:Europe/London
BEGIN:VEVENT
UID:4038@larevistadelapalma.com
DTSTART;VALUE=DATE:20251111
DTEND;VALUE=DATE:20251129
DTSTAMP:20251028T130259Z
URL:https://www.larevistadelapalma.com/events/universidad-de-otono-la-palm
 a-2025/
SUMMARY:Universidad de Otoño La Palma 2025
DESCRIPTION:\n¡La Universidad de Otoño La Palma 2025 está de vuelta!\n\n
 \n\n Del 11 al 28 de noviembre\, la Universidad de La Laguna y el Cabildo
  de La Palma traen 10 cursos.\n\n\n\n 	 Diseño de videojuegos\n 	 IA: I
 nteligencia Artificial\n 	 Pilotaje de drones\n 	 Senderismo e interpreta
 ción del patrimonio: 'lo que nos cuentan los caminos'.\n 	Fomento y desar
 rollo del astroturismo a través de actividades con uso y manejo de telesc
 opios.\n 	 Lengua de signos (Plazas agotadas)\n 	Programación de Apps m
 óviles.\n 	Arqueología.\n 	El teatro en Canarias: pasado y presente.\n 	
 Análisis sensorial deductivo y la viticultura regenerativa.\n\n\n\n Todo
 s los cursos valen 1 crédito ECTS y no necesitas experiencia previa.  Ad
 emás\, habrá talleres\, música\, cultura y actividades GRATIS.\n\n\nLos
  cursos tendrán lugar en Santa Cruz de La Palma\, Los Llanos de Aridane\,
  El Paso\, Villa de Mazo...\n\n\nMatícula abierta ya.\n922 319 616 - 922
  319 626 - extuni@ull.es\n\n\n\n +Info sobre los cursos&gt\;&gt\;\n\n
ATTACH;FMTTYPE=image/jpeg:https://www.larevistadelapalma.com/wp-content/up
 loads/2025/10/Universidad-otono-La-Palma-25.jpg
CATEGORIES:Formación,Otras propuestas
END:VEVENT
END:VCALENDAR