BEGIN:VCALENDAR
VERSION:2.0
PRODID:-//wp-events-plugin.com//7.2.3.1//EN
TZID:Europe/London
X-WR-TIMEZONE:Europe/London
BEGIN:VEVENT
UID:151@larevistadelapalma.com
DTSTART;VALUE=DATE:20230714
DTEND;VALUE=DATE:20230717
DTSTAMP:20230710T112131Z
URL:https://www.larevistadelapalma.com/events/v-jornadas-de-juego-del-palo
 -aragavia/
SUMMARY:V Jornadas de Juego del Palo Aragavia
DESCRIPTION:Organizarán charlas\, exhibiciones\, talleres y debates...
ATTACH;FMTTYPE=image/jpeg:https://www.larevistadelapalma.com/wp-content/up
 loads/2023/07/Jornadas-juego-palo.jpg
CATEGORIES:Otras propuestas,Varios
LOCATION:Crealab El Paso\, C. Manuel Taño\, 1\, El Paso\, 38750\, España
GEO:28.651929;-17.88
X-APPLE-STRUCTURED-LOCATION;VALUE=URI;X-ADDRESS=C. Manuel Taño\, 1\, El Pa
 so\, 38750\, España;X-APPLE-RADIUS=100;X-TITLE=Crealab El Paso:geo:28.651
 929,-17.88
END:VEVENT
END:VCALENDARBEGIN:VCALENDAR
VERSION:2.0
PRODID:-//wp-events-plugin.com//7.2.3.1//EN
TZID:Europe/London
X-WR-TIMEZONE:Europe/London
BEGIN:VEVENT
UID:151@larevistadelapalma.com
DTSTART;VALUE=DATE:20230714
DTEND;VALUE=DATE:20230717
DTSTAMP:20230710T112131Z
URL:https://www.larevistadelapalma.com/events/v-jornadas-de-juego-del-palo
 -aragavia/
SUMMARY:V Jornadas de Juego del Palo Aragavia
DESCRIPTION:Organizarán charlas\, exhibiciones\, talleres y debates...
ATTACH;FMTTYPE=image/jpeg:https://www.larevistadelapalma.com/wp-content/up
 loads/2023/07/Jornadas-juego-palo.jpg
CATEGORIES:Otras propuestas,Varios
LOCATION:Crealab El Paso\, C. Manuel Taño\, 1\, El Paso\, 38750\, España
GEO:28.651929;-17.88
X-APPLE-STRUCTURED-LOCATION;VALUE=URI;X-ADDRESS=C. Manuel Taño\, 1\, El Pa
 so\, 38750\, España;X-APPLE-RADIUS=100;X-TITLE=Crealab El Paso:geo:28.651
 929,-17.88
END:VEVENT
END:VCALENDAR