BEGIN:VCALENDAR
VERSION:2.0
PRODID:-//wp-events-plugin.com//7.2.3.1//EN
TZID:Europe/London
X-WR-TIMEZONE:Europe/London
BEGIN:VEVENT
UID:4563@larevistadelapalma.com
DTSTART;VALUE=DATE:20260320
DTEND;VALUE=DATE:20260322
DTSTAMP:20260306T222832Z
URL:https://www.larevistadelapalma.com/events/v-jornadas-emocuidando-para-
 fortalecer-el-bienestar-emocional-en-la-comunidad-educativa/
SUMMARY:V Jornadas Emocuidando para fortalecer el bienestar emocional en la
  comunidad educativa
DESCRIPTION:La iniciativa contará con encuentros formativos\, dinámicas e
 n centros escolares y acciones dirigidas a familias durante los meses de m
 arzo y abril.\n\nEl Cabildo de La Palma\, a través del área de Educació
 n que dirige Susa Armas\, impulsa junto a Sinergias In &amp\; Out las V Jo
 rnadas Emocuidando\, una iniciativa orientada a fomentar el bienestar emoc
 ional dentro de la comunidad educativa. La programación se desarrollará 
 los días 20 y 21 de marzo en el Museo Arqueológico Benahoarita\, en Los 
 Llanos de Aridane\, y continuará el 15 de abril con actividades en distin
 tos centros educativos de la isla.\n\nLa consejera de Educación del Cabil
 do de La Palma\, Susa Armas\, destaca que estas jornadas permiten seguir a
 vanzando en una educación “que tenga en cuenta no solo el aprendizaje a
 cadémico\, sino también el desarrollo emocional del alumnado\, del profe
 sorado y de las familias”. En este sentido\, subraya que “apostar por 
 la educación emocional es apostar por entornos educativos más empáticos
 ”.\n\nLas principales actividades de marzo tendrán lugar en el Museo Ar
 queológico Benahoarita\, en Los Llanos de Aridane\, con aforo limitado\, 
 por lo que será necesario reservar plaza previamente a través de la cuen
 ta oficial de Instagram del proyecto\, www.instagram.com/emocuidando.\n\n
 Programación\n\nEl programa comenzará el 20 de marzo\, a las 19:30 horas
 \, con el encuentro Creálogos con César Bona\, un espacio de reflexión 
 sobre la educación desde la empatía\, la creatividad y el compromiso soc
 ial\, guiado por uno de los referentes en innovación educativa en España
 .\n\n\n\nAl día siguiente\, el 21 de marzo\, se celebrará la jornada for
 mativa Emocuidando en la Educación\, que se tendrá lugar de 9:00 a 19:30
  horas y reunirá a especialistas como Antonio Rodríguez\, Natalia Valls\
 , Carla Nobuko\, Eva Teba y José María Toro\, quienes abordarán distint
 as perspectivas sobre educación emocional\, creatividad pedagógica y her
 ramientas prácticas para fomentar el bienestar dentro del aula.\n\nLa pro
 gramación continuará el 15 de abril con diferentes acciones en centros e
 ducativos de la isla\, en colaboración con la Consejería de Educación d
 el Gobierno de Canarias\, la Dirección General de Juventud del Ejecutivo 
 autonómico y los ayuntamientos de Los Llanos de Aridane\, Breña Alta\, S
 anta Cruz de La Palma y El Paso.\n\nEntre las iniciativas previstas se enc
 uentran las Abrigadas Emocreativas\, una experiencia en la que participar
 án más de 60 estudiantes de Magisterio de la Universidad de La Laguna y 
 de la Universidad de Las Palmas de Gran Canaria. Durante esta actividad vi
 sitarán diez centros educativos para desarrollar dinámicas con alumnado 
 de 5º y 6º de Primaria\, centradas esta vez en el cuidado emocional haci
 a el profesorado.\n\nAdemás\, se desarrollará el programa Islas de Emocu
 idados\, que propone espacios vivenciales dirigidos a las familias. A trav
 és de tutorías afectivas bajo el título Cómo afrontar las emociones d
 e tus hijos e hijas\, se ofrecerán herramientas para acompañar el desarr
 ollo emocional de niños y niñas desde el ámbito familiar.\n\nCon esta n
 ueva edición\, las Jornadas Emocuidando continúan consolidándose como u
 n espacio de encuentro y reflexión que promueve la cultura del cuidado y 
 el bienestar dentro del ámbito educativo en Canarias.
ATTACH;FMTTYPE=image/jpeg:https://www.larevistadelapalma.com/wp-content/up
 loads/2026/03/Emocuidando.jpeg
CATEGORIES:Formación,Otras propuestas
LOCATION:Museo Arqueológico Benahoarita (MAB)\, Calle Las Adelfas\, Los Ll
 anos de Aridane\, 38760\, España
GEO:28.656757;-17.910203
X-APPLE-STRUCTURED-LOCATION;VALUE=URI;X-ADDRESS=Calle Las Adelfas\, Los Lla
 nos de Aridane\, 38760\, España;X-APPLE-RADIUS=100;X-TITLE=Museo Arqueol
 ógico Benahoarita (MAB):geo:28.656757,-17.910203
END:VEVENT
END:VCALENDARBEGIN:VCALENDAR
VERSION:2.0
PRODID:-//wp-events-plugin.com//7.2.3.1//EN
TZID:Europe/London
X-WR-TIMEZONE:Europe/London
BEGIN:VEVENT
UID:4563@larevistadelapalma.com
DTSTART;VALUE=DATE:20260320
DTEND;VALUE=DATE:20260322
DTSTAMP:20260306T222832Z
URL:https://www.larevistadelapalma.com/events/v-jornadas-emocuidando-para-
 fortalecer-el-bienestar-emocional-en-la-comunidad-educativa/
SUMMARY:V Jornadas Emocuidando para fortalecer el bienestar emocional en la
  comunidad educativa
DESCRIPTION:La iniciativa contará con encuentros formativos\, dinámicas e
 n centros escolares y acciones dirigidas a familias durante los meses de m
 arzo y abril.\n\nEl Cabildo de La Palma\, a través del área de Educació
 n que dirige Susa Armas\, impulsa junto a Sinergias In &amp\; Out las V Jo
 rnadas Emocuidando\, una iniciativa orientada a fomentar el bienestar emoc
 ional dentro de la comunidad educativa. La programación se desarrollará 
 los días 20 y 21 de marzo en el Museo Arqueológico Benahoarita\, en Los 
 Llanos de Aridane\, y continuará el 15 de abril con actividades en distin
 tos centros educativos de la isla.\n\nLa consejera de Educación del Cabil
 do de La Palma\, Susa Armas\, destaca que estas jornadas permiten seguir a
 vanzando en una educación “que tenga en cuenta no solo el aprendizaje a
 cadémico\, sino también el desarrollo emocional del alumnado\, del profe
 sorado y de las familias”. En este sentido\, subraya que “apostar por 
 la educación emocional es apostar por entornos educativos más empáticos
 ”.\n\nLas principales actividades de marzo tendrán lugar en el Museo Ar
 queológico Benahoarita\, en Los Llanos de Aridane\, con aforo limitado\, 
 por lo que será necesario reservar plaza previamente a través de la cuen
 ta oficial de Instagram del proyecto\, www.instagram.com/emocuidando.\n\n
 Programación\n\nEl programa comenzará el 20 de marzo\, a las 19:30 horas
 \, con el encuentro Creálogos con César Bona\, un espacio de reflexión 
 sobre la educación desde la empatía\, la creatividad y el compromiso soc
 ial\, guiado por uno de los referentes en innovación educativa en España
 .\n\n\n\nAl día siguiente\, el 21 de marzo\, se celebrará la jornada for
 mativa Emocuidando en la Educación\, que se tendrá lugar de 9:00 a 19:30
  horas y reunirá a especialistas como Antonio Rodríguez\, Natalia Valls\
 , Carla Nobuko\, Eva Teba y José María Toro\, quienes abordarán distint
 as perspectivas sobre educación emocional\, creatividad pedagógica y her
 ramientas prácticas para fomentar el bienestar dentro del aula.\n\nLa pro
 gramación continuará el 15 de abril con diferentes acciones en centros e
 ducativos de la isla\, en colaboración con la Consejería de Educación d
 el Gobierno de Canarias\, la Dirección General de Juventud del Ejecutivo 
 autonómico y los ayuntamientos de Los Llanos de Aridane\, Breña Alta\, S
 anta Cruz de La Palma y El Paso.\n\nEntre las iniciativas previstas se enc
 uentran las Abrigadas Emocreativas\, una experiencia en la que participar
 án más de 60 estudiantes de Magisterio de la Universidad de La Laguna y 
 de la Universidad de Las Palmas de Gran Canaria. Durante esta actividad vi
 sitarán diez centros educativos para desarrollar dinámicas con alumnado 
 de 5º y 6º de Primaria\, centradas esta vez en el cuidado emocional haci
 a el profesorado.\n\nAdemás\, se desarrollará el programa Islas de Emocu
 idados\, que propone espacios vivenciales dirigidos a las familias. A trav
 és de tutorías afectivas bajo el título Cómo afrontar las emociones d
 e tus hijos e hijas\, se ofrecerán herramientas para acompañar el desarr
 ollo emocional de niños y niñas desde el ámbito familiar.\n\nCon esta n
 ueva edición\, las Jornadas Emocuidando continúan consolidándose como u
 n espacio de encuentro y reflexión que promueve la cultura del cuidado y 
 el bienestar dentro del ámbito educativo en Canarias.
ATTACH;FMTTYPE=image/jpeg:https://www.larevistadelapalma.com/wp-content/up
 loads/2026/03/Emocuidando.jpeg
CATEGORIES:Formación,Otras propuestas
LOCATION:Museo Arqueológico Benahoarita (MAB)\, Calle Las Adelfas\, Los Ll
 anos de Aridane\, 38760\, España
GEO:28.656757;-17.910203
X-APPLE-STRUCTURED-LOCATION;VALUE=URI;X-ADDRESS=Calle Las Adelfas\, Los Lla
 nos de Aridane\, 38760\, España;X-APPLE-RADIUS=100;X-TITLE=Museo Arqueol
 ógico Benahoarita (MAB):geo:28.656757,-17.910203
END:VEVENT
END:VCALENDAR