BEGIN:VCALENDAR
VERSION:2.0
PRODID:-//wp-events-plugin.com//7.2.3.1//EN
TZID:Europe/London
X-WR-TIMEZONE:Europe/London
BEGIN:VEVENT
UID:119@larevistadelapalma.com
DTSTART:20230704T190000Z
DTEND:20230704T203000Z
DTSTAMP:20230630T233305Z
URL:https://www.larevistadelapalma.com/events/vaga-y-maleanta-kiki-morgan-
 la-palma/
SUMMARY:Vaga y Maleanta: Cabaret gamberro con Kiki Morgan en el Teatro Chic
 o
DESCRIPTION:Un cabaret clandestino\, ácido y gamberro que conmemora el 45 
 aniversario de despenalización de la homosexualidad en España.\nUn espec
 táculo cómico\, fresco y comprometido creado a partir de historias y tes
 timonios reales.
ATTACH;FMTTYPE=image/jpeg:https://www.larevistadelapalma.com/wp-content/up
 loads/2023/06/Vaga-y-maleanta-kiki-Morgan.jpg
CATEGORIES:Espectáculos,Teatro
LOCATION:Teatro Chico\, Calle Díaz Pimienta\, 1\, Santa Cruz De La Palma\,
  Santa Cruz de Tenerife\, 38700\, España
GEO:28.68432;-17.764225
X-APPLE-STRUCTURED-LOCATION;VALUE=URI;X-ADDRESS=Calle Díaz Pimienta\, 1\, 
 Santa Cruz De La Palma\, Santa Cruz de Tenerife\, 38700\, España;X-APPLE-
 RADIUS=100;X-TITLE=Teatro Chico:geo:28.68432,-17.764225
END:VEVENT
END:VCALENDARBEGIN:VCALENDAR
VERSION:2.0
PRODID:-//wp-events-plugin.com//7.2.3.1//EN
TZID:Europe/London
X-WR-TIMEZONE:Europe/London
BEGIN:VEVENT
UID:119@larevistadelapalma.com
DTSTART:20230704T190000Z
DTEND:20230704T203000Z
DTSTAMP:20230630T233305Z
URL:https://www.larevistadelapalma.com/events/vaga-y-maleanta-kiki-morgan-
 la-palma/
SUMMARY:Vaga y Maleanta: Cabaret gamberro con Kiki Morgan en el Teatro Chic
 o
DESCRIPTION:Un cabaret clandestino\, ácido y gamberro que conmemora el 45 
 aniversario de despenalización de la homosexualidad en España.\nUn espec
 táculo cómico\, fresco y comprometido creado a partir de historias y tes
 timonios reales.
ATTACH;FMTTYPE=image/jpeg:https://www.larevistadelapalma.com/wp-content/up
 loads/2023/06/Vaga-y-maleanta-kiki-Morgan.jpg
CATEGORIES:Espectáculos,Teatro
LOCATION:Teatro Chico\, Calle Díaz Pimienta\, 1\, Santa Cruz De La Palma\,
  Santa Cruz de Tenerife\, 38700\, España
GEO:28.68432;-17.764225
X-APPLE-STRUCTURED-LOCATION;VALUE=URI;X-ADDRESS=Calle Díaz Pimienta\, 1\, 
 Santa Cruz De La Palma\, Santa Cruz de Tenerife\, 38700\, España;X-APPLE-
 RADIUS=100;X-TITLE=Teatro Chico:geo:28.68432,-17.764225
END:VEVENT
END:VCALENDAR