BEGIN:VCALENDAR
VERSION:2.0
PRODID:-//wp-events-plugin.com//7.2.3.1//EN
TZID:Europe/London
X-WR-TIMEZONE:Europe/London
BEGIN:VEVENT
UID:3252@larevistadelapalma.com
DTSTART:20241020T193000Z
DTEND:20241020T210000Z
DTSTAMP:20241014T162331Z
URL:https://www.larevistadelapalma.com/events/valeria-castro-la-palma/
SUMMARY:Valeria Castro en concierto en La Palma
DESCRIPTION:Estará en su Isla el próximo mes de octubre\, con el fin de l
 a gira de su segundo trabajo discográfico "con cariño y con cuidado".\nL
 as cuatro últimas fechas de la gira de la cantautora palmera incluyen Le
 ón\, Madrid\, Paris\, y como no podía ser de otra manera\, La Palma.\n"E
 ste disco nació de mi tierra\, de La Palma y tenía que acabar aquí\, en
  mi pueblo\, para toda mi gente"\nEn relativamente poco tiempo\, Valeria h
 a conseguido consolidarse en el mundo artístico y ser reconocida en la in
 dustria musical. En 2023 fue nominada a los premios Latin Grammy en la cat
 egoría Mejor Canción de Cantautor por "La raíz"\, y este año\, volvió
  a ser nominada de nuevo a los Latin Grammy con la canción 'La ceniza' i
 nterpretada con Ale Acosta. Siguió con su trayectoria ascendente con una 
 nominación a Los Premios Goya\, junto al grupo Vetusta Morla por El amor 
 de Andrea\, tema principal de la película del mismo nombre. Además\, tam
 bién este 2024\, el Gobierno de Canarias le ha otorgado una de las 13 med
 allas de oro \, en este caso por su aportación a la cultura musical.\n\n&
 nbsp\;\n\n
ATTACH;FMTTYPE=image/jpeg:https://www.larevistadelapalma.com/wp-content/up
 loads/2024/09/Valeria-Castro-Los-Llanos.jpg
CATEGORIES:Conciertos,Música
LOCATION:Plaza de España en Los Llanos de Aridane\, Plaza de España\, Los
  Llanos de Aridane\, 38760\, España
GEO:28.658934;-17.913174
X-APPLE-STRUCTURED-LOCATION;VALUE=URI;X-ADDRESS=Plaza de España\, Los Llan
 os de Aridane\, 38760\, España;X-APPLE-RADIUS=100;X-TITLE=Plaza de Españ
 a en Los Llanos de Aridane:geo:28.658934,-17.913174
END:VEVENT
END:VCALENDARBEGIN:VCALENDAR
VERSION:2.0
PRODID:-//wp-events-plugin.com//7.2.3.1//EN
TZID:Europe/London
X-WR-TIMEZONE:Europe/London
BEGIN:VEVENT
UID:3252@larevistadelapalma.com
DTSTART:20241020T193000Z
DTEND:20241020T210000Z
DTSTAMP:20241014T162331Z
URL:https://www.larevistadelapalma.com/events/valeria-castro-la-palma/
SUMMARY:Valeria Castro en concierto en La Palma
DESCRIPTION:Estará en su Isla el próximo mes de octubre\, con el fin de l
 a gira de su segundo trabajo discográfico "con cariño y con cuidado".\nL
 as cuatro últimas fechas de la gira de la cantautora palmera incluyen Le
 ón\, Madrid\, Paris\, y como no podía ser de otra manera\, La Palma.\n"E
 ste disco nació de mi tierra\, de La Palma y tenía que acabar aquí\, en
  mi pueblo\, para toda mi gente"\nEn relativamente poco tiempo\, Valeria h
 a conseguido consolidarse en el mundo artístico y ser reconocida en la in
 dustria musical. En 2023 fue nominada a los premios Latin Grammy en la cat
 egoría Mejor Canción de Cantautor por "La raíz"\, y este año\, volvió
  a ser nominada de nuevo a los Latin Grammy con la canción 'La ceniza' i
 nterpretada con Ale Acosta. Siguió con su trayectoria ascendente con una 
 nominación a Los Premios Goya\, junto al grupo Vetusta Morla por El amor 
 de Andrea\, tema principal de la película del mismo nombre. Además\, tam
 bién este 2024\, el Gobierno de Canarias le ha otorgado una de las 13 med
 allas de oro \, en este caso por su aportación a la cultura musical.\n\n&
 nbsp\;\n\n
ATTACH;FMTTYPE=image/jpeg:https://www.larevistadelapalma.com/wp-content/up
 loads/2024/09/Valeria-Castro-Los-Llanos.jpg
CATEGORIES:Conciertos,Música
LOCATION:Plaza de España en Los Llanos de Aridane\, Plaza de España\, Los
  Llanos de Aridane\, 38760\, España
GEO:28.658934;-17.913174
X-APPLE-STRUCTURED-LOCATION;VALUE=URI;X-ADDRESS=Plaza de España\, Los Llan
 os de Aridane\, 38760\, España;X-APPLE-RADIUS=100;X-TITLE=Plaza de Españ
 a en Los Llanos de Aridane:geo:28.658934,-17.913174
END:VEVENT
END:VCALENDAR