BEGIN:VCALENDAR
VERSION:2.0
PRODID:-//wp-events-plugin.com//7.2.3.1//EN
TZID:Europe/London
X-WR-TIMEZONE:Europe/London
BEGIN:VEVENT
UID:3530@larevistadelapalma.com
DTSTART:20250131T190000Z
DTEND:20250131T203000Z
DTSTAMP:20241221T165612Z
URL:https://www.larevistadelapalma.com/events/veladas-canarias-trae-a-la-p
 alma-el-tributo-a-ludovico-einaudi/
SUMMARY:Veladas Canarias trae a la Palma el Tributo a Ludovico Einaudi
DESCRIPTION:Veladas Canarias es una experiencia musical y sensorial que en
  esta ocasión\, nos invita a disfrutar del recital del pianista Rafael Mo
 ntalvo Alonso que rendirá tributo al músico y compositor italiano Ludovi
 co Einaudi repasando sus obras más impresionantes en un ambiente íntimo\
 , acogedor y a la luz cálida de las velas. Un evento que promete ser  un
 a experiencia sensorial única.\n"Deseando volver a mi isla bonita (La Pal
 ma)\, la que me vio crecer como pianista y en la que me sentí como en cas
 a desde el día que llegué por su gente maravillosa. Será una noche muy 
 especial\, emotiva y llena de recuerdos que me trae una isla que llevo tat
 uada en mi brazo y en mi corazón."\nRafael Montalvo Alonso.\n\nEl italian
 o Ludovico Einaudi\, nacido en Turín en 1955 es el artista de música cl
 ásica con mayor cantidad de streams en la historia. Encabezando las list
 as de música clásica\, sus creaciones “Una mattina” y “Divenire”
  ingresaron en las listas pop\, en un hecho sin precedentes.\n&nbsp\;\nCom
 prar entradas &gt\;&gt\;\n\n\n\n\n&nbsp\;\n\n\n\n\n\n\n\n\n\n\nVer esta pu
 blicación en Instagram\n\n\n\n\n\n\n\n\n\n\n\n\n\n\n\n\n\n\n\n\n\n\n&nbsp
 \;\nUna publicación compartida de Rafael Montalvo Alonso (@rafamontalvo85
 piano)\n\n\n
ATTACH;FMTTYPE=image/jpeg:https://www.larevistadelapalma.com/wp-content/up
 loads/2024/12/Rafael-Montalvo-concierto-en-Galdar.jpg
CATEGORIES:Conciertos,Música
LOCATION:Teatro Circo de Marte\, Calle Virgen de La Luz\, 5\, Santa Cruz de
  La Palma\, 38700\, España
GEO:28.682989;-17.765755
X-APPLE-STRUCTURED-LOCATION;VALUE=URI;X-ADDRESS=Calle Virgen de La Luz\, 5\
 , Santa Cruz de La Palma\, 38700\, España;X-APPLE-RADIUS=100;X-TITLE=Teat
 ro Circo de Marte:geo:28.682989,-17.765755
END:VEVENT
END:VCALENDARBEGIN:VCALENDAR
VERSION:2.0
PRODID:-//wp-events-plugin.com//7.2.3.1//EN
TZID:Europe/London
X-WR-TIMEZONE:Europe/London
BEGIN:VEVENT
UID:3530@larevistadelapalma.com
DTSTART:20250131T190000Z
DTEND:20250131T203000Z
DTSTAMP:20241221T165612Z
URL:https://www.larevistadelapalma.com/events/veladas-canarias-trae-a-la-p
 alma-el-tributo-a-ludovico-einaudi/
SUMMARY:Veladas Canarias trae a la Palma el Tributo a Ludovico Einaudi
DESCRIPTION:Veladas Canarias es una experiencia musical y sensorial que en
  esta ocasión\, nos invita a disfrutar del recital del pianista Rafael Mo
 ntalvo Alonso que rendirá tributo al músico y compositor italiano Ludovi
 co Einaudi repasando sus obras más impresionantes en un ambiente íntimo\
 , acogedor y a la luz cálida de las velas. Un evento que promete ser  un
 a experiencia sensorial única.\n"Deseando volver a mi isla bonita (La Pal
 ma)\, la que me vio crecer como pianista y en la que me sentí como en cas
 a desde el día que llegué por su gente maravillosa. Será una noche muy 
 especial\, emotiva y llena de recuerdos que me trae una isla que llevo tat
 uada en mi brazo y en mi corazón."\nRafael Montalvo Alonso.\n\nEl italian
 o Ludovico Einaudi\, nacido en Turín en 1955 es el artista de música cl
 ásica con mayor cantidad de streams en la historia. Encabezando las list
 as de música clásica\, sus creaciones “Una mattina” y “Divenire”
  ingresaron en las listas pop\, en un hecho sin precedentes.\n&nbsp\;\nCom
 prar entradas &gt\;&gt\;\n\n\n\n\n&nbsp\;\n\n\n\n\n\n\n\n\n\n\nVer esta pu
 blicación en Instagram\n\n\n\n\n\n\n\n\n\n\n\n\n\n\n\n\n\n\n\n\n\n\n&nbsp
 \;\nUna publicación compartida de Rafael Montalvo Alonso (@rafamontalvo85
 piano)\n\n\n
ATTACH;FMTTYPE=image/jpeg:https://www.larevistadelapalma.com/wp-content/up
 loads/2024/12/Rafael-Montalvo-concierto-en-Galdar.jpg
CATEGORIES:Conciertos,Música
LOCATION:Teatro Circo de Marte\, Calle Virgen de La Luz\, 5\, Santa Cruz de
  La Palma\, 38700\, España
GEO:28.682989;-17.765755
X-APPLE-STRUCTURED-LOCATION;VALUE=URI;X-ADDRESS=Calle Virgen de La Luz\, 5\
 , Santa Cruz de La Palma\, 38700\, España;X-APPLE-RADIUS=100;X-TITLE=Teat
 ro Circo de Marte:geo:28.682989,-17.765755
END:VEVENT
END:VCALENDAR