BEGIN:VCALENDAR
VERSION:2.0
PRODID:-//wp-events-plugin.com//7.2.3.1//EN
TZID:Europe/London
X-WR-TIMEZONE:Europe/London
BEGIN:VEVENT
UID:2938@larevistadelapalma.com
DTSTART:20240419T183000Z
DTEND:20240419T200000Z
DTSTAMP:20240418T102727Z
URL:https://www.larevistadelapalma.com/events/vengo-de-la-escuela-y-soy-mu
 sica/
SUMMARY:Isora Castilla presenta "Vengo de la Escuela y soy música"
DESCRIPTION:Dos conferencias con música y sobre música en La Palma.\nExal
 umnos de la Escuela Insular de Música Eim De La Palma\, comparten la expe
 riencia de sus años de formación\, el camino que siguieron en sus estudi
 os superiores y cómo se han desarrollado profesionalmente.\n\nEn esta oca
 sión\, el viernes 19 en Santa Cruz de La Palma y el lunes 22\, en Los Lla
 nos de Aridane\, Isora Castilla contará sus experiencias\, anécdotas\, t
 ocará un poquito\, y traerá a una invitada especial\, con la que le enca
 nta tocar desde que era una chiquilla: Ima Galguén.\n\nEntrada libre.
ATTACH;FMTTYPE=image/jpeg:https://www.larevistadelapalma.com/wp-content/up
 loads/2024/04/Conferencia-Isora-C.jpg
CATEGORIES:Formación,Otras propuestas
LOCATION:Real Club Náutico de Santa Cruz de La Palma (Sede Social)\, C. An
 selmo Pérez de Brito\, 9\, Santa Cruz De La Palma\, 38700\, España
GEO:28.684073;-17.764222
X-APPLE-STRUCTURED-LOCATION;VALUE=URI;X-ADDRESS=C. Anselmo Pérez de Brito\
 , 9\, Santa Cruz De La Palma\, 38700\, España;X-APPLE-RADIUS=100;X-TITLE=
 Real Club Náutico de Santa Cruz de La Palma (Sede Social):geo:28.684073,-
 17.764222
END:VEVENT
END:VCALENDARBEGIN:VCALENDAR
VERSION:2.0
PRODID:-//wp-events-plugin.com//7.2.3.1//EN
TZID:Europe/London
X-WR-TIMEZONE:Europe/London
BEGIN:VEVENT
UID:2938@larevistadelapalma.com
DTSTART:20240419T183000Z
DTEND:20240419T200000Z
DTSTAMP:20240418T102727Z
URL:https://www.larevistadelapalma.com/events/vengo-de-la-escuela-y-soy-mu
 sica/
SUMMARY:Isora Castilla presenta "Vengo de la Escuela y soy música"
DESCRIPTION:Dos conferencias con música y sobre música en La Palma.\nExal
 umnos de la Escuela Insular de Música Eim De La Palma\, comparten la expe
 riencia de sus años de formación\, el camino que siguieron en sus estudi
 os superiores y cómo se han desarrollado profesionalmente.\n\nEn esta oca
 sión\, el viernes 19 en Santa Cruz de La Palma y el lunes 22\, en Los Lla
 nos de Aridane\, Isora Castilla contará sus experiencias\, anécdotas\, t
 ocará un poquito\, y traerá a una invitada especial\, con la que le enca
 nta tocar desde que era una chiquilla: Ima Galguén.\n\nEntrada libre.
ATTACH;FMTTYPE=image/jpeg:https://www.larevistadelapalma.com/wp-content/up
 loads/2024/04/Conferencia-Isora-C.jpg
CATEGORIES:Formación,Otras propuestas
LOCATION:Real Club Náutico de Santa Cruz de La Palma (Sede Social)\, C. An
 selmo Pérez de Brito\, 9\, Santa Cruz De La Palma\, 38700\, España
GEO:28.684073;-17.764222
X-APPLE-STRUCTURED-LOCATION;VALUE=URI;X-ADDRESS=C. Anselmo Pérez de Brito\
 , 9\, Santa Cruz De La Palma\, 38700\, España;X-APPLE-RADIUS=100;X-TITLE=
 Real Club Náutico de Santa Cruz de La Palma (Sede Social):geo:28.684073,-
 17.764222
END:VEVENT
END:VCALENDAR