BEGIN:VCALENDAR
VERSION:2.0
PRODID:-//wp-events-plugin.com//7.2.3.1//EN
TZID:Europe/London
X-WR-TIMEZONE:Europe/London
BEGIN:VEVENT
UID:2772@larevistadelapalma.com
DTSTART:20240209T170000Z
DTEND:20240209T184500Z
DTSTAMP:20240207T212301Z
URL:https://www.larevistadelapalma.com/events/verbena-infantil-en-fuencali
 ente/
SUMMARY:Verbena infantil en Fuencaliente
DESCRIPTION:\nEn Fuencaliente preparan la primera verbena de las fiestas ca
 rnavaleras\, pero esta vez será para los más pequeños. Una verbena infa
 ntil que se celebrará el próximo viernes\, 9 de febrero\, en el Centro C
 ultural de Los Canarios.\n
ATTACH;FMTTYPE=image/jpeg:https://www.larevistadelapalma.com/wp-content/up
 loads/2024/02/Verbena-infantil.jpg
CATEGORIES:Fiestas populares,Otras propuestas
LOCATION:Centro Cultural de Los Canarios\, Fuencaliente\, C. Venezuela\, 2\
 , Fuencaliente\, 38740\, España
GEO:28.494368;-17.845832
X-APPLE-STRUCTURED-LOCATION;VALUE=URI;X-ADDRESS=C. Venezuela\, 2\, Fuencali
 ente\, 38740\, España;X-APPLE-RADIUS=100;X-TITLE=Centro Cultural de Los C
 anarios\, Fuencaliente:geo:28.494368,-17.845832
END:VEVENT
END:VCALENDARBEGIN:VCALENDAR
VERSION:2.0
PRODID:-//wp-events-plugin.com//7.2.3.1//EN
TZID:Europe/London
X-WR-TIMEZONE:Europe/London
BEGIN:VEVENT
UID:2772@larevistadelapalma.com
DTSTART:20240209T170000Z
DTEND:20240209T184500Z
DTSTAMP:20240207T212301Z
URL:https://www.larevistadelapalma.com/events/verbena-infantil-en-fuencali
 ente/
SUMMARY:Verbena infantil en Fuencaliente
DESCRIPTION:\nEn Fuencaliente preparan la primera verbena de las fiestas ca
 rnavaleras\, pero esta vez será para los más pequeños. Una verbena infa
 ntil que se celebrará el próximo viernes\, 9 de febrero\, en el Centro C
 ultural de Los Canarios.\n
ATTACH;FMTTYPE=image/jpeg:https://www.larevistadelapalma.com/wp-content/up
 loads/2024/02/Verbena-infantil.jpg
CATEGORIES:Fiestas populares,Otras propuestas
LOCATION:Centro Cultural de Los Canarios\, Fuencaliente\, C. Venezuela\, 2\
 , Fuencaliente\, 38740\, España
GEO:28.494368;-17.845832
X-APPLE-STRUCTURED-LOCATION;VALUE=URI;X-ADDRESS=C. Venezuela\, 2\, Fuencali
 ente\, 38740\, España;X-APPLE-RADIUS=100;X-TITLE=Centro Cultural de Los C
 anarios\, Fuencaliente:geo:28.494368,-17.845832
END:VEVENT
END:VCALENDAR