BEGIN:VCALENDAR
VERSION:2.0
PRODID:-//wp-events-plugin.com//7.2.3.1//EN
TZID:Europe/London
X-WR-TIMEZONE:Europe/London
BEGIN:VEVENT
UID:3081@larevistadelapalma.com
DTSTART:20240623T190000Z
DTEND:20240623T225900Z
DTSTAMP:20240618T214356Z
URL:https://www.larevistadelapalma.com/events/verbena-y-hoguera-de-san-jua
 n-en-tazacorte/
SUMMARY:Verbena y hoguera de San Juan en Tazacorte
DESCRIPTION:Verbena con el Grupo Libertad\, y la batucada Badakatum\, danza
  africana y hogueras en la playa.
ATTACH;FMTTYPE=image/jpeg:https://www.larevistadelapalma.com/wp-content/up
 loads/2024/06/Hogueras-San-Juan-Tazacorte.jpg
CATEGORIES:Fiestas populares,Otras propuestas
LOCATION:Puerto de Tazacorte\, Puerto de Tazacorte \, Tazacorte\, 38770\, E
 spaña
GEO:28.642013;-17.944527
X-APPLE-STRUCTURED-LOCATION;VALUE=URI;X-ADDRESS=Puerto de Tazacorte \, Taza
 corte\, 38770\, España;X-APPLE-RADIUS=100;X-TITLE=Puerto de Tazacorte:geo
 :28.642013,-17.944527
END:VEVENT
END:VCALENDARBEGIN:VCALENDAR
VERSION:2.0
PRODID:-//wp-events-plugin.com//7.2.3.1//EN
TZID:Europe/London
X-WR-TIMEZONE:Europe/London
BEGIN:VEVENT
UID:3081@larevistadelapalma.com
DTSTART:20240623T190000Z
DTEND:20240623T225900Z
DTSTAMP:20240618T214356Z
URL:https://www.larevistadelapalma.com/events/verbena-y-hoguera-de-san-jua
 n-en-tazacorte/
SUMMARY:Verbena y hoguera de San Juan en Tazacorte
DESCRIPTION:Verbena con el Grupo Libertad\, y la batucada Badakatum\, danza
  africana y hogueras en la playa.
ATTACH;FMTTYPE=image/jpeg:https://www.larevistadelapalma.com/wp-content/up
 loads/2024/06/Hogueras-San-Juan-Tazacorte.jpg
CATEGORIES:Fiestas populares,Otras propuestas
LOCATION:Puerto de Tazacorte\, Puerto de Tazacorte \, Tazacorte\, 38770\, E
 spaña
GEO:28.642013;-17.944527
X-APPLE-STRUCTURED-LOCATION;VALUE=URI;X-ADDRESS=Puerto de Tazacorte \, Taza
 corte\, 38770\, España;X-APPLE-RADIUS=100;X-TITLE=Puerto de Tazacorte:geo
 :28.642013,-17.944527
END:VEVENT
END:VCALENDAR