BEGIN:VCALENDAR
VERSION:2.0
PRODID:-//wp-events-plugin.com//7.2.3.1//EN
TZID:Europe/London
X-WR-TIMEZONE:Europe/London
BEGIN:VEVENT
UID:3847@larevistadelapalma.com
DTSTART:20250718T110000Z
DTEND:20250718T190000Z
DTSTAMP:20250718T141235Z
URL:https://www.larevistadelapalma.com/events/vi-feria-del-vino-de-santa-c
 ruz-de-la-palma/
SUMMARY:VI Feria del Vino de Santa Cruz de La Palma
DESCRIPTION:Contarán con la selección musical de DMC Selectora (Diana Mir
 anda)\, Moni Loff y Grajasound.\nLa VI Edición de la Fiesta del Vino de S
 anta Cruz de La Palma\, que se celebrará el viernes 18 de julio de 2025\,
  entre las 12:00 y las 20:00 horas\, en la Plaza de la Alameda reunirá a 
 12 bodegas con Denominación de Origen La Palma. \n\nEl evento\, que form
 a parte del calendario oficial de las Fiestas Lustrales 2025\, está organ
 izado conjuntamente por el Consejo Regulador de la Denominación de Origen
  Protegida Vinos La Palma y el Ayuntamiento de Santa Cruz de La Palma. Su 
 objetivo es visibilizar el trabajo del sector vitivinícola insular\, fome
 ntar el consumo responsable y dinamizar la vida social\, comercial y cultu
 ral de la ciudad.\nEstarán las Bodegas Piedra Jurada\, Mil7ochentaynueve\
 , Viñarda\, Aceró\, Tamanca\, Vitega\, Llanos Negros\, Viña Etna\, Vega
 norte\, Mergus\, Carballo\, Teneguía.\nDurante la jornada nos acompañar
 á la música de  DMC Selectora (Diana Miranda)\, Moni Loff y Grajasound.
 \n\n\n\n\n\n
ATTACH;FMTTYPE=image/jpeg:https://www.larevistadelapalma.com/wp-content/up
 loads/2025/06/feria-vinos-santa-cruz-julio.jpg
CATEGORIES:Gastro,Otras propuestas,Varios
LOCATION:Plaza de La Alameda\, Plaza de La Alameda\, Santa Cruz de La Palma
 \, 38700\, España
GEO:28.688148;-17.761123
X-APPLE-STRUCTURED-LOCATION;VALUE=URI;X-ADDRESS=Plaza de La Alameda\, Santa
  Cruz de La Palma\, 38700\, España;X-APPLE-RADIUS=100;X-TITLE=Plaza de La
  Alameda:geo:28.688148,-17.761123
END:VEVENT
END:VCALENDARBEGIN:VCALENDAR
VERSION:2.0
PRODID:-//wp-events-plugin.com//7.2.3.1//EN
TZID:Europe/London
X-WR-TIMEZONE:Europe/London
BEGIN:VEVENT
UID:3847@larevistadelapalma.com
DTSTART:20250718T110000Z
DTEND:20250718T190000Z
DTSTAMP:20250718T141235Z
URL:https://www.larevistadelapalma.com/events/vi-feria-del-vino-de-santa-c
 ruz-de-la-palma/
SUMMARY:VI Feria del Vino de Santa Cruz de La Palma
DESCRIPTION:Contarán con la selección musical de DMC Selectora (Diana Mir
 anda)\, Moni Loff y Grajasound.\nLa VI Edición de la Fiesta del Vino de S
 anta Cruz de La Palma\, que se celebrará el viernes 18 de julio de 2025\,
  entre las 12:00 y las 20:00 horas\, en la Plaza de la Alameda reunirá a 
 12 bodegas con Denominación de Origen La Palma. \n\nEl evento\, que form
 a parte del calendario oficial de las Fiestas Lustrales 2025\, está organ
 izado conjuntamente por el Consejo Regulador de la Denominación de Origen
  Protegida Vinos La Palma y el Ayuntamiento de Santa Cruz de La Palma. Su 
 objetivo es visibilizar el trabajo del sector vitivinícola insular\, fome
 ntar el consumo responsable y dinamizar la vida social\, comercial y cultu
 ral de la ciudad.\nEstarán las Bodegas Piedra Jurada\, Mil7ochentaynueve\
 , Viñarda\, Aceró\, Tamanca\, Vitega\, Llanos Negros\, Viña Etna\, Vega
 norte\, Mergus\, Carballo\, Teneguía.\nDurante la jornada nos acompañar
 á la música de  DMC Selectora (Diana Miranda)\, Moni Loff y Grajasound.
 \n\n\n\n\n\n
ATTACH;FMTTYPE=image/jpeg:https://www.larevistadelapalma.com/wp-content/up
 loads/2025/06/feria-vinos-santa-cruz-julio.jpg
CATEGORIES:Gastro,Otras propuestas,Varios
LOCATION:Plaza de La Alameda\, Plaza de La Alameda\, Santa Cruz de La Palma
 \, 38700\, España
GEO:28.688148;-17.761123
X-APPLE-STRUCTURED-LOCATION;VALUE=URI;X-ADDRESS=Plaza de La Alameda\, Santa
  Cruz de La Palma\, 38700\, España;X-APPLE-RADIUS=100;X-TITLE=Plaza de La
  Alameda:geo:28.688148,-17.761123
END:VEVENT
END:VCALENDAR