BEGIN:VCALENDAR
VERSION:2.0
PRODID:-//wp-events-plugin.com//7.2.3.1//EN
TZID:Europe/London
X-WR-TIMEZONE:Europe/London
BEGIN:VEVENT
UID:3328@larevistadelapalma.com
DTSTART:20241018T190000Z
DTEND:20241018T203000Z
DTSTAMP:20241016T182528Z
URL:https://www.larevistadelapalma.com/events/victor-alamo-presenta-la-pan
 dilla-del-mero-pancho/
SUMMARY:Víctor Álamo presenta su novela “La pandilla del mero Pancho”
DESCRIPTION:El escritor tinerfeño Víctor Álamo de La Rosa presentará su
  libro «La pandilla del mero Pancho» en el marco de las Noches de Sal. M
 iguel Ángel Vilariño amenizará el evento con su violonchelo.\n\n“La p
 andilla del mero Pancho” vive en La Restinga\, una población al sur de 
 El Hierro\, recrea las aventuras más trepidantes de un grupo de jóvenes\
 , viviendo situaciones límite junto a unos fantasmas que rememoran las le
 yendas guanches. Un lugar donde todo es corto\, menos el inmenso océano\;
  donde todo se sabe casi antes de que ocurra y el tiempo nunca tiene prisa
 . ...Víctor Álamo de la Rosa\, nació en el año lunar de 1969 (S/C Tfe)
 \, quizás por eso su vida transcurre entre dos islas canarias\, El Hierro
  y Tenerife. Licenciado en Filología Hispanica (1994\, ULL). Profesor\, e
 scritor\,… su obra literaria es amplia\, variada\, fascinante\, sin mied
 o a los géneros literarios: diez novelas\, cinco poemarios\, dos libros d
 e relatos\, ensayos\, artículos. Tocar todos los palos es cosa suya. Trad
 ucido a muchos idiomas\, incluido el croata\, su trayectoria está jalonad
 a de premios literarios. Un abismo sin brújula.\n\nLas Noches de Sal\, se
  empezaron a promover en el año 2018 por parte del Ayuntamiento de Breña
  Baja. Estos encuentros literarios se pusieron en marcha con el objetivo d
 e dar visibilidad y apoyo a artistas palmeros y canarios. En cada presenta
 ción\, además de los autores de las obras\, se cuenta con poetas y liter
 arios locales que colaboran recitando y\, por último\, se cuenta con acom
 pañamiento musical que dan un toque mas agradable al evento.\n\n
ATTACH;FMTTYPE=image/jpeg:https://www.larevistadelapalma.com/wp-content/up
 loads/2024/10/NochesSal-24-VictorAlamo-Cartel.jpg
CATEGORIES:Cine y Literatura,Literatura
LOCATION:Antiguas Salinas de Los Cancajos\, P.º del litoral\, Breña Baja\
 , 38712\, España
GEO:28.650095;-17.75849
X-APPLE-STRUCTURED-LOCATION;VALUE=URI;X-ADDRESS=P.º del litoral\, Breña B
 aja\, 38712\, España;X-APPLE-RADIUS=100;X-TITLE=Antiguas Salinas de Los C
 ancajos:geo:28.650095,-17.75849
END:VEVENT
END:VCALENDARBEGIN:VCALENDAR
VERSION:2.0
PRODID:-//wp-events-plugin.com//7.2.3.1//EN
TZID:Europe/London
X-WR-TIMEZONE:Europe/London
BEGIN:VEVENT
UID:3328@larevistadelapalma.com
DTSTART:20241018T190000Z
DTEND:20241018T203000Z
DTSTAMP:20241016T182528Z
URL:https://www.larevistadelapalma.com/events/victor-alamo-presenta-la-pan
 dilla-del-mero-pancho/
SUMMARY:Víctor Álamo presenta su novela “La pandilla del mero Pancho”
DESCRIPTION:El escritor tinerfeño Víctor Álamo de La Rosa presentará su
  libro «La pandilla del mero Pancho» en el marco de las Noches de Sal. M
 iguel Ángel Vilariño amenizará el evento con su violonchelo.\n\n“La p
 andilla del mero Pancho” vive en La Restinga\, una población al sur de 
 El Hierro\, recrea las aventuras más trepidantes de un grupo de jóvenes\
 , viviendo situaciones límite junto a unos fantasmas que rememoran las le
 yendas guanches. Un lugar donde todo es corto\, menos el inmenso océano\;
  donde todo se sabe casi antes de que ocurra y el tiempo nunca tiene prisa
 . ...Víctor Álamo de la Rosa\, nació en el año lunar de 1969 (S/C Tfe)
 \, quizás por eso su vida transcurre entre dos islas canarias\, El Hierro
  y Tenerife. Licenciado en Filología Hispanica (1994\, ULL). Profesor\, e
 scritor\,… su obra literaria es amplia\, variada\, fascinante\, sin mied
 o a los géneros literarios: diez novelas\, cinco poemarios\, dos libros d
 e relatos\, ensayos\, artículos. Tocar todos los palos es cosa suya. Trad
 ucido a muchos idiomas\, incluido el croata\, su trayectoria está jalonad
 a de premios literarios. Un abismo sin brújula.\n\nLas Noches de Sal\, se
  empezaron a promover en el año 2018 por parte del Ayuntamiento de Breña
  Baja. Estos encuentros literarios se pusieron en marcha con el objetivo d
 e dar visibilidad y apoyo a artistas palmeros y canarios. En cada presenta
 ción\, además de los autores de las obras\, se cuenta con poetas y liter
 arios locales que colaboran recitando y\, por último\, se cuenta con acom
 pañamiento musical que dan un toque mas agradable al evento.\n\n
ATTACH;FMTTYPE=image/jpeg:https://www.larevistadelapalma.com/wp-content/up
 loads/2024/10/NochesSal-24-VictorAlamo-Cartel.jpg
CATEGORIES:Cine y Literatura,Literatura
LOCATION:Antiguas Salinas de Los Cancajos\, P.º del litoral\, Breña Baja\
 , 38712\, España
GEO:28.650095;-17.75849
X-APPLE-STRUCTURED-LOCATION;VALUE=URI;X-ADDRESS=P.º del litoral\, Breña B
 aja\, 38712\, España;X-APPLE-RADIUS=100;X-TITLE=Antiguas Salinas de Los C
 ancajos:geo:28.650095,-17.75849
END:VEVENT
END:VCALENDAR