BEGIN:VCALENDAR
VERSION:2.0
PRODID:-//wp-events-plugin.com//7.2.3.1//EN
TZID:Europe/London
X-WR-TIMEZONE:Europe/London
BEGIN:VEVENT
UID:3892@larevistadelapalma.com
DTSTART:20250729T210000Z
DTEND:20250729T220000Z
DTSTAMP:20250723T204154Z
URL:https://www.larevistadelapalma.com/events/video-mapping-conmemorativo-
 de-la-bajada-de-la-virgen/
SUMMARY:Video mapping conmemorativo de la Bajada de la Virgen
DESCRIPTION:\nProyectan un video mapping conmemorativo de la Bajada de la V
 irgen en el Museo Insular. El acceso será gratuito hasta completar aforo.
 \n El video mapping en el Museo Insular reúne los actos más destacados 
 de la Bajada de la Virgen de las Nieves. La pieza ha sido realizada por e
 l alumnado del Ciclo Superior de Gráfica Audiovisual de la  Escuela de A
 rte Manolo Blahnik\, en colaboración con el Museo Insular de La Palma del
  que surge la iniciativa para llevarlo a cabo.\n\nEste proyecto audiovisua
 l comenzó a desarrollarse en el mes de enero y se prolongó hasta junio\,
  siguiendo una planificación que asignó a cada mes el trabajo creativo s
 obre diferentes actos de la Bajada.\n\nAsí\, el grupo de estudiantes abor
 dó visualmente los eventos más representativos que tenían lugar en ese 
 periodo\, generando contenidos que reflejan la riqueza\, diversidad y emoc
 ión de la fiesta.\n\nDesde el equipo docente de la Escuela de Arte\, se d
 estaca que “esta es una oportunidad  maravillosa de mostrar el talento 
 y el trabajo que realiza nuestro alumnado en la escuela y ponerlo al servi
 cio de honrar esta fiesta que nos une a todos los palmeros cada cinco año
 s”. Asimismo\, destacan “el agradecimiento hacia el Museo Insular por 
 contar con nuestro centro para materializar esta iniciativa\, así como al
  área de Cultura y Patrimonio Histórico del Cabildo de La Palma”.\n\n 
 	Estamos seguros de que todos saben lo que es un video mapping\, pero\, po
 r si no es así: El video mapping\, es una proyección arquitectónica\, u
 na técnica visual que utiliza proyectores para transformar superficies co
 mo edificios\, esculturas o cualquier objeto tridimensional en pantallas d
 inámicas.\n\n
ATTACH;FMTTYPE=image/jpeg:https://www.larevistadelapalma.com/wp-content/up
 loads/2025/07/video-mappoing.jpg
CATEGORIES:Otras propuestas,Varios
LOCATION:Museo Insular de La Palma\, Plaza de San Francisco\, 3\, Santa Cru
 z de La Palma\, 38700\, España
GEO:28.687;-17.762092
X-APPLE-STRUCTURED-LOCATION;VALUE=URI;X-ADDRESS=Plaza de San Francisco\, 3\
 , Santa Cruz de La Palma\, 38700\, España;X-APPLE-RADIUS=100;X-TITLE=Muse
 o Insular de La Palma:geo:28.687,-17.762092
END:VEVENT
END:VCALENDARBEGIN:VCALENDAR
VERSION:2.0
PRODID:-//wp-events-plugin.com//7.2.3.1//EN
TZID:Europe/London
X-WR-TIMEZONE:Europe/London
BEGIN:VEVENT
UID:3892@larevistadelapalma.com
DTSTART:20250729T210000Z
DTEND:20250729T220000Z
DTSTAMP:20250723T204154Z
URL:https://www.larevistadelapalma.com/events/video-mapping-conmemorativo-
 de-la-bajada-de-la-virgen/
SUMMARY:Video mapping conmemorativo de la Bajada de la Virgen
DESCRIPTION:\nProyectan un video mapping conmemorativo de la Bajada de la V
 irgen en el Museo Insular. El acceso será gratuito hasta completar aforo.
 \n El video mapping en el Museo Insular reúne los actos más destacados 
 de la Bajada de la Virgen de las Nieves. La pieza ha sido realizada por e
 l alumnado del Ciclo Superior de Gráfica Audiovisual de la  Escuela de A
 rte Manolo Blahnik\, en colaboración con el Museo Insular de La Palma del
  que surge la iniciativa para llevarlo a cabo.\n\nEste proyecto audiovisua
 l comenzó a desarrollarse en el mes de enero y se prolongó hasta junio\,
  siguiendo una planificación que asignó a cada mes el trabajo creativo s
 obre diferentes actos de la Bajada.\n\nAsí\, el grupo de estudiantes abor
 dó visualmente los eventos más representativos que tenían lugar en ese 
 periodo\, generando contenidos que reflejan la riqueza\, diversidad y emoc
 ión de la fiesta.\n\nDesde el equipo docente de la Escuela de Arte\, se d
 estaca que “esta es una oportunidad  maravillosa de mostrar el talento 
 y el trabajo que realiza nuestro alumnado en la escuela y ponerlo al servi
 cio de honrar esta fiesta que nos une a todos los palmeros cada cinco año
 s”. Asimismo\, destacan “el agradecimiento hacia el Museo Insular por 
 contar con nuestro centro para materializar esta iniciativa\, así como al
  área de Cultura y Patrimonio Histórico del Cabildo de La Palma”.\n\n 
 	Estamos seguros de que todos saben lo que es un video mapping\, pero\, po
 r si no es así: El video mapping\, es una proyección arquitectónica\, u
 na técnica visual que utiliza proyectores para transformar superficies co
 mo edificios\, esculturas o cualquier objeto tridimensional en pantallas d
 inámicas.\n\n
ATTACH;FMTTYPE=image/jpeg:https://www.larevistadelapalma.com/wp-content/up
 loads/2025/07/video-mappoing.jpg
CATEGORIES:Otras propuestas,Varios
LOCATION:Museo Insular de La Palma\, Plaza de San Francisco\, 3\, Santa Cru
 z de La Palma\, 38700\, España
GEO:28.687;-17.762092
X-APPLE-STRUCTURED-LOCATION;VALUE=URI;X-ADDRESS=Plaza de San Francisco\, 3\
 , Santa Cruz de La Palma\, 38700\, España;X-APPLE-RADIUS=100;X-TITLE=Muse
 o Insular de La Palma:geo:28.687,-17.762092
END:VEVENT
END:VCALENDAR