BEGIN:VCALENDAR
VERSION:2.0
PRODID:-//wp-events-plugin.com//7.2.3.1//EN
TZID:Europe/London
X-WR-TIMEZONE:Europe/London
BEGIN:VEVENT
UID:3871@larevistadelapalma.com
DTSTART:20250711T190000Z
DTEND:20250711T224500Z
DTSTAMP:20250709T213440Z
URL:https://www.larevistadelapalma.com/events/viernes-en-el-ocean-drive/
SUMMARY:Viernes en el Ocean Drive
DESCRIPTION:¡Viernes del verano en Puerto Naos! \nEn el Kiosco Ocean Drive
  desde las 20:00h con los Djs más jovenzuelos del valle\, Grajasound\, El
 vira y Dj Zapi. 
ATTACH;FMTTYPE=image/jpeg:https://www.larevistadelapalma.com/wp-content/up
 loads/2025/07/kiosco-Ocean-Drive-viernes.jpg
CATEGORIES:Festivales/Fiestas,Música
LOCATION:Playa de Puerto Naos\, Puerto Naos\, Los Llanos de Aridane \, 3876
 9\, España
GEO:28.587524;-17.910531
X-APPLE-STRUCTURED-LOCATION;VALUE=URI;X-ADDRESS=Puerto Naos\, Los Llanos de
  Aridane \, 38769\, España;X-APPLE-RADIUS=100;X-TITLE=Playa de Puerto Nao
 s:geo:28.587524,-17.910531
END:VEVENT
END:VCALENDARBEGIN:VCALENDAR
VERSION:2.0
PRODID:-//wp-events-plugin.com//7.2.3.1//EN
TZID:Europe/London
X-WR-TIMEZONE:Europe/London
BEGIN:VEVENT
UID:3871@larevistadelapalma.com
DTSTART:20250711T190000Z
DTEND:20250711T224500Z
DTSTAMP:20250709T213440Z
URL:https://www.larevistadelapalma.com/events/viernes-en-el-ocean-drive/
SUMMARY:Viernes en el Ocean Drive
DESCRIPTION:¡Viernes del verano en Puerto Naos! \nEn el Kiosco Ocean Drive
  desde las 20:00h con los Djs más jovenzuelos del valle\, Grajasound\, El
 vira y Dj Zapi. 
ATTACH;FMTTYPE=image/jpeg:https://www.larevistadelapalma.com/wp-content/up
 loads/2025/07/kiosco-Ocean-Drive-viernes.jpg
CATEGORIES:Festivales/Fiestas,Música
LOCATION:Playa de Puerto Naos\, Puerto Naos\, Los Llanos de Aridane \, 3876
 9\, España
GEO:28.587524;-17.910531
X-APPLE-STRUCTURED-LOCATION;VALUE=URI;X-ADDRESS=Puerto Naos\, Los Llanos de
  Aridane \, 38769\, España;X-APPLE-RADIUS=100;X-TITLE=Playa de Puerto Nao
 s:geo:28.587524,-17.910531
END:VEVENT
END:VCALENDAR