BEGIN:VCALENDAR
VERSION:2.0
PRODID:-//wp-events-plugin.com//7.2.3.1//EN
TZID:Europe/London
X-WR-TIMEZONE:Europe/London
BEGIN:VEVENT
UID:3887@larevistadelapalma.com
DTSTART:20250725T190000Z
DTEND:20250725T224500Z
DTSTAMP:20250722T121634Z
URL:https://www.larevistadelapalma.com/events/viernes-ocean-drive-2/
SUMMARY:Viernes en el Ocean Drive: Grajasound\, Elvira y DJ Chaga
DESCRIPTION:Viernes del verano en Puerto Naos.\nEste viernes 25 desde las 2
 0:00h\, en el Kiosco Ocean Drive\, te esperan Grajasound y Elvira con Dj C
 haga\, que nos visitará desde Tenerife Dj Chaga\, un clásico se los vera
 nos en Puerto Naos.\n\n&nbsp\;
ATTACH;FMTTYPE=image/jpeg:https://www.larevistadelapalma.com/wp-content/up
 loads/2025/07/Ocean-Drive-25.jpg
CATEGORIES:Festivales/Fiestas,Música
LOCATION:Playa de Puerto Naos\, Puerto Naos\, Los Llanos de Aridane \, 3876
 9\, España
GEO:28.587524;-17.910531
X-APPLE-STRUCTURED-LOCATION;VALUE=URI;X-ADDRESS=Puerto Naos\, Los Llanos de
  Aridane \, 38769\, España;X-APPLE-RADIUS=100;X-TITLE=Playa de Puerto Nao
 s:geo:28.587524,-17.910531
END:VEVENT
END:VCALENDARBEGIN:VCALENDAR
VERSION:2.0
PRODID:-//wp-events-plugin.com//7.2.3.1//EN
TZID:Europe/London
X-WR-TIMEZONE:Europe/London
BEGIN:VEVENT
UID:3887@larevistadelapalma.com
DTSTART:20250725T190000Z
DTEND:20250725T224500Z
DTSTAMP:20250722T121634Z
URL:https://www.larevistadelapalma.com/events/viernes-ocean-drive-2/
SUMMARY:Viernes en el Ocean Drive: Grajasound\, Elvira y DJ Chaga
DESCRIPTION:Viernes del verano en Puerto Naos.\nEste viernes 25 desde las 2
 0:00h\, en el Kiosco Ocean Drive\, te esperan Grajasound y Elvira con Dj C
 haga\, que nos visitará desde Tenerife Dj Chaga\, un clásico se los vera
 nos en Puerto Naos.\n\n&nbsp\;
ATTACH;FMTTYPE=image/jpeg:https://www.larevistadelapalma.com/wp-content/up
 loads/2025/07/Ocean-Drive-25.jpg
CATEGORIES:Festivales/Fiestas,Música
LOCATION:Playa de Puerto Naos\, Puerto Naos\, Los Llanos de Aridane \, 3876
 9\, España
GEO:28.587524;-17.910531
X-APPLE-STRUCTURED-LOCATION;VALUE=URI;X-ADDRESS=Puerto Naos\, Los Llanos de
  Aridane \, 38769\, España;X-APPLE-RADIUS=100;X-TITLE=Playa de Puerto Nao
 s:geo:28.587524,-17.910531
END:VEVENT
END:VCALENDAR