BEGIN:VCALENDAR
VERSION:2.0
PRODID:-//wp-events-plugin.com//7.2.3.1//EN
TZID:Europe/London
X-WR-TIMEZONE:Europe/London
BEGIN:VEVENT
UID:4552@larevistadelapalma.com
DTSTART:20260321T190000Z
DTEND:20260321T225900Z
DTSTAMP:20260318T121841Z
URL:https://www.larevistadelapalma.com/events/vinileras-de-canarias-los-ll
 anos-de-aridane/
SUMMARY:APLAZADO - "Vinileras de Canarias". Los Llanos de Aridane
DESCRIPTION:\n 	\n\nEvento aplazado debido al fenómeno meteorológico adve
 rso declarado en el archipiélago. Pronto anunciarán nueva fecha.\n\n\nSe
  acercan tres citas con las brujas de los vinilos. Tres quedadas que ya ti
 enen preparadas las chicas de Pimienta Selectoras. La primera de ellas ser
 á "Vinileras de Canarias"\, el próximo 21 de marzo en la Plaza de Españ
 a de Los Llanos de Aridane.\n\nLe seguirán el "Festival Akelarre" y "Chic
 a Party" en el mes de abril.\n\nINVITADAS A "VINILERAS DE CANARIAS":\n\n 	
 SARINI SELECTORA @sarinivamp – Gran Canaria.\n 	 THE QUEEN OF BASS @th
 equeenofbassdnb – Tenerife.\n 	 VICKY MORALES @ladywmorales – Tenerif
 e.\n 	 MONTERREINA @monterreina – La Palma\n\n&nbsp\;
ATTACH;FMTTYPE=image/jpeg:https://www.larevistadelapalma.com/wp-content/up
 loads/2026/03/3-21-VINILERAS-CANARIAS.jpg
CATEGORIES:Festivales/Fiestas,Música
LOCATION:Plaza de España en Los Llanos de Aridane\, Plaza de España\, Los
  Llanos de Aridane\, 38760\, España
GEO:28.658934;-17.913174
X-APPLE-STRUCTURED-LOCATION;VALUE=URI;X-ADDRESS=Plaza de España\, Los Llan
 os de Aridane\, 38760\, España;X-APPLE-RADIUS=100;X-TITLE=Plaza de Españ
 a en Los Llanos de Aridane:geo:28.658934,-17.913174
END:VEVENT
END:VCALENDARBEGIN:VCALENDAR
VERSION:2.0
PRODID:-//wp-events-plugin.com//7.2.3.1//EN
TZID:Europe/London
X-WR-TIMEZONE:Europe/London
BEGIN:VEVENT
UID:4552@larevistadelapalma.com
DTSTART:20260321T190000Z
DTEND:20260321T225900Z
DTSTAMP:20260318T121841Z
URL:https://www.larevistadelapalma.com/events/vinileras-de-canarias-los-ll
 anos-de-aridane/
SUMMARY:APLAZADO - "Vinileras de Canarias". Los Llanos de Aridane
DESCRIPTION:\n 	\n\nEvento aplazado debido al fenómeno meteorológico adve
 rso declarado en el archipiélago. Pronto anunciarán nueva fecha.\n\n\nSe
  acercan tres citas con las brujas de los vinilos. Tres quedadas que ya ti
 enen preparadas las chicas de Pimienta Selectoras. La primera de ellas ser
 á "Vinileras de Canarias"\, el próximo 21 de marzo en la Plaza de Españ
 a de Los Llanos de Aridane.\n\nLe seguirán el "Festival Akelarre" y "Chic
 a Party" en el mes de abril.\n\nINVITADAS A "VINILERAS DE CANARIAS":\n\n 	
 SARINI SELECTORA @sarinivamp – Gran Canaria.\n 	 THE QUEEN OF BASS @th
 equeenofbassdnb – Tenerife.\n 	 VICKY MORALES @ladywmorales – Tenerif
 e.\n 	 MONTERREINA @monterreina – La Palma\n\n&nbsp\;
ATTACH;FMTTYPE=image/jpeg:https://www.larevistadelapalma.com/wp-content/up
 loads/2026/03/3-21-VINILERAS-CANARIAS.jpg
CATEGORIES:Festivales/Fiestas,Música
LOCATION:Plaza de España en Los Llanos de Aridane\, Plaza de España\, Los
  Llanos de Aridane\, 38760\, España
GEO:28.658934;-17.913174
X-APPLE-STRUCTURED-LOCATION;VALUE=URI;X-ADDRESS=Plaza de España\, Los Llan
 os de Aridane\, 38760\, España;X-APPLE-RADIUS=100;X-TITLE=Plaza de Españ
 a en Los Llanos de Aridane:geo:28.658934,-17.913174
END:VEVENT
END:VCALENDAR