BEGIN:VCALENDAR
VERSION:2.0
PRODID:-//wp-events-plugin.com//7.2.3.1//EN
TZID:Europe/London
X-WR-TIMEZONE:Europe/London
BEGIN:VEVENT
UID:3626@larevistadelapalma.com
DTSTART:20250315T190000Z
DTEND:20250315T225900Z
DTSTAMP:20250227T232744Z
URL:https://www.larevistadelapalma.com/events/vinileras-de-la-palma/
SUMMARY:Vinileras de La Palma
DESCRIPTION:Érase que se eran cuatro brujas del vinilo. Unas ya estaban aq
 uí\, otras vinieron de fuera\, pero su fortaleza se llama La Palma\, su d
 iscoteca de nubes y estrellas.\nLas cuatro Djs\, selectoras y coleccionist
 as de vinilos de la isla de La Palma por fin se han unido para pinchar jun
 tas. Discos de todos los colores girarán el 15 de Marzo de 20:00 – 01:0
 0 en la Plaza de España de Los Llanos de Aridane:\n\n\n 	DMC SELECTORA : 
 tropical beats\, electrónica.\n 	MONI LOFF : indie\, rock\, electrónica\
 , drum’n’bass.\n 	MONTERREINA : soul\, Funky\, afrobeat\, tropical mus
 ic.\n 	CALAMITY JANE : rock’n’roll\, soul\, Funky.\n\nVinileras de La
  Palma’ también contará con una zona gastronómica con cerveza\, cocte
 lería\, vinoteca y la comida japonesa con opción vegana y vegetariana de
  Tomo Sushi.\n\n
ATTACH;FMTTYPE=image/jpeg:https://www.larevistadelapalma.com/wp-content/up
 loads/2025/02/Vinileras-de-la-Palma.jpg
CATEGORIES:Festivales/Fiestas,Música
LOCATION:Plaza de España en Los Llanos de Aridane\, Plaza de España\, Los
  Llanos de Aridane\, 38760\, España
GEO:28.658934;-17.913174
X-APPLE-STRUCTURED-LOCATION;VALUE=URI;X-ADDRESS=Plaza de España\, Los Llan
 os de Aridane\, 38760\, España;X-APPLE-RADIUS=100;X-TITLE=Plaza de Españ
 a en Los Llanos de Aridane:geo:28.658934,-17.913174
END:VEVENT
END:VCALENDARBEGIN:VCALENDAR
VERSION:2.0
PRODID:-//wp-events-plugin.com//7.2.3.1//EN
TZID:Europe/London
X-WR-TIMEZONE:Europe/London
BEGIN:VEVENT
UID:3626@larevistadelapalma.com
DTSTART:20250315T190000Z
DTEND:20250315T225900Z
DTSTAMP:20250227T232744Z
URL:https://www.larevistadelapalma.com/events/vinileras-de-la-palma/
SUMMARY:Vinileras de La Palma
DESCRIPTION:Érase que se eran cuatro brujas del vinilo. Unas ya estaban aq
 uí\, otras vinieron de fuera\, pero su fortaleza se llama La Palma\, su d
 iscoteca de nubes y estrellas.\nLas cuatro Djs\, selectoras y coleccionist
 as de vinilos de la isla de La Palma por fin se han unido para pinchar jun
 tas. Discos de todos los colores girarán el 15 de Marzo de 20:00 – 01:0
 0 en la Plaza de España de Los Llanos de Aridane:\n\n\n 	DMC SELECTORA : 
 tropical beats\, electrónica.\n 	MONI LOFF : indie\, rock\, electrónica\
 , drum’n’bass.\n 	MONTERREINA : soul\, Funky\, afrobeat\, tropical mus
 ic.\n 	CALAMITY JANE : rock’n’roll\, soul\, Funky.\n\nVinileras de La
  Palma’ también contará con una zona gastronómica con cerveza\, cocte
 lería\, vinoteca y la comida japonesa con opción vegana y vegetariana de
  Tomo Sushi.\n\n
ATTACH;FMTTYPE=image/jpeg:https://www.larevistadelapalma.com/wp-content/up
 loads/2025/02/Vinileras-de-la-Palma.jpg
CATEGORIES:Festivales/Fiestas,Música
LOCATION:Plaza de España en Los Llanos de Aridane\, Plaza de España\, Los
  Llanos de Aridane\, 38760\, España
GEO:28.658934;-17.913174
X-APPLE-STRUCTURED-LOCATION;VALUE=URI;X-ADDRESS=Plaza de España\, Los Llan
 os de Aridane\, 38760\, España;X-APPLE-RADIUS=100;X-TITLE=Plaza de Españ
 a en Los Llanos de Aridane:geo:28.658934,-17.913174
END:VEVENT
END:VCALENDAR