BEGIN:VCALENDAR
VERSION:2.0
PRODID:-//wp-events-plugin.com//7.2.3.1//EN
TZID:Europe/London
X-WR-TIMEZONE:Europe/London
BEGIN:VEVENT
UID:3714@larevistadelapalma.com
DTSTART:20250426T130000Z
DTEND:20250426T163000Z
DTSTAMP:20250422T192916Z
URL:https://www.larevistadelapalma.com/events/vinos-con-vistas-puntallana/
SUMMARY:"Vinos con vistas"\, Puntallana
DESCRIPTION:Con acompañamiento de los vinilos de Monterreina\, Calamity Ja
 ne y la actuación de Zebensui Melián.
ATTACH;FMTTYPE=image/jpeg:https://www.larevistadelapalma.com/wp-content/up
 loads/2025/04/Vinos-con-vistas.jpg
CATEGORIES:Gastro,Otras propuestas
END:VEVENT
END:VCALENDARBEGIN:VCALENDAR
VERSION:2.0
PRODID:-//wp-events-plugin.com//7.2.3.1//EN
TZID:Europe/London
X-WR-TIMEZONE:Europe/London
BEGIN:VEVENT
UID:3714@larevistadelapalma.com
DTSTART:20250426T130000Z
DTEND:20250426T163000Z
DTSTAMP:20250422T192916Z
URL:https://www.larevistadelapalma.com/events/vinos-con-vistas-puntallana/
SUMMARY:"Vinos con vistas"\, Puntallana
DESCRIPTION:Con acompañamiento de los vinilos de Monterreina\, Calamity Ja
 ne y la actuación de Zebensui Melián.
ATTACH;FMTTYPE=image/jpeg:https://www.larevistadelapalma.com/wp-content/up
 loads/2025/04/Vinos-con-vistas.jpg
CATEGORIES:Gastro,Otras propuestas
END:VEVENT
END:VCALENDAR