BEGIN:VCALENDAR
VERSION:2.0
PRODID:-//wp-events-plugin.com//7.2.3.1//EN
TZID:Europe/London
X-WR-TIMEZONE:Europe/London
BEGIN:VEVENT
UID:3994@larevistadelapalma.com
DTSTART:20251205T170000Z
DTEND:20251205T224500Z
DTSTAMP:20251204T041832Z
URL:https://www.larevistadelapalma.com/events/vinos-y-tapas-por-navidad-20
 25-puntallana/
SUMMARY:''Vinos y tapas por Navidad 2025"- Puntallana
DESCRIPTION:\nUn evento que combina el mercadillo navideño con una feria g
 astronómica y actuaciones musicales.\nEl Ayuntamiento de Puntallana celeb
 rará este viernes 5 de diciembre el Encendido Navideño\, que estará aco
 mpañado por una nueva edición de Vinos y Tapas y el Mercadillo Navideño
 .\n\n\n\nEste año\, 17 establecimientos del municipio y la isla participa
 rán en Vinos y Tapas\, ofreciendo propuestas gastronómicas especiales pa
 ra la ocasión. El Mercadillo Navideño reunirá cerca de una quincena de 
 puestos de artesanía\, productos locales y regalos\, ideal para adelantar
  las compras navideñas y apoyar a nuestros artesanos.\nLa jornada estará
  acompañada de una variada programación musical y de animación. Actuar
 án Charanga La Guataca\, Leonardo Lires\, Orquesta Cañaveral\, Ni Un Pel
 o de Tonto y DJ Manega\, garantizando música y diversión para todas las 
 edades. Además\, habrá atracciones hinchables para los más pequeños\, 
 animación y una plataforma 360 para inmortalizar la noche.\n\n
ATTACH;FMTTYPE=image/jpeg:https://www.larevistadelapalma.com/wp-content/up
 loads/2025/10/Vinos-y-tapas-PUntallana.jpg
CATEGORIES:Ferias y mercados,Gastro,Otras propuestas,Varios
LOCATION:Plaza de San Juan en Puntallna\, Calle Constitución\, s/n\, Punta
 llana\, 38715\, España
GEO:28.739777;-17.745493
X-APPLE-STRUCTURED-LOCATION;VALUE=URI;X-ADDRESS=Calle Constitución\, s/n\,
  Puntallana\, 38715\, España;X-APPLE-RADIUS=100;X-TITLE=Plaza de San Juan
  en Puntallna:geo:28.739777,-17.745493
END:VEVENT
END:VCALENDARBEGIN:VCALENDAR
VERSION:2.0
PRODID:-//wp-events-plugin.com//7.2.3.1//EN
TZID:Europe/London
X-WR-TIMEZONE:Europe/London
BEGIN:VEVENT
UID:3994@larevistadelapalma.com
DTSTART:20251205T170000Z
DTEND:20251205T224500Z
DTSTAMP:20251204T041832Z
URL:https://www.larevistadelapalma.com/events/vinos-y-tapas-por-navidad-20
 25-puntallana/
SUMMARY:''Vinos y tapas por Navidad 2025"- Puntallana
DESCRIPTION:\nUn evento que combina el mercadillo navideño con una feria g
 astronómica y actuaciones musicales.\nEl Ayuntamiento de Puntallana celeb
 rará este viernes 5 de diciembre el Encendido Navideño\, que estará aco
 mpañado por una nueva edición de Vinos y Tapas y el Mercadillo Navideño
 .\n\n\n\nEste año\, 17 establecimientos del municipio y la isla participa
 rán en Vinos y Tapas\, ofreciendo propuestas gastronómicas especiales pa
 ra la ocasión. El Mercadillo Navideño reunirá cerca de una quincena de 
 puestos de artesanía\, productos locales y regalos\, ideal para adelantar
  las compras navideñas y apoyar a nuestros artesanos.\nLa jornada estará
  acompañada de una variada programación musical y de animación. Actuar
 án Charanga La Guataca\, Leonardo Lires\, Orquesta Cañaveral\, Ni Un Pel
 o de Tonto y DJ Manega\, garantizando música y diversión para todas las 
 edades. Además\, habrá atracciones hinchables para los más pequeños\, 
 animación y una plataforma 360 para inmortalizar la noche.\n\n
ATTACH;FMTTYPE=image/jpeg:https://www.larevistadelapalma.com/wp-content/up
 loads/2025/10/Vinos-y-tapas-PUntallana.jpg
CATEGORIES:Ferias y mercados,Gastro,Otras propuestas,Varios
LOCATION:Plaza de San Juan en Puntallna\, Calle Constitución\, s/n\, Punta
 llana\, 38715\, España
GEO:28.739777;-17.745493
X-APPLE-STRUCTURED-LOCATION;VALUE=URI;X-ADDRESS=Calle Constitución\, s/n\,
  Puntallana\, 38715\, España;X-APPLE-RADIUS=100;X-TITLE=Plaza de San Juan
  en Puntallna:geo:28.739777,-17.745493
END:VEVENT
END:VCALENDAR