BEGIN:VCALENDAR
VERSION:2.0
PRODID:-//wp-events-plugin.com//7.2.3.1//EN
TZID:Europe/London
X-WR-TIMEZONE:Europe/London
BEGIN:VEVENT
UID:3725@larevistadelapalma.com
DTSTART:20250621T170000Z
DTEND:20250621T225900Z
DTSTAMP:20250618T024311Z
URL:https://www.larevistadelapalma.com/events/vinos-y-tapas-por-san-juan-2
 025/
SUMMARY:Vinos y tapas por San Juan 2025
DESCRIPTION:Tercera edición de este encuentro bodeguero que se celebra en 
 Puntallana. \n\nContarán con la música de Zebensui Melián\, Parchita C
 olorá\, Los Salvapantallas y Pureta's Party.
ATTACH;FMTTYPE=image/jpeg:https://www.larevistadelapalma.com/wp-content/up
 loads/2025/04/vinos-y-tapas-san-juan.jpg
CATEGORIES:Gastro,Otras propuestas,Varios
LOCATION:Plaza de San Juan en Puntallna\, Calle Constitución\, s/n\, Punta
 llana\, 38715\, España
GEO:28.739777;-17.745493
X-APPLE-STRUCTURED-LOCATION;VALUE=URI;X-ADDRESS=Calle Constitución\, s/n\,
  Puntallana\, 38715\, España;X-APPLE-RADIUS=100;X-TITLE=Plaza de San Juan
  en Puntallna:geo:28.739777,-17.745493
END:VEVENT
END:VCALENDARBEGIN:VCALENDAR
VERSION:2.0
PRODID:-//wp-events-plugin.com//7.2.3.1//EN
TZID:Europe/London
X-WR-TIMEZONE:Europe/London
BEGIN:VEVENT
UID:3725@larevistadelapalma.com
DTSTART:20250621T170000Z
DTEND:20250621T225900Z
DTSTAMP:20250618T024311Z
URL:https://www.larevistadelapalma.com/events/vinos-y-tapas-por-san-juan-2
 025/
SUMMARY:Vinos y tapas por San Juan 2025
DESCRIPTION:Tercera edición de este encuentro bodeguero que se celebra en 
 Puntallana. \n\nContarán con la música de Zebensui Melián\, Parchita C
 olorá\, Los Salvapantallas y Pureta's Party.
ATTACH;FMTTYPE=image/jpeg:https://www.larevistadelapalma.com/wp-content/up
 loads/2025/04/vinos-y-tapas-san-juan.jpg
CATEGORIES:Gastro,Otras propuestas,Varios
LOCATION:Plaza de San Juan en Puntallna\, Calle Constitución\, s/n\, Punta
 llana\, 38715\, España
GEO:28.739777;-17.745493
X-APPLE-STRUCTURED-LOCATION;VALUE=URI;X-ADDRESS=Calle Constitución\, s/n\,
  Puntallana\, 38715\, España;X-APPLE-RADIUS=100;X-TITLE=Plaza de San Juan
  en Puntallna:geo:28.739777,-17.745493
END:VEVENT
END:VCALENDAR