BEGIN:VCALENDAR
VERSION:2.0
PRODID:-//wp-events-plugin.com//7.2.3.1//EN
TZID:Europe/London
X-WR-TIMEZONE:Europe/London
BEGIN:VEVENT
UID:812@larevistadelapalma.com
DTSTART:20231111T090000Z
DTEND:20231111T130000Z
DTSTAMP:20231106T174852Z
URL:https://www.larevistadelapalma.com/events/vive-tu-mercado-vive-tu-ciud
 ad/
SUMMARY:‘Vive tu mercado\, vive tu ciudad’\, La Recova
DESCRIPTION:‘Vive tu mercado\, vive tu ciudad’\, un programa de dinamiz
 ación presentado por la FEMECA (Federación de Mercados de Canarias)\, qu
 e tendrá lugar el próximo sábado\, 11 de noviembre\, en La Recova de Sa
 nta Cruz de La Palma.\n\nEl programa de actividades es el siguiente:\n\n10
 :00 h: Raff Music (música en directo)\n\n\n10:30 h: Showcooking con la ch
 ef Isabel Alonso\n11:30 h: Enrique Barrios (música en directo)\n\n\n12:00
  h: Presentación homenaje a La Recova\n12:30 h: Concierto en el exterior 
 del Mercado\, con el Grupo Sabanda (grupo de música canaria y latinoameri
 cana)\n13:30 h: Degustación de productos típicos
ATTACH;FMTTYPE=image/jpeg:https://www.larevistadelapalma.com/wp-content/up
 loads/2023/11/La-recova-Santa-Cruz.jpg
CATEGORIES:Ferias y mercados,Otras propuestas
LOCATION:Municipio de Santa Cruz de La Palma\, Santa Cruz de La Palma \, Sa
 nta Cruz de La Palma \, 38700\, España
GEO:28.688757;-17.765102
X-APPLE-STRUCTURED-LOCATION;VALUE=URI;X-ADDRESS=Santa Cruz de La Palma \, S
 anta Cruz de La Palma \, 38700\, España;X-APPLE-RADIUS=100;X-TITLE=Munici
 pio de Santa Cruz de La Palma:geo:28.688757,-17.765102
END:VEVENT
END:VCALENDARBEGIN:VCALENDAR
VERSION:2.0
PRODID:-//wp-events-plugin.com//7.2.3.1//EN
TZID:Europe/London
X-WR-TIMEZONE:Europe/London
BEGIN:VEVENT
UID:812@larevistadelapalma.com
DTSTART:20231111T090000Z
DTEND:20231111T130000Z
DTSTAMP:20231106T174852Z
URL:https://www.larevistadelapalma.com/events/vive-tu-mercado-vive-tu-ciud
 ad/
SUMMARY:‘Vive tu mercado\, vive tu ciudad’\, La Recova
DESCRIPTION:‘Vive tu mercado\, vive tu ciudad’\, un programa de dinamiz
 ación presentado por la FEMECA (Federación de Mercados de Canarias)\, qu
 e tendrá lugar el próximo sábado\, 11 de noviembre\, en La Recova de Sa
 nta Cruz de La Palma.\n\nEl programa de actividades es el siguiente:\n\n10
 :00 h: Raff Music (música en directo)\n\n\n10:30 h: Showcooking con la ch
 ef Isabel Alonso\n11:30 h: Enrique Barrios (música en directo)\n\n\n12:00
  h: Presentación homenaje a La Recova\n12:30 h: Concierto en el exterior 
 del Mercado\, con el Grupo Sabanda (grupo de música canaria y latinoameri
 cana)\n13:30 h: Degustación de productos típicos
ATTACH;FMTTYPE=image/jpeg:https://www.larevistadelapalma.com/wp-content/up
 loads/2023/11/La-recova-Santa-Cruz.jpg
CATEGORIES:Ferias y mercados,Otras propuestas
LOCATION:Municipio de Santa Cruz de La Palma\, Santa Cruz de La Palma \, Sa
 nta Cruz de La Palma \, 38700\, España
GEO:28.688757;-17.765102
X-APPLE-STRUCTURED-LOCATION;VALUE=URI;X-ADDRESS=Santa Cruz de La Palma \, S
 anta Cruz de La Palma \, 38700\, España;X-APPLE-RADIUS=100;X-TITLE=Munici
 pio de Santa Cruz de La Palma:geo:28.688757,-17.765102
END:VEVENT
END:VCALENDAR