BEGIN:VCALENDAR
VERSION:2.0
PRODID:-//wp-events-plugin.com//7.2.3.1//EN
TZID:Europe/London
X-WR-TIMEZONE:Europe/London
BEGIN:VEVENT
UID:3865@larevistadelapalma.com
DTSTART;VALUE=DATE:20250714
DTEND;VALUE=DATE:20250801
DTSTAMP:20250707T003607Z
URL:https://www.larevistadelapalma.com/events/voley-playa-en-la-playa-de-l
 os-cancajos/
SUMMARY:Voley Playa en la Playa de Los Cancajos
DESCRIPTION:\nDurante el mes de julio se celebran varias actividades relaci
 onadas con el Voley Playa en la Playa de Los Cancajos\, que organizan el A
 yuntamiento de Breña Baja\, coordina Fitters Eventos Deportivos y colabor
 an el Club de Voleibol “Auarita Viva” de Breña Baja\, entre otros col
 aboradores.\nUna actividad enmarcada dentro del programa “Sport &amp\; S
 ummer Los Cancajos 2025”. Y presente cada verano en la playa desde el a
 ño 1996.\n\n\n- Del 14 al 31 de julio\, Jornadas de Promoción.\n- 18 y 1
 9 de julio de julio\, XXVIII Torneo de Voley Playa “Breña Baja Mágica
 ” / Open Voley Playa Isla de La Palma en categorías masculina y femenin
 a.\n- 25 y 26 de julio\, XXVIII Torneo de Voley Playa “Breña Baja Mági
 ca” / Open Voley Playa Isla de La Palma\, en categoría mixta.\n\nPara m
 ayor información e inscripciones contactar a los teléfonos: 637 96 96 72
  / 699 72 29 56.\n\n
ATTACH;FMTTYPE=image/jpeg:https://www.larevistadelapalma.com/wp-content/up
 loads/2025/07/Voley-Playa-Brena-Baja.jpg
CATEGORIES:Actividades deportivas,Otras propuestas
LOCATION:Barrio- Los Cancajos\, Los Cancajos\, Breña Baja\, España
GEO:28.646962;-17.759167
X-APPLE-STRUCTURED-LOCATION;VALUE=URI;X-ADDRESS=Los Cancajos\, Breña Baja\
 , España;X-APPLE-RADIUS=100;X-TITLE=Barrio- Los Cancajos:geo:28.646962,-1
 7.759167
END:VEVENT
END:VCALENDARBEGIN:VCALENDAR
VERSION:2.0
PRODID:-//wp-events-plugin.com//7.2.3.1//EN
TZID:Europe/London
X-WR-TIMEZONE:Europe/London
BEGIN:VEVENT
UID:3865@larevistadelapalma.com
DTSTART;VALUE=DATE:20250714
DTEND;VALUE=DATE:20250801
DTSTAMP:20250707T003607Z
URL:https://www.larevistadelapalma.com/events/voley-playa-en-la-playa-de-l
 os-cancajos/
SUMMARY:Voley Playa en la Playa de Los Cancajos
DESCRIPTION:\nDurante el mes de julio se celebran varias actividades relaci
 onadas con el Voley Playa en la Playa de Los Cancajos\, que organizan el A
 yuntamiento de Breña Baja\, coordina Fitters Eventos Deportivos y colabor
 an el Club de Voleibol “Auarita Viva” de Breña Baja\, entre otros col
 aboradores.\nUna actividad enmarcada dentro del programa “Sport &amp\; S
 ummer Los Cancajos 2025”. Y presente cada verano en la playa desde el a
 ño 1996.\n\n\n- Del 14 al 31 de julio\, Jornadas de Promoción.\n- 18 y 1
 9 de julio de julio\, XXVIII Torneo de Voley Playa “Breña Baja Mágica
 ” / Open Voley Playa Isla de La Palma en categorías masculina y femenin
 a.\n- 25 y 26 de julio\, XXVIII Torneo de Voley Playa “Breña Baja Mági
 ca” / Open Voley Playa Isla de La Palma\, en categoría mixta.\n\nPara m
 ayor información e inscripciones contactar a los teléfonos: 637 96 96 72
  / 699 72 29 56.\n\n
ATTACH;FMTTYPE=image/jpeg:https://www.larevistadelapalma.com/wp-content/up
 loads/2025/07/Voley-Playa-Brena-Baja.jpg
CATEGORIES:Actividades deportivas,Otras propuestas
LOCATION:Barrio- Los Cancajos\, Los Cancajos\, Breña Baja\, España
GEO:28.646962;-17.759167
X-APPLE-STRUCTURED-LOCATION;VALUE=URI;X-ADDRESS=Los Cancajos\, Breña Baja\
 , España;X-APPLE-RADIUS=100;X-TITLE=Barrio- Los Cancajos:geo:28.646962,-1
 7.759167
END:VEVENT
END:VCALENDAR