BEGIN:VCALENDAR
VERSION:2.0
PRODID:-//wp-events-plugin.com//7.2.3.1//EN
TZID:Europe/London
X-WR-TIMEZONE:Europe/London
BEGIN:VEVENT
UID:4104@larevistadelapalma.com
DTSTART:20251219T193000Z
DTEND:20251219T210000Z
DTSTAMP:20251217T234350Z
URL:https://www.larevistadelapalma.com/events/volney-morgan-new-ye-en-la-p
 alma/
SUMMARY:Volney Morgan & New-Ye en La Palma
DESCRIPTION:Un concierto incluido en la programación del 20ª edición\, d
 el Gospel Canarias Fest. Con más de dieciséis años de trayectoria\, Vo
 lney Morgan & New-Ye se han consolidado como una de las formaciones más 
 innovadoras y reconocidas del gospel británico contemporáneo.
ATTACH;FMTTYPE=image/jpeg:https://www.larevistadelapalma.com/wp-content/up
 loads/2025/12/Volney-MOrgan-and-New-Ye.webp
CATEGORIES:Conciertos,Música
LOCATION:Teatro Circo de Marte\, Calle Virgen de La Luz\, 5\, Santa Cruz de
  La Palma\, 38700\, España
GEO:28.682989;-17.765755
X-APPLE-STRUCTURED-LOCATION;VALUE=URI;X-ADDRESS=Calle Virgen de La Luz\, 5\
 , Santa Cruz de La Palma\, 38700\, España;X-APPLE-RADIUS=100;X-TITLE=Teat
 ro Circo de Marte:geo:28.682989,-17.765755
END:VEVENT
END:VCALENDARBEGIN:VCALENDAR
VERSION:2.0
PRODID:-//wp-events-plugin.com//7.2.3.1//EN
TZID:Europe/London
X-WR-TIMEZONE:Europe/London
BEGIN:VEVENT
UID:4104@larevistadelapalma.com
DTSTART:20251219T193000Z
DTEND:20251219T210000Z
DTSTAMP:20251217T234350Z
URL:https://www.larevistadelapalma.com/events/volney-morgan-new-ye-en-la-p
 alma/
SUMMARY:Volney Morgan & New-Ye en La Palma
DESCRIPTION:Un concierto incluido en la programación del 20ª edición\, d
 el Gospel Canarias Fest. Con más de dieciséis años de trayectoria\, Vo
 lney Morgan & New-Ye se han consolidado como una de las formaciones más 
 innovadoras y reconocidas del gospel británico contemporáneo.
ATTACH;FMTTYPE=image/jpeg:https://www.larevistadelapalma.com/wp-content/up
 loads/2025/12/Volney-MOrgan-and-New-Ye.webp
CATEGORIES:Conciertos,Música
LOCATION:Teatro Circo de Marte\, Calle Virgen de La Luz\, 5\, Santa Cruz de
  La Palma\, 38700\, España
GEO:28.682989;-17.765755
X-APPLE-STRUCTURED-LOCATION;VALUE=URI;X-ADDRESS=Calle Virgen de La Luz\, 5\
 , Santa Cruz de La Palma\, 38700\, España;X-APPLE-RADIUS=100;X-TITLE=Teat
 ro Circo de Marte:geo:28.682989,-17.765755
END:VEVENT
END:VCALENDAR