BEGIN:VCALENDAR
VERSION:2.0
PRODID:-//wp-events-plugin.com//7.2.3.1//EN
TZID:Europe/London
X-WR-TIMEZONE:Europe/London
BEGIN:VEVENT
UID:3323@larevistadelapalma.com
DTSTART:20241017T200000Z
DTEND:20241017T213000Z
DTSTAMP:20241014T174702Z
URL:https://www.larevistadelapalma.com/events/vuelve-el-festival-de-la-son
 risa-a-la-plaza-san-francisco/
SUMMARY:Vuelve el ‘Festival de la Sonrisa’ a la plaza San Francisco
DESCRIPTION:\n\n\n\nEl próximo 17 de octubre a partir de las 21:00 horas p
 odrán disfrutar de una noche de humor. El humorista Jesús Farráis ser
 á el invitado en esta ocasión.\n\n\n\nEl acceso es libre y gratuito.\n\n
ATTACH;FMTTYPE=image/jpeg:https://www.larevistadelapalma.com/wp-content/up
 loads/2024/10/Jesus-Farrais-santa-cruz.jpg
CATEGORIES:Espectáculos
LOCATION:Plaza de San Francisco\, Plaza de San Francisco \, Santa Cruz De L
 a Palma\, Santa Cruz de Tenerife\, 38700\, España
GEO:28.683698;-17.767894
X-APPLE-STRUCTURED-LOCATION;VALUE=URI;X-ADDRESS=Plaza de San Francisco \, S
 anta Cruz De La Palma\, Santa Cruz de Tenerife\, 38700\, España;X-APPLE-R
 ADIUS=100;X-TITLE=Plaza de San Francisco:geo:28.683698,-17.767894
END:VEVENT
END:VCALENDARBEGIN:VCALENDAR
VERSION:2.0
PRODID:-//wp-events-plugin.com//7.2.3.1//EN
TZID:Europe/London
X-WR-TIMEZONE:Europe/London
BEGIN:VEVENT
UID:3323@larevistadelapalma.com
DTSTART:20241017T200000Z
DTEND:20241017T213000Z
DTSTAMP:20241014T174702Z
URL:https://www.larevistadelapalma.com/events/vuelve-el-festival-de-la-son
 risa-a-la-plaza-san-francisco/
SUMMARY:Vuelve el ‘Festival de la Sonrisa’ a la plaza San Francisco
DESCRIPTION:\n\n\n\nEl próximo 17 de octubre a partir de las 21:00 horas p
 odrán disfrutar de una noche de humor. El humorista Jesús Farráis ser
 á el invitado en esta ocasión.\n\n\n\nEl acceso es libre y gratuito.\n\n
ATTACH;FMTTYPE=image/jpeg:https://www.larevistadelapalma.com/wp-content/up
 loads/2024/10/Jesus-Farrais-santa-cruz.jpg
CATEGORIES:Espectáculos
LOCATION:Plaza de San Francisco\, Plaza de San Francisco \, Santa Cruz De L
 a Palma\, Santa Cruz de Tenerife\, 38700\, España
GEO:28.683698;-17.767894
X-APPLE-STRUCTURED-LOCATION;VALUE=URI;X-ADDRESS=Plaza de San Francisco \, S
 anta Cruz De La Palma\, Santa Cruz de Tenerife\, 38700\, España;X-APPLE-R
 ADIUS=100;X-TITLE=Plaza de San Francisco:geo:28.683698,-17.767894
END:VEVENT
END:VCALENDAR