BEGIN:VCALENDAR
VERSION:2.0
PRODID:-//wp-events-plugin.com//7.2.3.1//EN
TZID:Europe/London
X-WR-TIMEZONE:Europe/London
BEGIN:VEVENT
UID:3432@larevistadelapalma.com
DTSTART;VALUE=DATE:20241220
DTEND;VALUE=DATE:20241223
DTSTAMP:20241221T143257Z
URL:https://www.larevistadelapalma.com/events/vuelve-el-mercado-de-navidad
 -de-el-paso/
SUMMARY:Vuelve el Mercado de Navidad de El Paso
DESCRIPTION:20\, 21 y 22 de diciembre.\nEste año\, Vilaví Eventos vuelve 
 con su tradicional mercado navideño. El mercado\, que durante años se re
 alizó en el antiguo Teatro Monterrey\, del municipio de El Paso\, este a
 ño se celebrará en la Calle Manuel Taño.\n\nContará con talleres para 
 niños y adultos\, en los que puedes inscribirte en el correo mercadodenav
 idadelpaso@gmail.com\n\nEn la mañana del sábado el Ayuntamiento ha decid
 ido\, ante las inclemencias meteorológicas\, y finalmente ha decido conti
 nuar la programación\, retrasando la apertura a las 13:00 h. A las 13:30 
 h vino  y chocolate para combatir la brisa\, y a las 14:30 h siguen la pr
 ogramación con el Encuentro de Parrandas. Además de la Feria de vinos\, 
 que cuenta con las bodegas Veganorte\, Aceró y también con coctelería.\
 n\n\n\n&nbsp\;\nCalle Manuel Taño.\nPróximamente  mas información...
ATTACH;FMTTYPE=image/jpeg:https://www.larevistadelapalma.com/wp-content/up
 loads/2024/11/Mercado-de-Navidad-El-Paso.jpg
CATEGORIES:Ferias y mercados,Fiestas populares,Otras propuestas
LOCATION:Municipio de El Paso\, El Paso\, La Palma \, El Paso\, 38750\, Esp
 aña
GEO:28.652378;-17.880396
X-APPLE-STRUCTURED-LOCATION;VALUE=URI;X-ADDRESS=El Paso\, La Palma \, El Pa
 so\, 38750\, España;X-APPLE-RADIUS=100;X-TITLE=Municipio de El Paso:geo:2
 8.652378,-17.880396
END:VEVENT
END:VCALENDARBEGIN:VCALENDAR
VERSION:2.0
PRODID:-//wp-events-plugin.com//7.2.3.1//EN
TZID:Europe/London
X-WR-TIMEZONE:Europe/London
BEGIN:VEVENT
UID:3432@larevistadelapalma.com
DTSTART;VALUE=DATE:20241220
DTEND;VALUE=DATE:20241223
DTSTAMP:20241221T143257Z
URL:https://www.larevistadelapalma.com/events/vuelve-el-mercado-de-navidad
 -de-el-paso/
SUMMARY:Vuelve el Mercado de Navidad de El Paso
DESCRIPTION:20\, 21 y 22 de diciembre.\nEste año\, Vilaví Eventos vuelve 
 con su tradicional mercado navideño. El mercado\, que durante años se re
 alizó en el antiguo Teatro Monterrey\, del municipio de El Paso\, este a
 ño se celebrará en la Calle Manuel Taño.\n\nContará con talleres para 
 niños y adultos\, en los que puedes inscribirte en el correo mercadodenav
 idadelpaso@gmail.com\n\nEn la mañana del sábado el Ayuntamiento ha decid
 ido\, ante las inclemencias meteorológicas\, y finalmente ha decido conti
 nuar la programación\, retrasando la apertura a las 13:00 h. A las 13:30 
 h vino  y chocolate para combatir la brisa\, y a las 14:30 h siguen la pr
 ogramación con el Encuentro de Parrandas. Además de la Feria de vinos\, 
 que cuenta con las bodegas Veganorte\, Aceró y también con coctelería.\
 n\n\n\n&nbsp\;\nCalle Manuel Taño.\nPróximamente  mas información...
ATTACH;FMTTYPE=image/jpeg:https://www.larevistadelapalma.com/wp-content/up
 loads/2024/11/Mercado-de-Navidad-El-Paso.jpg
CATEGORIES:Ferias y mercados,Fiestas populares,Otras propuestas
LOCATION:Municipio de El Paso\, El Paso\, La Palma \, El Paso\, 38750\, Esp
 aña
GEO:28.652378;-17.880396
X-APPLE-STRUCTURED-LOCATION;VALUE=URI;X-ADDRESS=El Paso\, La Palma \, El Pa
 so\, 38750\, España;X-APPLE-RADIUS=100;X-TITLE=Municipio de El Paso:geo:2
 8.652378,-17.880396
END:VEVENT
END:VCALENDAR