BEGIN:VCALENDAR
VERSION:2.0
PRODID:-//wp-events-plugin.com//7.2.3.1//EN
TZID:Europe/London
X-WR-TIMEZONE:Europe/London
BEGIN:VEVENT
UID:4112@larevistadelapalma.com
DTSTART;VALUE=DATE:20251215
DTEND;VALUE=DATE:20260106
DTSTAMP:20251216T180028Z
URL:https://www.larevistadelapalma.com/events/vuelve-el-real-market-a-los-
 llanos-de-aridane/
SUMMARY:Vuelve el Real Market a Los Llanos de Aridane
DESCRIPTION:\n\n\n\nEl Mercado de Arte de Los Llanos de Aridane llega nueva
 mente al Espacio Cultural Real21. Dibujo\, pintura\, fotografía… ¡Obr
 a original a precios accesibles!\n\n\n\n Horario:\n\n\n 	Lunes a viernes:
  10:00–13:00 / 17:00–20:00\n 	Sábados: 10:00–14:00\n\nEstan son obr
 as de algunos de los artistas que participan este año en la muestra.\n\nM
 ás info en Real Market Faceboook &gt\;&gt\;\n\n[caption id="attachment_11
 110" align="aligncenter" width="642"] ANDREA TRIGOS[/caption]\n\n&nbsp\;\n
 \n[caption id="attachment_11113" align="aligncenter" width="635"] LAURA FE
 RNÁNDEZ[/caption]\n\n&nbsp\;\n\n[caption id="attachment_11111" align="ali
 gncenter" width="636"] CARMEN RO[/caption]\n\n
ATTACH;FMTTYPE=image/jpeg:https://www.larevistadelapalma.com/wp-content/up
 loads/2025/12/rEAL-mARKET.jpg
CATEGORIES:Exposiciones,Ferias y mercados,Otras propuestas
LOCATION:Espacio Cultural Real 21\, Los Llanos de Aridane\, C. Real\, 21\,\
 , Los Llanos de Aridane\, 38760\, España
GEO:28.658619;-17.910989
X-APPLE-STRUCTURED-LOCATION;VALUE=URI;X-ADDRESS=C. Real\, 21\,\, Los Llanos
  de Aridane\, 38760\, España;X-APPLE-RADIUS=100;X-TITLE=Espacio Cultural 
 Real 21\, Los Llanos de Aridane:geo:28.658619,-17.910989
END:VEVENT
END:VCALENDARBEGIN:VCALENDAR
VERSION:2.0
PRODID:-//wp-events-plugin.com//7.2.3.1//EN
TZID:Europe/London
X-WR-TIMEZONE:Europe/London
BEGIN:VEVENT
UID:4112@larevistadelapalma.com
DTSTART;VALUE=DATE:20251215
DTEND;VALUE=DATE:20260106
DTSTAMP:20251216T180028Z
URL:https://www.larevistadelapalma.com/events/vuelve-el-real-market-a-los-
 llanos-de-aridane/
SUMMARY:Vuelve el Real Market a Los Llanos de Aridane
DESCRIPTION:\n\n\n\nEl Mercado de Arte de Los Llanos de Aridane llega nueva
 mente al Espacio Cultural Real21. Dibujo\, pintura\, fotografía… ¡Obr
 a original a precios accesibles!\n\n\n\n Horario:\n\n\n 	Lunes a viernes:
  10:00–13:00 / 17:00–20:00\n 	Sábados: 10:00–14:00\n\nEstan son obr
 as de algunos de los artistas que participan este año en la muestra.\n\nM
 ás info en Real Market Faceboook &gt\;&gt\;\n\n[caption id="attachment_11
 110" align="aligncenter" width="642"] ANDREA TRIGOS[/caption]\n\n&nbsp\;\n
 \n[caption id="attachment_11113" align="aligncenter" width="635"] LAURA FE
 RNÁNDEZ[/caption]\n\n&nbsp\;\n\n[caption id="attachment_11111" align="ali
 gncenter" width="636"] CARMEN RO[/caption]\n\n
ATTACH;FMTTYPE=image/jpeg:https://www.larevistadelapalma.com/wp-content/up
 loads/2025/12/rEAL-mARKET.jpg
CATEGORIES:Exposiciones,Ferias y mercados,Otras propuestas
LOCATION:Espacio Cultural Real 21\, Los Llanos de Aridane\, C. Real\, 21\,\
 , Los Llanos de Aridane\, 38760\, España
GEO:28.658619;-17.910989
X-APPLE-STRUCTURED-LOCATION;VALUE=URI;X-ADDRESS=C. Real\, 21\,\, Los Llanos
  de Aridane\, 38760\, España;X-APPLE-RADIUS=100;X-TITLE=Espacio Cultural 
 Real 21\, Los Llanos de Aridane:geo:28.658619,-17.910989
END:VEVENT
END:VCALENDAR