BEGIN:VCALENDAR
VERSION:2.0
PRODID:-//wp-events-plugin.com//7.2.3.1//EN
TZID:Europe/London
X-WR-TIMEZONE:Europe/London
BEGIN:VEVENT
UID:3107@larevistadelapalma.com
DTSTART:20240712T170000Z
DTEND:20240712T224500Z
DTSTAMP:20240708T200304Z
URL:https://www.larevistadelapalma.com/events/vuelven-las-sesiones-en-el-o
 cean-drive/
SUMMARY:Vuelven las sesiones en el Ocean Drive
DESCRIPTION:Nada menos que 4 años después (Covid y Volcán mediante) vuel
 ven la míticas fiestas del kiosco Ocean Drive\, ¿Cuando? este próximo v
 iernes día 12 desde las 18:00h\, allí estarán las Grajitas\, Elvira y c
 omo invitado especial les acompañará desde la isla de Tenerife Dj Chaga\
 , un clásico de los veranos en Puerto Naos.\n\nRecuerda ¡en cholas se vi
 ve mejor!
ATTACH;FMTTYPE=image/jpeg:https://www.larevistadelapalma.com/wp-content/up
 loads/2024/07/Grajasound-vuelta-al-Ocean-Drive.jpg
CATEGORIES:Conciertos,Música
LOCATION:Playa de Puerto Naos\, Puerto Naos\, Los Llanos de Aridane \, 3876
 9\, España
GEO:28.587524;-17.910531
X-APPLE-STRUCTURED-LOCATION;VALUE=URI;X-ADDRESS=Puerto Naos\, Los Llanos de
  Aridane \, 38769\, España;X-APPLE-RADIUS=100;X-TITLE=Playa de Puerto Nao
 s:geo:28.587524,-17.910531
END:VEVENT
END:VCALENDARBEGIN:VCALENDAR
VERSION:2.0
PRODID:-//wp-events-plugin.com//7.2.3.1//EN
TZID:Europe/London
X-WR-TIMEZONE:Europe/London
BEGIN:VEVENT
UID:3107@larevistadelapalma.com
DTSTART:20240712T170000Z
DTEND:20240712T224500Z
DTSTAMP:20240708T200304Z
URL:https://www.larevistadelapalma.com/events/vuelven-las-sesiones-en-el-o
 cean-drive/
SUMMARY:Vuelven las sesiones en el Ocean Drive
DESCRIPTION:Nada menos que 4 años después (Covid y Volcán mediante) vuel
 ven la míticas fiestas del kiosco Ocean Drive\, ¿Cuando? este próximo v
 iernes día 12 desde las 18:00h\, allí estarán las Grajitas\, Elvira y c
 omo invitado especial les acompañará desde la isla de Tenerife Dj Chaga\
 , un clásico de los veranos en Puerto Naos.\n\nRecuerda ¡en cholas se vi
 ve mejor!
ATTACH;FMTTYPE=image/jpeg:https://www.larevistadelapalma.com/wp-content/up
 loads/2024/07/Grajasound-vuelta-al-Ocean-Drive.jpg
CATEGORIES:Conciertos,Música
LOCATION:Playa de Puerto Naos\, Puerto Naos\, Los Llanos de Aridane \, 3876
 9\, España
GEO:28.587524;-17.910531
X-APPLE-STRUCTURED-LOCATION;VALUE=URI;X-ADDRESS=Puerto Naos\, Los Llanos de
  Aridane \, 38769\, España;X-APPLE-RADIUS=100;X-TITLE=Playa de Puerto Nao
 s:geo:28.587524,-17.910531
END:VEVENT
END:VCALENDAR